Workbook

Sheet MENSAL
C1: Cenários
C2: Cenários
C3: Base
C4: Benigno
C5: Benigno
C6: Projeção Macroneconômica 01/10/2026
C7: Realizado
E9: 1 | F9: 1 | G9: 1 | H9: 1 | I9: 1 | J9: 1 | K9: 1 | L9: 1 | M9: 1 | N9: 1 | O9: 1 | P9: 1 | R9: 1 | S9: 1 | T9: 1 | U9: 1 | V9: 1 | W9: 1 | X9: 1 | Y9: 1 | Z9: 1 | AA9: 1 | AB9: 1 | AC9: 1 | AE9: 1 | AF9: 1 | AG9: 1 | AH9: 1 | AI9: 1 | AJ9: 1 | AK9: 1 | AL9: 1 | AM9: 1 | AN9: 1 | AO9: 1 | AP9: 1 | AR9: 1 | AS9: 1 | AT9: 1 | AU9: 1 | AV9: 1 | AW9: 1 | AX9: 1 | AY9: 1 | AZ9: 1 | BA9: 1 | BB9: 1 | BC9: 1 | BE9: 1 | BF9: 1 | BG9: 1 | BH9: 1 | BI9: 1 | BJ9: 1 | BK9: 1 | BL9: 1 | BM9: 1 | BN9: 1 | BO9: 1 | BP9: 1 | BR9: 1 | BS9: 1 | BT9: 1 | BU9: 1 | BV9: 1 | BW9: 1 | BX9: 1 | BY9: 1 | BZ9: 1 | CA9: 1 | CB9: 1 | CC9: 1 | CE9: 1 | CF9: 1 | CG9: 1 | CH9: 1 | CI9: 1 | CJ9: 1 | CK9: 1 | CL9: 1 | CM9: 1 | CN9: 1 | CO9: 1 | CP9: 1 | CR9: 1 | CS9: 1 | CT9: 1 | CU9: 1 | CV9: 1 | CW9: 1 | CX9: 1 | CY9: 1 | CZ9: 1 | DA9: 1 | DB9: 1 | DC9: 1 | DE9: 1 | DF9: 1 | DG9: 1 | DH9: 1 | DI9: 1 | DJ9: 1 | DK9: 1 | DL9: 1 | DM9: 1 | DN9: 1 | DO9: 1 | DP9: 1 | DR9: 1 | DS9: 1 | DT9: 1 | DU9: 1 | DV9: 1 | DW9: 1 | DX9: 1 | DY9: 1 | DZ9: 1 | EA9: 1 | EB9: 1 | EC9: 1 | EE9: 1 | EF9: 1 | EG9: 1 | EH9: 1 | EI9: 1 | EJ9: 1 | EK9: 1 | EL9: 1 | EM9: 1 | EN9: 1 | EO9: 1 | EP9: 1 | ER9: 1 | ES9: 1 | ET9: 1 | EU9: 1 | EV9: 1 | EW9: 1 | EX9: 1 | EY9: 1 | EZ9: 1 | FA9: 1 | FB9: 1 | FC9: 1 | FE9: 1 | FF9: 1 | FG9: 1 | FH9: 1 | FI9: 1 | FJ9: 1 | FK9: 1 | FL9: 1 | FM9: 1 | FN9: 1 | FO9: 1 | FP9: 1 | FR9: 1 | FS9: 1 | FT9: 1 | FU9: 1 | FV9: 1 | FW9: 1 | FX9: 1 | FY9: 1 | FZ9: 1 | GA9: 1 | GB9: 1 | GC9: 1 | GE9: 1 | GF9: 1 | GG9: 1 | GH9: 1 | GI9: 1 | GJ9: 1 | GK9: 1 | GL9: 1 | GM9: 1 | GN9: 1 | GO9: 1 | GP9: 1
C10: Dias corridos | E10: 30 | F10: 30 | G10: 30 | H10: 30 | I10: 30 | J10: 30 | K10: 30 | L10: 30 | M10: 30 | N10: 30 | O10: 30 | P10: 30 | R10: 30 | S10: 30 | T10: 30 | U10: 30 | V10: 30 | W10: 30 | X10: 30 | Y10: 30 | Z10: 30 | AA10: 30 | AB10: 30 | AC10: 30 | AE10: 30 | AF10: 30 | AG10: 30 | AH10: 30 | AI10: 30 | AJ10: 30 | AK10: 30 | AL10: 30 | AM10: 30 | AN10: 30 | AO10: 30 | AP10: 30 | AR10: 30 | AS10: 30 | AT10: 30 | AU10: 30 | AV10: 30 | AW10: 30 | AX10: 30 | AY10: 30 | AZ10: 30 | BA10: 30 | BB10: 30 | BC10: 30 | BE10: 30 | BF10: 30 | BG10: 30 | BH10: 30 | BI10: 30 | BJ10: 30 | BK10: 30 | BL10: 30 | BM10: 30 | BN10: 30 | BO10: 30 | BP10: 30 | BR10: 30 | BS10: 30 | BT10: 30 | BU10: 30 | BV10: 30 | BW10: 30 | BX10: 30 | BY10: 30 | BZ10: 30 | CA10: 30 | CB10: 30 | CC10: 30 | CE10: 30 | CF10: 30 | CG10: 30 | CH10: 30 | CI10: 30 | CJ10: 30 | CK10: 30 | CL10: 30 | CM10: 30 | CN10: 30 | CO10: 30 | CP10: 30 | CR10: 30 | CS10: 30 | CT10: 30 | CU10: 30 | CV10: 30 | CW10: 30 | CX10: 30 | CY10: 30 | CZ10: 30 | DA10: 30 | DB10: 30 | DC10: 30 | DE10: 30 | DF10: 30 | DG10: 30 | DH10: 30 | DI10: 30 | DJ10: 30 | DK10: 30 | DL10: 30 | DM10: 30 | DN10: 30 | DO10: 30 | DP10: 30 | DR10: 30 | DS10: 30 | DT10: 30 | DU10: 30 | DV10: 30 | DW10: 30 | DX10: 30 | DY10: 30 | DZ10: 30 | EA10: 30 | EB10: 30 | EC10: 30 | EE10: 30 | EF10: 30 | EG10: 30 | EH10: 30 | EI10: 30 | EJ10: 30 | EK10: 30 | EL10: 30 | EM10: 30 | EN10: 30 | EO10: 30 | EP10: 30 | ER10: 30 | ES10: 30 | ET10: 30 | EU10: 30 | EV10: 30 | EW10: 30 | EX10: 30 | EY10: 30 | EZ10: 30 | FA10: 30 | FB10: 30 | FC10: 30 | FE10: 30 | FF10: 30 | FG10: 30 | FH10: 30 | FI10: 30 | FJ10: 30 | FK10: 30 | FL10: 30 | FM10: 30 | FN10: 30 | FO10: 30 | FP10: 30 | FR10: 30 | FS10: 30 | FT10: 30 | FU10: 30 | FV10: 30 | FW10: 30 | FX10: 30 | FY10: 30 | FZ10: 30 | GA10: 30 | GB10: 30 | GC10: 30 | GE10: 30 | GF10: 30 | GG10: 30 | GH10: 30 | GI10: 30 | GJ10: 30 | GK10: 30 | GL10: 30 | GM10: 30 | GN10: 30 | GO10: 30 | GP10: 30
C11: Indicadores Macroeconômicos | E11: 43861 | F11: =EOMONTH(E11,1) -> 43890 | G11: =EOMONTH(F11,1) -> 43921 | H11: =EOMONTH(G11,1) -> 43951 | I11: =EOMONTH(H11,1) -> 43982 | J11: =EOMONTH(I11,1) -> 44012 | K11: =EOMONTH(J11,1) -> 44043 | L11: =EOMONTH(K11,1) -> 44074 | M11: =EOMONTH(L11,1) -> 44104 | ... P11: =EOMONTH(O11,1) -> 44196 | R11: =EOMONTH(P11,1) -> 44227 | S11: =EOMONTH(R11,1) -> 44255 | T11: =EOMONTH(S11,1) -> 44286 | U11: =EOMONTH(T11,1) -> 44316 | V11: =EOMONTH(U11,1) -> 44347 | W11: =EOMONTH(V11,1) -> 44377 | X11: =EOMONTH(W11,1) -> 44408 | Y11: =EOMONTH(X11,1) -> 44439 | Z11: =EOMONTH(Y11,1) -> 44469 | ... AC11: =EOMONTH(AB11,1) -> 44561 | AE11: =EOMONTH(AC11,1) -> 44592 | AF11: =EOMONTH(AE11,1) -> 44620 | AG11: =EOMONTH(AF11,1) -> 44651 | AH11: =EOMONTH(AG11,1) -> 44681 | AI11: =EOMONTH(AH11,1) -> 44712 | AJ11: =EOMONTH(AI11,1) -> 44742 | AK11: =EOMONTH(AJ11,1) -> 44773 | AL11: =EOMONTH(AK11,1) -> 44804 | AM11: =EOMONTH(AL11,1) -> 44834 | ... AP11: =EOMONTH(AO11,1) -> 44926 | AR11: =EOMONTH(AP11,1) -> 44957 | AS11: =EOMONTH(AR11,1) -> 44985 | AT11: =EOMONTH(AS11,1) -> 45016 | AU11: =EOMONTH(AT11,1) -> 45046 | AV11: =EOMONTH(AU11,1) -> 45077 | AW11: =EOMONTH(AV11,1) -> 45107 | AX11: =EOMONTH(AW11,1) -> 45138 | AY11: =EOMONTH(AX11,1) -> 45169 | AZ11: =EOMONTH(AY11,1) -> 45199 | ... BC11: =EOMONTH(BB11,1) -> 45291 | BE11: =EOMONTH(BC11,1) -> 45322 | BF11: =EOMONTH(BE11,1) -> 45351 | BG11: =EOMONTH(BF11,1) -> 45382 | BH11: =EOMONTH(BG11,1) -> 45412 | BI11: =EOMONTH(BH11,1) -> 45443 | BJ11: =EOMONTH(BI11,1) -> 45473 | BK11: =EOMONTH(BJ11,1) -> 45504 | BL11: =EOMONTH(BK11,1) -> 45535 | BM11: =EOMONTH(BL11,1) -> 45565 | ... BP11: =EOMONTH(BO11,1) -> 45657 | BR11: =EOMONTH(BP11,1) -> 45688 | BS11: =EOMONTH(BR11,1) -> 45716 | BT11: =EOMONTH(BS11,1) -> 45747 | BU11: =EOMONTH(BT11,1) -> 45777 | BV11: =EOMONTH(BU11,1) -> 45808 | BW11: =EOMONTH(BV11,1) -> 45838 | BX11: =EOMONTH(BW11,1) -> 45869 | BY11: =EOMONTH(BX11,1) -> 45900 | BZ11: =EOMONTH(BY11,1) -> 45930 | ... CC11: =EOMONTH(CB11,1) -> 46022 | CE11: =EOMONTH(CC11,1) -> 46053 | CF11: =EOMONTH(CE11,1) -> 46081 | CG11: =EOMONTH(CF11,1) -> 46112 | CH11: =EOMONTH(CG11,1) -> 46142 | CI11: =EOMONTH(CH11,1) -> 46173 | CJ11: =EOMONTH(CI11,1) -> 46203 | CK11: =EOMONTH(CJ11,1) -> 46234 | CL11: =EOMONTH(CK11,1) -> 46265 | CM11: =EOMONTH(CL11,1) -> 46295 | ... CP11: =EOMONTH(CO11,1) -> 46387 | CR11: =EOMONTH(CP11,1) -> 46418 | CS11: =EOMONTH(CR11,1) -> 46446 | CT11: =EOMONTH(CS11,1) -> 46477 | CU11: =EOMONTH(CT11,1) -> 46507 | CV11: =EOMONTH(CU11,1) -> 46538 | CW11: =EOMONTH(CV11,1) -> 46568 | CX11: =EOMONTH(CW11,1) -> 46599 | CY11: =EOMONTH(CX11,1) -> 46630 | CZ11: =EOMONTH(CY11,1) -> 46660 | ... DC11: =EOMONTH(DB11,1) -> 46752 | DE11: =EOMONTH(DC11,1) -> 46783 | DF11: =EOMONTH(DE11,1) -> 46812 | DG11: =EOMONTH(DF11,1) -> 46843 | DH11: =EOMONTH(DG11,1) -> 46873 | DI11: =EOMONTH(DH11,1) -> 46904 | DJ11: =EOMONTH(DI11,1) -> 46934 | DK11: =EOMONTH(DJ11,1) -> 46965 | DL11: =EOMONTH(DK11,1) -> 46996 | DM11: =EOMONTH(DL11,1) -> 47026 | ... DP11: =EOMONTH(DO11,1) -> 47118 | DR11: =EOMONTH(DP11,1) -> 47149 | DS11: =EOMONTH(DR11,1) -> 47177 | DT11: =EOMONTH(DS11,1) -> 47208 | DU11: =EOMONTH(DT11,1) -> 47238 | DV11: =EOMONTH(DU11,1) -> 47269 | DW11: =EOMONTH(DV11,1) -> 47299 | DX11: =EOMONTH(DW11,1) -> 47330 | DY11: =EOMONTH(DX11,1) -> 47361 | DZ11: =EOMONTH(DY11,1) -> 47391 | ... EC11: =EOMONTH(EB11,1) -> 47483 | EE11: =EOMONTH(EC11,1) -> 47514 | EF11: =EOMONTH(EE11,1) -> 47542 | EG11: =EOMONTH(EF11,1) -> 47573 | EH11: =EOMONTH(EG11,1) -> 47603 | EI11: =EOMONTH(EH11,1) -> 47634 | EJ11: =EOMONTH(EI11,1) -> 47664 | EK11: =EOMONTH(EJ11,1) -> 47695 | EL11: =EOMONTH(EK11,1) -> 47726 | EM11: =EOMONTH(EL11,1) -> 47756 | ... EP11: =EOMONTH(EO11,1) -> 47848 | ER11: =EOMONTH(EP11,1) -> 47879 | ES11: =EOMONTH(ER11,1) -> 47907 | ET11: =EOMONTH(ES11,1) -> 47938 | EU11: =EOMONTH(ET11,1) -> 47968 | EV11: =EOMONTH(EU11,1) -> 47999 | EW11: =EOMONTH(EV11,1) -> 48029 | EX11: =EOMONTH(EW11,1) -> 48060 | EY11: =EOMONTH(EX11,1) -> 48091 | EZ11: =EOMONTH(EY11,1) -> 48121 | ... FC11: =EOMONTH(FB11,1) -> 48213 | FE11: =EOMONTH(FC11,1) -> 48244 | FF11: =EOMONTH(FE11,1) -> 48273 | FG11: =EOMONTH(FF11,1) -> 48304 | FH11: =EOMONTH(FG11,1) -> 48334 | FI11: =EOMONTH(FH11,1) -> 48365 | FJ11: =EOMONTH(FI11,1) -> 48395 | FK11: =EOMONTH(FJ11,1) -> 48426 | FL11: =EOMONTH(FK11,1) -> 48457 | FM11: =EOMONTH(FL11,1) -> 48487 | ... FP11: =EOMONTH(FO11,1) -> 48579 | FR11: =EOMONTH(FP11,1) -> 48610 | FS11: =EOMONTH(FR11,1) -> 48638 | FT11: =EOMONTH(FS11,1) -> 48669 | FU11: =EOMONTH(FT11,1) -> 48699 | FV11: =EOMONTH(FU11,1) -> 48730 | FW11: =EOMONTH(FV11,1) -> 48760 | FX11: =EOMONTH(FW11,1) -> 48791 | FY11: =EOMONTH(FX11,1) -> 48822 | FZ11: =EOMONTH(FY11,1) -> 48852 | ... GC11: =EOMONTH(GB11,1) -> 48944 | GE11: =EOMONTH(GC11,1) -> 48975 | GF11: =EOMONTH(GE11,1) -> 49003 | GG11: =EOMONTH(GF11,1) -> 49034 | GH11: =EOMONTH(GG11,1) -> 49064 | GI11: =EOMONTH(GH11,1) -> 49095 | GJ11: =EOMONTH(GI11,1) -> 49125 | GK11: =EOMONTH(GJ11,1) -> 49156 | GL11: =EOMONTH(GK11,1) -> 49187 | GM11: =EOMONTH(GL11,1) -> 49217 | ... GP11: =EOMONTH(GO11,1) -> 49309
C13: PREÇOS
C15: IPCA (IBGE) | E15: 0.0021 | F15: 0.0025 | G15: 0.0007 | H15: -0.0031 | I15: -0.0038 | J15: 0.0026 | K15: 0.0036 | L15: 0.0024 | M15: 0.0064 | N15: 0.0086 | O15: 0.0089 | P15: 0.0135 | R15: 0.0025 | S15: 0.0086 | T15: 0.0093 | U15: 0.0031 | V15: 0.0083 | W15: 0.0053 | X15: 0.0096 | Y15: 0.0087 | Z15: 0.0116 | AA15: 0.0125 | AB15: 0.0095 | AC15: 0.0073 | AE15: 0.0054 | AF15: 0.0101 | AG15: 0.0162 | AH15: 0.0106 | AI15: 0.0047 | AJ15: 0.0067 | AK15: -0.0068 | AL15: -0.0036 | AM15: -0.0029 | AN15: 0.0059 | AO15: 0.0041 | AP15: 0.0062 | AR15: 0.0053 | AS15: 0.0084 | AT15: 0.0071 | AU15: 0.0061 | AV15: 0.0023 | AW15: -0.0008 | AX15: 0.0012 | AY15: 0.0023 | AZ15: 0.0026 | BA15: 0.0024 | BB15: 0.0028 | BC15: 0.0056 | BE15: 0.0042 | BF15: 0.0083 | BG15: 0.0016 | BH15: 0.0038 | BI15: 0.0046 | BJ15: 0.0021 | BK15: 0.0038 | BL15: -0.0002 | BM15: 0.0044 | BN15: 0.0056 | BO15: 0.0039 | BP15: 0.0052 | BR15: 0.0016 | BS15: 0.0131 | BT15: 0.0056 | BU15: 0.0043 | BV15: 0.0026 | BW15: 0.0024 | BX15: 0.0026 | BY15: -0.0011 | BZ15: 0.0048 | CA15: 0.0009 | CB15: 0.0018 | CC15: 0.0033 | CE15: 0.0033 | CF15: 0.007 | CG15: 0.0088 | CH15: 0.0067 | CI15: 0.0058 | CJ15: 0.0016 | CK15: 0.0007 | CL15: -0.0032 | CM15: 0.008 | CN15: 0.0023587021 | CO15: 0.0036103142 | CP15: 0.0066284881 | CR15: =(DC17+1)^(CR$10/360)-1 -> 0.0036875729 | CS15: =(DC17+1)^(CS$10/360)-1 -> 0.0036875729 | CT15: =(DC17+1)^(CT$10/360)-1 -> 0.0036875729 | CU15: =(DC17+1)^(CU$10/360)-1 -> 0.0036875729 | CV15: =(DC17+1)^(CV$10/360)-1 -> 0.0036875729 | CW15: =(DC17+1)^(CW$10/360)-1 -> 0.0036875729 | CX15: =(DC17+1)^(CX$10/360)-1 -> 0.0036875729 | CY15: =(DC17+1)^(CY$10/360)-1 -> 0.0036875729 | CZ15: =(DC17+1)^(CZ$10/360)-1 -> 0.0036875729 | DA15: =(DC17+1)^(DA$10/360)-1 -> 0.0036875729 | DB15: =(DC17+1)^(DB$10/360)-1 -> 0.0036875729 | DC15: =(DC17+1)^(DC$10/360)-1 -> 0.0036875729 | DE15: =(DP17+1)^(DE$10/360)-1 -> 0.0032744142 | DF15: =(DP17+1)^(DF$10/360)-1 -> 0.0032744142 | DG15: =(DP17+1)^(DG$10/360)-1 -> 0.0032744142 | DH15: =(DP17+1)^(DH$10/360)-1 -> 0.0032744142 | DI15: =(DP17+1)^(DI$10/360)-1 -> 0.0032744142 | DJ15: =(DP17+1)^(DJ$10/360)-1 -> 0.0032744142 | DK15: =(DP17+1)^(DK$10/360)-1 -> 0.0032744142 | DL15: =(DP17+1)^(DL$10/360)-1 -> 0.0032744142 | DM15: =(DP17+1)^(DM$10/360)-1 -> 0.0032744142 | DN15: =(DP17+1)^(DN$10/360)-1 -> 0.0032744142 | DO15: =(DP17+1)^(DO$10/360)-1 -> 0.0032744142 | DP15: =(DP17+1)^(DP$10/360)-1 -> 0.0032744142 | DR15: =($EC$17+1)^(DR$10/360)-1 -> 0.0030490431 | DS15: =($EC$17+1)^(DS$10/360)-1 -> 0.0030490431 | DT15: =($EC$17+1)^(DT$10/360)-1 -> 0.0030490431 | DU15: =($EC$17+1)^(DU$10/360)-1 -> 0.0030490431 | DV15: =($EC$17+1)^(DV$10/360)-1 -> 0.0030490431 | DW15: =($EC$17+1)^(DW$10/360)-1 -> 0.0030490431 | DX15: =($EC$17+1)^(DX$10/360)-1 -> 0.0030490431 | DY15: =($EC$17+1)^(DY$10/360)-1 -> 0.0030490431 | ... EC15: =($EC$17+1)^(EC$10/360)-1 -> 0.0030490431 | EE15: =($EP$17+1)^(EE$10/360)-1 -> 0.0029356849 | EF15: =($EP$17+1)^(EF$10/360)-1 -> 0.0029356849 | EG15: =($EP$17+1)^(EG$10/360)-1 -> 0.0029356849 | EH15: =($EP$17+1)^(EH$10/360)-1 -> 0.0029356849 | EI15: =($EP$17+1)^(EI$10/360)-1 -> 0.0029356849 | EJ15: =($EP$17+1)^(EJ$10/360)-1 -> 0.0029356849 | EK15: =($EP$17+1)^(EK$10/360)-1 -> 0.0029356849 | EL15: =($EP$17+1)^(EL$10/360)-1 -> 0.0029356849 | ... EP15: =($EP$17+1)^(EP$10/360)-1 -> 0.0029356849 | ER15: =($FC$17+1)^(ER$10/360)-1 -> 0.0028476468 | ES15: =($FC$17+1)^(ES$10/360)-1 -> 0.0028476468 | ET15: =($FC$17+1)^(ET$10/360)-1 -> 0.0028476468 | EU15: =($FC$17+1)^(EU$10/360)-1 -> 0.0028476468 | EV15: =($FC$17+1)^(EV$10/360)-1 -> 0.0028476468 | EW15: =($FC$17+1)^(EW$10/360)-1 -> 0.0028476468 | EX15: =($FC$17+1)^(EX$10/360)-1 -> 0.0028476468 | EY15: =($FC$17+1)^(EY$10/360)-1 -> 0.0028476468 | ... FC15: =($FC$17+1)^(FC$10/360)-1 -> 0.0028476468 | FE15: =($FP$17+1)^(FE$10/360)-1 -> 0.0028447827 | FF15: =($FP$17+1)^(FF$10/360)-1 -> 0.0028447827 | FG15: =($FP$17+1)^(FG$10/360)-1 -> 0.0028447827 | FH15: =($FP$17+1)^(FH$10/360)-1 -> 0.0028447827 | FI15: =($FP$17+1)^(FI$10/360)-1 -> 0.0028447827 | FJ15: =($FP$17+1)^(FJ$10/360)-1 -> 0.0028447827 | FK15: =($FP$17+1)^(FK$10/360)-1 -> 0.0028447827 | FL15: =($FP$17+1)^(FL$10/360)-1 -> 0.0028447827 | ... FP15: =($FP$17+1)^(FP$10/360)-1 -> 0.0028447827 | FR15: =($GC$17+1)^(FR$10/360)-1 -> 0.0027585882 | FS15: =($GC$17+1)^(FS$10/360)-1 -> 0.0027585882 | FT15: =($GC$17+1)^(FT$10/360)-1 -> 0.0027585882 | FU15: =($GC$17+1)^(FU$10/360)-1 -> 0.0027585882 | FV15: =($GC$17+1)^(FV$10/360)-1 -> 0.0027585882 | FW15: =($GC$17+1)^(FW$10/360)-1 -> 0.0027585882 | FX15: =($GC$17+1)^(FX$10/360)-1 -> 0.0027585882 | FY15: =($GC$17+1)^(FY$10/360)-1 -> 0.0027585882 | ... GC15: =($GC$17+1)^(GC$10/360)-1 -> 0.0027585882 | GE15: =($GP$17+1)^(GE$10/360)-1 -> 0.0027585882 | GF15: =($GP$17+1)^(GF$10/360)-1 -> 0.0027585882 | GG15: =($GP$17+1)^(GG$10/360)-1 -> 0.0027585882 | GH15: =($GP$17+1)^(GH$10/360)-1 -> 0.0027585882 | GI15: =($GP$17+1)^(GI$10/360)-1 -> 0.0027585882 | GJ15: =($GP$17+1)^(GJ$10/360)-1 -> 0.0027585882 | GK15: =($GP$17+1)^(GK$10/360)-1 -> 0.0027585882 | GL15: =($GP$17+1)^(GL$10/360)-1 -> 0.0027585882 | ... GP15: =($GP$17+1)^(GP$10/360)-1 -> 0.0027585882
C17: Acumulado12 meses | E17: 0.041916693 | F17: 0.040049273 | G17: 0.033029586 | H17: 0.023990448 | I17: 0.018774877 | J17: 0.02132156 | K17: 0.023054514 | L17: 0.024383023 | M17: 0.031351615 | N17: 0.039182057 | O17: 0.043110912 | P17: {=PRODUCT(1+E15:P15)-1} -> 0.045173415 | R17: {=PRODUCT(1+F15:R15)-1} -> 0.045590608 | S17: {=PRODUCT(1+G15:S15)-1} -> 0.051952805 | T17: {=PRODUCT(1+H15:T15)-1} -> 0.060993271 | U17: {=PRODUCT(1+I15:U15)-1} -> 0.067591885 | V17: {=PRODUCT(1+J15:V15)-1} -> 0.080559022 | W17: {=PRODUCT(1+K15:W15)-1} -> 0.083468966 | X17: {=PRODUCT(1+L15:X15)-1} -> 0.089946461 | Y17: {=PRODUCT(1+M15:Y15)-1} -> 0.096796683 | ... AB17: {=PRODUCT(1+P15:AB15)-1} -> 0.10738488 | AC17: {=PRODUCT(1+R15:AC15)-1} -> 0.10061055 | AE17: {=PRODUCT(1+S15:AE15)-1} -> 0.10379436 | AF17: {=PRODUCT(1+T15:AF15)-1} -> 0.10543593 | AG17: {=PRODUCT(1+U15:AG15)-1} -> 0.11299316 | AH17: {=PRODUCT(1+V15:AH15)-1} -> 0.12131481 | AI17: {=PRODUCT(1+W15:AI15)-1} -> 0.11731131 | AJ17: {=PRODUCT(1+X15:AJ15)-1} -> 0.1188673 | AK17: {=PRODUCT(1+Y15:AK15)-1} -> 0.10069235 | AL17: {=PRODUCT(1+Z15:AL15)-1} -> 0.087270605 | ... AO17: {=PRODUCT(1+AC15:AO15)-1} -> 0.059004883 | AP17: {=PRODUCT(1+AE15:AP15)-1} -> 0.05784842 | AR17: {=PRODUCT(1+AF15:AR15)-1} -> 0.057743203 | AS17: {=PRODUCT(1+AG15:AS15)-1} -> 0.055963019 | AT17: {=PRODUCT(1+AH15:AT15)-1} -> 0.046506944 | AU17: {=PRODUCT(1+AI15:AU15)-1} -> 0.041847058 | AV17: {=PRODUCT(1+AJ15:AV15)-1} -> 0.039358322 | AW17: {=PRODUCT(1+AK15:AW15)-1} -> 0.031615015 | AX17: {=PRODUCT(1+AL15:AX15)-1} -> 0.039924439 | AY17: {=PRODUCT(1+AM15:AY15)-1} -> 0.046082161 | ... BB17: {=PRODUCT(1+AP15:BB15)-1} -> 0.04683537 | BC17: {=PRODUCT(1+AR15:BC15)-1} -> 0.046211139 | BE17: {=PRODUCT(1+AS15:BE15)-1} -> 0.045066374 | BF17: {=PRODUCT(1+AT15:BF15)-1} -> 0.044962738 | BG17: {=PRODUCT(1+AU15:BG15)-1} -> 0.039255961 | BH17: {=PRODUCT(1+AV15:BH15)-1} -> 0.036880165 | BI17: {=PRODUCT(1+AW15:BI15)-1} -> 0.039259517 | BJ17: {=PRODUCT(1+AX15:BJ15)-1} -> 0.042275782 | BK17: {=PRODUCT(1+AY15:BK15)-1} -> 0.044982451 | BL17: {=PRODUCT(1+AZ15:BL15)-1} -> 0.04237599 | ... BO17: {=PRODUCT(1+BC15:BO15)-1} -> 0.048730114 | BP17: =ANUAL!M14 -> 0.048312958 | BR17: {=PRODUCT(1+BF15:BR15)-1} -> 0.045598744 | BS17: {=PRODUCT(1+BG15:BS15)-1} -> 0.050576304 | BT17: {=PRODUCT(1+BH15:BT15)-1} -> 0.054771896 | BU17: {=PRODUCT(1+BI15:BU15)-1} -> 0.055297286 | BV17: {=PRODUCT(1+BJ15:BV15)-1} -> 0.053196356 | BW17: {=PRODUCT(1+BK15:BW15)-1} -> 0.053511652 | BX17: {=PRODUCT(1+BL15:BX15)-1} -> 0.052252224 | BY17: {=PRODUCT(1+BM15:BY15)-1} -> 0.051305008 | ... CB17: {=PRODUCT(1+BP15:CB15)-1} -> 0.044618356 | CC17: =ANUAL!$O14 -> 0.042643849 | CE17: {=PRODUCT(1+BS15:CE15)-1} -> 0.044413512 | CF17: {=PRODUCT(1+BT15:CF15)-1} -> 0.03812497 | CG17: {=PRODUCT(1+BU15:CG15)-1} -> 0.04142847 | CH17: {=PRODUCT(1+BV15:CH15)-1} -> 0.043917197 | CI17: {=PRODUCT(1+BW15:CI15)-1} -> 0.047249069 | CJ17: {=PRODUCT(1+BX15:CJ15)-1} -> 0.046413276 | CK17: {=PRODUCT(1+BY15:CK15)-1} -> 0.044430246 | CL17: {=PRODUCT(1+BZ15:CL15)-1} -> 0.042234527 | ... CO17: {=PRODUCT(1+CC15:CO15)-1} -> 0.048969659 | CP17: =ANUAL!$Q14 -> 0.052449658 | CR17: {=PRODUCT(1+CF15:CR15)-1} -> 0.052856218 | CS17: {=PRODUCT(1+CG15:CS15)-1} -> 0.049392951 | CT17: {=PRODUCT(1+CH15:CT15)-1} -> 0.044074806 | CU17: {=PRODUCT(1+CI15:CU15)-1} -> 0.040950539 | CV17: {=PRODUCT(1+CJ15:CV15)-1} -> 0.038764287 | CW17: {=PRODUCT(1+CK15:CW15)-1} -> 0.040929319 | CX17: {=PRODUCT(1+CL15:CX15)-1} -> 0.044036996 | CY17: {=PRODUCT(1+CM15:CY15)-1} -> 0.051250962 | ... DB17: {=PRODUCT(1+CP15:DB15)-1} -> 0.048221912 | DC17: =ANUAL!$S14 -> 0.045159479 | DE17: {=PRODUCT(1+CS15:DE15)-1} -> 0.044729249 | DF17: {=PRODUCT(1+CT15:DF15)-1} -> 0.044299196 | DG17: {=PRODUCT(1+CU15:DG15)-1} -> 0.04386932 | DH17: {=PRODUCT(1+CV15:DH15)-1} -> 0.04343962 | DI17: {=PRODUCT(1+CW15:DI15)-1} -> 0.043010098 | DJ17: {=PRODUCT(1+CX15:DJ15)-1} -> 0.042580753 | DK17: {=PRODUCT(1+CY15:DK15)-1} -> 0.042151584 | DL17: {=PRODUCT(1+CZ15:DL15)-1} -> 0.041722592 | ... DO17: {=PRODUCT(1+DC15:DO15)-1} -> 0.040436675 | DP17: =ANUAL!$U14 -> 0.040008389 | DR17: {=PRODUCT(1+DF15:DR15)-1} -> 0.039774766 | DS17: {=PRODUCT(1+DG15:DS15)-1} -> 0.039541196 | DT17: {=PRODUCT(1+DH15:DT15)-1} -> 0.039307678 | DU17: {=PRODUCT(1+DI15:DU15)-1} -> 0.039074212 | DV17: {=PRODUCT(1+DJ15:DV15)-1} -> 0.038840799 | DW17: {=PRODUCT(1+DK15:DW15)-1} -> 0.038607439 | DX17: {=PRODUCT(1+DL15:DX15)-1} -> 0.038374131 | DY17: {=PRODUCT(1+DM15:DY15)-1} -> 0.038140875 | ... EB17: {=PRODUCT(1+DP15:EB15)-1} -> 0.037441423 | EC17: =ANUAL!$W14 -> 0.037208376 | EE17: {=PRODUCT(1+DS15:EE15)-1} -> 0.037091158 | EF17: {=PRODUCT(1+DT15:EF15)-1} -> 0.036973952 | EG17: {=PRODUCT(1+DU15:EG15)-1} -> 0.03685676 | EH17: {=PRODUCT(1+DV15:EH15)-1} -> 0.036739581 | EI17: {=PRODUCT(1+DW15:EI15)-1} -> 0.036622415 | EJ17: {=PRODUCT(1+DX15:EJ15)-1} -> 0.036505263 | EK17: {=PRODUCT(1+DY15:EK15)-1} -> 0.036388123 | EL17: {=PRODUCT(1+DZ15:EL15)-1} -> 0.036270997 | ... EO17: {=PRODUCT(1+EC15:EO15)-1} -> 0.035919699 | EP17: =ANUAL!$Y14 -> 0.035802626 | ER17: {=PRODUCT(1+EF15:ER15)-1} -> 0.035711703 | ES17: {=PRODUCT(1+EG15:ES15)-1} -> 0.035620787 | ET17: {=PRODUCT(1+EH15:ET15)-1} -> 0.03552988 | EU17: {=PRODUCT(1+EI15:EU15)-1} -> 0.035438981 | EV17: {=PRODUCT(1+EJ15:EV15)-1} -> 0.03534809 | EW17: {=PRODUCT(1+EK15:EW15)-1} -> 0.035257207 | EX17: {=PRODUCT(1+EL15:EX15)-1} -> 0.035166332 | EY17: {=PRODUCT(1+EM15:EY15)-1} -> 0.035075464 | ... FB17: {=PRODUCT(1+EP15:FB15)-1} -> 0.03480291 | FC17: =ANUAL!$AA$14 -> 0.034712075 | FE17: {=PRODUCT(1+ES15:FE15)-1} -> 0.03470912 | FF17: {=PRODUCT(1+ET15:FF15)-1} -> 0.034706165 | FG17: {=PRODUCT(1+EU15:FG15)-1} -> 0.03470321 | FH17: {=PRODUCT(1+EV15:FH15)-1} -> 0.034700255 | FI17: {=PRODUCT(1+EW15:FI15)-1} -> 0.0346973 | FJ17: {=PRODUCT(1+EX15:FJ15)-1} -> 0.034694345 | FK17: {=PRODUCT(1+EY15:FK15)-1} -> 0.034691389 | FL17: {=PRODUCT(1+EZ15:FL15)-1} -> 0.034688434 | ... FO17: {=PRODUCT(1+FC15:FO15)-1} -> 0.034679569 | FP17: =ANUAL!$AC$14 -> 0.034676614 | FR17: {=PRODUCT(1+FF15:FR15)-1} -> 0.034587684 | FS17: {=PRODUCT(1+FG15:FS15)-1} -> 0.034498761 | FT17: {=PRODUCT(1+FH15:FT15)-1} -> 0.034409846 | FU17: {=PRODUCT(1+FI15:FU15)-1} -> 0.034320938 | FV17: {=PRODUCT(1+FJ15:FV15)-1} -> 0.034232038 | FW17: {=PRODUCT(1+FK15:FW15)-1} -> 0.034143146 | FX17: {=PRODUCT(1+FL15:FX15)-1} -> 0.034054261 | FY17: {=PRODUCT(1+FM15:FY15)-1} -> 0.033965384 | ... GB17: {=PRODUCT(1+FP15:GB15)-1} -> 0.033698799 | GC17: =ANUAL!$AE$14 -> 0.033609952 | GE17: {=PRODUCT(1+FS15:GE15)-1} -> 0.033609952 | GF17: {=PRODUCT(1+FT15:GF15)-1} -> 0.033609952 | GG17: {=PRODUCT(1+FU15:GG15)-1} -> 0.033609952 | GH17: {=PRODUCT(1+FV15:GH15)-1} -> 0.033609952 | GI17: {=PRODUCT(1+FW15:GI15)-1} -> 0.033609952 | GJ17: {=PRODUCT(1+FX15:GJ15)-1} -> 0.033609952 | GK17: {=PRODUCT(1+FY15:GK15)-1} -> 0.033609952 | GL17: {=PRODUCT(1+FZ15:GL15)-1} -> 0.033609952 | ... GO17: {=PRODUCT(1+GC15:GO15)-1} -> 0.033609952 | GP17: =ANUAL!$AG$14 -> 0.033609952
C19: IGPM | E19: 0.0047700471 | F19: -0.00040643318 | G19: 0.012440601 | H19: 0.0080229768 | I19: 0.0028004077 | J19: 0.015570052 | K19: 0.022278337 | L19: 0.027441633 | M19: 0.043407949 | N19: 0.03231419 | O19: 0.032773939 | P19: 0.0095810828 | R19: 0.025767097 | S19: 0.02525854 | T19: 0.029382654 | U19: 0.015082791 | V19: 0.040963346 | W19: 0.0060264344 | X19: 0.0077733043 | Y19: 0.0066368722 | Z19: -0.0063942673 | AA19: 0.0064289614 | AB19: 0.00018327052 | AC19: 0.0087083354 | AE19: 0.018175493 | AF19: 0.018329187 | AG19: 0.017407971 | AH19: 0.014112921 | AI19: 0.0052164655 | AJ19: 0.0058524283 | AK19: 0.0020614973 | AL19: -0.0069829394 | AM19: -0.0094607276 | AN19: -0.0097138081 | AO19: -0.0056452605 | AP19: 0.0044790363 | AR19: 0.0021179908 | AS19: -0.00060508911 | AT19: 0.00051429314 | AU19: -0.0095000769 | AV19: -0.018440398 | AW19: -0.019298745 | AX19: -0.00723565 | AY19: -0.0013566969 | AZ19: 0.0036641478 | BA19: 0.0049798888 | BB19: 0.0059311093 | BC19: 0.0073999722 | BE19: 0.00071792554 | BF19: -0.0051721118 | BG19: -0.0046681995 | BH19: 0.0030911166 | BI19: 0.0089082414 | BJ19: 0.0081402869 | BK19: 0.0060752775 | BL19: 0.002853112 | BM19: 0.0062298585 | BN19: 0.015215157 | BO19: 0.012968807 | BP19: 0.0093555462 | BR19: 0.0026827004 | BS19: 0.010609234 | BT19: -0.0033637024 | BU19: 0.0023681363 | BV19: -0.0048819752 | BW19: -0.016677197 | BX19: -0.0076635048 | BY19: 0.0035684799 | BZ19: 0.0041595824 | CA19: -0.0036058019 | CB19: 0.0026821373 | CC19: -0.00014968249 | CE19: 0.0040695427 | CF19: -0.0072854693 | CG19: 0.0052064425 | CH19: 0.027268893 | CI19: 0.0083840161 | CJ19: -0.0049947809 | CK19: -0.011557407 | CL19: -0.0022484799 | CM19: 0.015700589 | CN19: 0.0165 | CO19: 0.0044241332 | CP19: 0.0032256593 | CR19: =(DC21+1)^(CR$10/360)-1 -> 0.0035292932 | CS19: =(DC21+1)^(CS$10/360)-1 -> 0.0035292932 | CT19: =(DC21+1)^(CT$10/360)-1 -> 0.0035292932 | CU19: =(DC21+1)^(CU$10/360)-1 -> 0.0035292932 | CV19: =(DC21+1)^(CV$10/360)-1 -> 0.0035292932 | CW19: =(DC21+1)^(CW$10/360)-1 -> 0.0035292932 | CX19: =(DC21+1)^(CX$10/360)-1 -> 0.0035292932 | CY19: =(DC21+1)^(CY$10/360)-1 -> 0.0035292932 | CZ19: =(DC21+1)^(CZ$10/360)-1 -> 0.0035292932 | DA19: =(DC21+1)^(DA$10/360)-1 -> 0.0035292932 | DB19: =(DC21+1)^(DB$10/360)-1 -> 0.0035292932 | DC19: =(DC21+1)^(DC$10/360)-1 -> 0.0035292932 | DE19: =(DP21+1)^(DE$10/360)-1 -> 0.0030811807 | DF19: =(DP21+1)^(DF$10/360)-1 -> 0.0030811807 | DG19: =(DP21+1)^(DG$10/360)-1 -> 0.0030811807 | DH19: =(DP21+1)^(DH$10/360)-1 -> 0.0030811807 | DI19: =(DP21+1)^(DI$10/360)-1 -> 0.0030811807 | DJ19: =(DP21+1)^(DJ$10/360)-1 -> 0.0030811807 | DK19: =(DP21+1)^(DK$10/360)-1 -> 0.0030811807 | DL19: =(DP21+1)^(DL$10/360)-1 -> 0.0030811807 | DM19: =(DP21+1)^(DM$10/360)-1 -> 0.0030811807 | DN19: =(DP21+1)^(DN$10/360)-1 -> 0.0030811807 | DO19: =(DP21+1)^(DO$10/360)-1 -> 0.0030811807 | DP19: =(DP21+1)^(DP$10/360)-1 -> 0.0030811807 | DR19: =($EC$21+1)^(DR$10/360)-1 -> 0.0030858895 | DS19: =($EC$21+1)^(DS$10/360)-1 -> 0.0030858895 | DT19: =($EC$21+1)^(DT$10/360)-1 -> 0.0030858895 | DU19: =($EC$21+1)^(DU$10/360)-1 -> 0.0030858895 | DV19: =($EC$21+1)^(DV$10/360)-1 -> 0.0030858895 | DW19: =($EC$21+1)^(DW$10/360)-1 -> 0.0030858895 | DX19: =($EC$21+1)^(DX$10/360)-1 -> 0.0030858895 | DY19: =($EC$21+1)^(DY$10/360)-1 -> 0.0030858895 | ... EC19: =($EC$21+1)^(EC$10/360)-1 -> 0.0030858895 | EE19: =($EP$21+1)^(EE$10/360)-1 -> 0.0030058459 | EF19: =($EP$21+1)^(EF$10/360)-1 -> 0.0030058459 | EG19: =($EP$21+1)^(EG$10/360)-1 -> 0.0030058459 | EH19: =($EP$21+1)^(EH$10/360)-1 -> 0.0030058459 | EI19: =($EP$21+1)^(EI$10/360)-1 -> 0.0030058459 | EJ19: =($EP$21+1)^(EJ$10/360)-1 -> 0.0030058459 | EK19: =($EP$21+1)^(EK$10/360)-1 -> 0.0030058459 | EL19: =($EP$21+1)^(EL$10/360)-1 -> 0.0030058459 | ... EP19: =($EP$21+1)^(EP$10/360)-1 -> 0.0030058459 | ER19: =($FC$21+1)^(ER$10/360)-1 -> 0.0029303609 | ES19: =($FC$21+1)^(ES$10/360)-1 -> 0.0029303609 | ET19: =($FC$21+1)^(ET$10/360)-1 -> 0.0029303609 | EU19: =($FC$21+1)^(EU$10/360)-1 -> 0.0029303609 | EV19: =($FC$21+1)^(EV$10/360)-1 -> 0.0029303609 | EW19: =($FC$21+1)^(EW$10/360)-1 -> 0.0029303609 | EX19: =($FC$21+1)^(EX$10/360)-1 -> 0.0029303609 | EY19: =($FC$21+1)^(EY$10/360)-1 -> 0.0029303609 | ... FC19: =($FC$21+1)^(FC$10/360)-1 -> 0.0029303609 | FE19: =($FP$21+1)^(FE$10/360)-1 -> 0.0029760257 | FF19: =($FP$21+1)^(FF$10/360)-1 -> 0.0029760257 | FG19: =($FP$21+1)^(FG$10/360)-1 -> 0.0029760257 | FH19: =($FP$21+1)^(FH$10/360)-1 -> 0.0029760257 | FI19: =($FP$21+1)^(FI$10/360)-1 -> 0.0029760257 | FJ19: =($FP$21+1)^(FJ$10/360)-1 -> 0.0029760257 | FK19: =($FP$21+1)^(FK$10/360)-1 -> 0.0029760257 | FL19: =($FP$21+1)^(FL$10/360)-1 -> 0.0029760257 | ... FP19: =($FP$21+1)^(FP$10/360)-1 -> 0.0029760257 | FR19: =($GC$21+1)^(FR$10/360)-1 -> 0.0029760257 | FS19: =($GC$21+1)^(FS$10/360)-1 -> 0.0029760257 | FT19: =($GC$21+1)^(FT$10/360)-1 -> 0.0029760257 | FU19: =($GC$21+1)^(FU$10/360)-1 -> 0.0029760257 | FV19: =($GC$21+1)^(FV$10/360)-1 -> 0.0029760257 | FW19: =($GC$21+1)^(FW$10/360)-1 -> 0.0029760257 | FX19: =($GC$21+1)^(FX$10/360)-1 -> 0.0029760257 | FY19: =($GC$21+1)^(FY$10/360)-1 -> 0.0029760257 | ... GC19: =($GC$21+1)^(GC$10/360)-1 -> 0.0029760257 | GE19: =($GP$21+1)^(GE$10/360)-1 -> 0.0029760257 | GF19: =($GP$21+1)^(GF$10/360)-1 -> 0.0029760257 | GG19: =($GP$21+1)^(GG$10/360)-1 -> 0.0029760257 | GH19: =($GP$21+1)^(GH$10/360)-1 -> 0.0029760257 | GI19: =($GP$21+1)^(GI$10/360)-1 -> 0.0029760257 | GJ19: =($GP$21+1)^(GJ$10/360)-1 -> 0.0029760257 | GK19: =($GP$21+1)^(GK$10/360)-1 -> 0.0029760257 | GL19: =($GP$21+1)^(GL$10/360)-1 -> 0.0029760257 | ... GP19: =($GP$21+1)^(GP$10/360)-1 -> 0.0029760257
C21: Acumulado12 meses | E21: 0.07808613 | F21: 0.068197835 | G21: 0.068078765 | H21: 0.066847559 | I21: 0.065090534 | J21: 0.073139848 | K21: 0.092719189 | L21: 0.13024272 | M21: 0.1793683 | N21: 0.20931484 | O21: 0.24521154 | P21: {=PRODUCT(1+E19:P19)-1} -> 0.23138351 | R21: {=PRODUCT(1+F19:R19)-1} -> 0.25711619 | S21: {=PRODUCT(1+G19:S19)-1} -> 0.28939316 | T21: {=PRODUCT(1+H19:T19)-1} -> 0.3109697 | U21: {=PRODUCT(1+I19:U19)-1} -> 0.32015124 | V21: {=PRODUCT(1+J19:V19)-1} -> 0.3703914 | W21: {=PRODUCT(1+K19:W19)-1} -> 0.35751342 | X21: {=PRODUCT(1+L19:X19)-1} -> 0.33825176 | Y21: {=PRODUCT(1+M19:Y19)-1} -> 0.31115338 | ... AB21: {=PRODUCT(1+P19:AB19)-1} -> 0.1788512 | AC21: {=PRODUCT(1+R19:AC19)-1} -> 0.17783212 | AE21: {=PRODUCT(1+S19:AE19)-1} -> 0.1691151 | AF21: {=PRODUCT(1+T19:AF19)-1} -> 0.16121347 | AG21: {=PRODUCT(1+U19:AG19)-1} -> 0.14770522 | AH21: {=PRODUCT(1+V19:AH19)-1} -> 0.14660863 | AI21: {=PRODUCT(1+W19:AI19)-1} -> 0.10723387 | AJ21: {=PRODUCT(1+X19:AJ19)-1} -> 0.10704236 | AK21: {=PRODUCT(1+Y19:AK19)-1} -> 0.10076792 | AL21: {=PRODUCT(1+Z19:AL19)-1} -> 0.085874515 | ... AO21: {=PRODUCT(1+AC19:AO19)-1} -> 0.058952819 | AP21: {=PRODUCT(1+AE19:AP19)-1} -> 0.054512856 | AR21: {=PRODUCT(1+AF19:AR19)-1} -> 0.037882282 | AS21: {=PRODUCT(1+AG19:AS19)-1} -> 0.018584446 | AT21: {=PRODUCT(1+AH19:AT19)-1} -> 0.0016712329 | AU21: {=PRODUCT(1+AI19:AU19)-1} -> -0.021652068 | AV21: {=PRODUCT(1+AJ19:AV19)-1} -> -0.044676605 | AW21: {=PRODUCT(1+AK19:AW19)-1} -> -0.068564308 | AX21: {=PRODUCT(1+AL19:AX19)-1} -> -0.077206187 | AY21: {=PRODUCT(1+AM19:AY19)-1} -> -0.071977816 | ... BB21: {=PRODUCT(1+AP19:BB19)-1} -> -0.034619308 | BC21: {=PRODUCT(1+AR19:BC19)-1} -> -0.031812066 | BE21: {=PRODUCT(1+AS19:BE19)-1} -> -0.033164728 | BF21: {=PRODUCT(1+AT19:BF19)-1} -> -0.03758296 | BG21: {=PRODUCT(1+AU19:BG19)-1} -> -0.042568115 | BH21: {=PRODUCT(1+AV19:BH19)-1} -> -0.030397281 | BI21: {=PRODUCT(1+AW19:BI19)-1} -> -0.0033817894 | BJ21: {=PRODUCT(1+AX19:BJ19)-1} -> 0.024502583 | BK21: {=PRODUCT(1+AY19:BK19)-1} -> 0.038239055 | BL21: {=PRODUCT(1+AZ19:BL19)-1} -> 0.042615781 | ... BO21: {=PRODUCT(1+BC19:BO19)-1} -> 0.063314259 | BP21: =ANUAL!M16 -> 0.065378374 | BR21: {=PRODUCT(1+BF19:BR19)-1} -> 0.067470101 | BS21: {=PRODUCT(1+BG19:BS19)-1} -> 0.084403799 | BT21: {=PRODUCT(1+BH19:BT19)-1} -> 0.085825035 | BU21: {=PRODUCT(1+BI19:BU19)-1} -> 0.085042424 | BV21: {=PRODUCT(1+BJ19:BV19)-1} -> 0.070211571 | BW21: {=PRODUCT(1+BK19:BW19)-1} -> 0.043866073 | BX21: {=PRODUCT(1+BL19:BX19)-1} -> 0.029611226 | BY21: {=PRODUCT(1+BM19:BY19)-1} -> 0.030345682 | ... CB21: {=PRODUCT(1+BP19:CB19)-1} -> -0.0010844005 | CC21: =ANUAL!$O$16 -> -0.010491315 | CE21: {=PRODUCT(1+BS19:CE19)-1} -> -0.0091226939 | CF21: {=PRODUCT(1+BT19:CF19)-1} -> -0.026668007 | CG21: {=PRODUCT(1+BU19:CG19)-1} -> -0.018298258 | CH21: {=PRODUCT(1+BV19:CH19)-1} -> 0.0060891059 | CI21: {=PRODUCT(1+BW19:CI19)-1} -> 0.019501354 | CJ21: {=PRODUCT(1+BX19:CJ19)-1} -> 0.031613591 | CK21: {=PRODUCT(1+BY19:CK19)-1} -> 0.027565566 | CL21: {=PRODUCT(1+BZ19:CL19)-1} -> 0.021609513 | ... CO21: {=PRODUCT(1+CC19:CO19)-1} -> 0.056034118 | CP21: =ANUAL!$Q$16 -> 0.059599127 | CR21: {=PRODUCT(1+CF19:CR19)-1} -> 0.059029 | CS21: {=PRODUCT(1+CG19:CS19)-1} -> 0.070566201 | CT21: {=PRODUCT(1+CH19:CT19)-1} -> 0.068780001 | CU21: {=PRODUCT(1+CI19:CU19)-1} -> 0.044081104 | CV21: {=PRODUCT(1+CJ19:CV19)-1} -> 0.039054522 | CW21: {=PRODUCT(1+CK19:CW19)-1} -> 0.047955961 | CX21: {=PRODUCT(1+CL19:CX19)-1} -> 0.063951019 | CY21: {=PRODUCT(1+CM19:CY19)-1} -> 0.07011214 | ... DB21: {=PRODUCT(1+CP19:DB19)-1} -> 0.042867726 | DC21: =ANUAL!$S$16 -> 0.043183357 | DE21: {=PRODUCT(1+CS19:DE19)-1} -> 0.042717538 | DF21: {=PRODUCT(1+CT19:DF19)-1} -> 0.042251926 | DG21: {=PRODUCT(1+CU19:DG19)-1} -> 0.041786523 | DH21: {=PRODUCT(1+CV19:DH19)-1} -> 0.041321327 | DI21: {=PRODUCT(1+CW19:DI19)-1} -> 0.040856339 | DJ21: {=PRODUCT(1+CX19:DJ19)-1} -> 0.040391559 | DK21: {=PRODUCT(1+CY19:DK19)-1} -> 0.039926986 | DL21: {=PRODUCT(1+CZ19:DL19)-1} -> 0.03946262 | ... DO21: {=PRODUCT(1+DC19:DO19)-1} -> 0.038070768 | DP21: =ANUAL!$U$16 -> 0.037607231 | DR21: {=PRODUCT(1+DF19:DR19)-1} -> 0.037612102 | DS21: {=PRODUCT(1+DG19:DS19)-1} -> 0.037616973 | DT21: {=PRODUCT(1+DH19:DT19)-1} -> 0.037621844 | DU21: {=PRODUCT(1+DI19:DU19)-1} -> 0.037626715 | DV21: {=PRODUCT(1+DJ19:DV19)-1} -> 0.037631586 | DW21: {=PRODUCT(1+DK19:DW19)-1} -> 0.037636457 | DX21: {=PRODUCT(1+DL19:DX19)-1} -> 0.037641328 | DY21: {=PRODUCT(1+DM19:DY19)-1} -> 0.037646199 | ... EB21: {=PRODUCT(1+DP19:EB19)-1} -> 0.037660812 | EC21: =ANUAL!$W$16 -> 0.037665684 | EE21: {=PRODUCT(1+DS19:EE19)-1} -> 0.037582881 | EF21: {=PRODUCT(1+DT19:EF19)-1} -> 0.037500084 | EG21: {=PRODUCT(1+DU19:EG19)-1} -> 0.037417294 | EH21: {=PRODUCT(1+DV19:EH19)-1} -> 0.037334511 | EI21: {=PRODUCT(1+DW19:EI19)-1} -> 0.037251735 | EJ21: {=PRODUCT(1+DX19:EJ19)-1} -> 0.037168965 | EK21: {=PRODUCT(1+DY19:EK19)-1} -> 0.037086201 | EL21: {=PRODUCT(1+DZ19:EL19)-1} -> 0.037003445 | ... EO21: {=PRODUCT(1+EC19:EO19)-1} -> 0.036755214 | EP21: =ANUAL!$Y$16 -> 0.036672484 | ER21: {=PRODUCT(1+EF19:ER19)-1} -> 0.036594465 | ES21: {=PRODUCT(1+EG19:ES19)-1} -> 0.036516452 | ET21: {=PRODUCT(1+EH19:ET19)-1} -> 0.036438445 | EU21: {=PRODUCT(1+EI19:EU19)-1} -> 0.036360444 | EV21: {=PRODUCT(1+EJ19:EV19)-1} -> 0.036282449 | EW21: {=PRODUCT(1+EK19:EW19)-1} -> 0.036204459 | EX21: {=PRODUCT(1+EL19:EX19)-1} -> 0.036126476 | EY21: {=PRODUCT(1+EM19:EY19)-1} -> 0.036048498 | ... FB21: {=PRODUCT(1+EP19:FB19)-1} -> 0.0358146 | FC21: =ANUAL!$AA$16 -> 0.035736646 | FE21: {=PRODUCT(1+ES19:FE19)-1} -> 0.035783805 | FF21: {=PRODUCT(1+ET19:FF19)-1} -> 0.035830966 | FG21: {=PRODUCT(1+EU19:FG19)-1} -> 0.035878128 | FH21: {=PRODUCT(1+EV19:FH19)-1} -> 0.035925293 | FI21: {=PRODUCT(1+EW19:FI19)-1} -> 0.03597246 | FJ21: {=PRODUCT(1+EX19:FJ19)-1} -> 0.03601963 | FK21: {=PRODUCT(1+EY19:FK19)-1} -> 0.036066801 | FL21: {=PRODUCT(1+EZ19:FL19)-1} -> 0.036113975 | ... FO21: {=PRODUCT(1+FC19:FO19)-1} -> 0.036255508 | FP21: =ANUAL!$AC$16 -> 0.036302691 | FR21: {=PRODUCT(1+FF19:FR19)-1} -> 0.036302691 | FS21: {=PRODUCT(1+FG19:FS19)-1} -> 0.036302691 | FT21: {=PRODUCT(1+FH19:FT19)-1} -> 0.036302691 | FU21: {=PRODUCT(1+FI19:FU19)-1} -> 0.036302691 | FV21: {=PRODUCT(1+FJ19:FV19)-1} -> 0.036302691 | FW21: {=PRODUCT(1+FK19:FW19)-1} -> 0.036302691 | FX21: {=PRODUCT(1+FL19:FX19)-1} -> 0.036302691 | FY21: {=PRODUCT(1+FM19:FY19)-1} -> 0.036302691 | ... GB21: {=PRODUCT(1+FP19:GB19)-1} -> 0.036302691 | GC21: =ANUAL!$AE$16 -> 0.036302691 | GE21: {=PRODUCT(1+FS19:GE19)-1} -> 0.036302691 | GF21: {=PRODUCT(1+FT19:GF19)-1} -> 0.036302691 | GG21: {=PRODUCT(1+FU19:GG19)-1} -> 0.036302691 | GH21: {=PRODUCT(1+FV19:GH19)-1} -> 0.036302691 | GI21: {=PRODUCT(1+FW19:GI19)-1} -> 0.036302691 | GJ21: {=PRODUCT(1+FX19:GJ19)-1} -> 0.036302691 | GK21: {=PRODUCT(1+FY19:GK19)-1} -> 0.036302691 | GL21: {=PRODUCT(1+FZ19:GL19)-1} -> 0.036302691 | ... GO21: {=PRODUCT(1+GC19:GO19)-1} -> 0.036302691 | GP21: =ANUAL!$AG$16 -> 0.036302691
C23: IST | E23: 0.0035 | F23: 0.0043 | G23: 0.0034 | H23: 0.0019 | I23: -0.0009 | J23: 0.0054 | K23: 0.0073 | L23: 0.0064 | M23: 0.0127 | N23: 0.0157 | O23: 0.0153 | P23: 0.0144 | R23: 0.0146 | S23: 0.0223 | T23: 0.0194 | U23: 0.0119 | V23: 0.0214 | W23: 0.0099977622 | X23: 0.011471168 | Y23: 0.008479307 | Z23: 0.010030059 | AA23: 0.008296769 | AB23: 0.01281403 | AC23: 0.0046497884 | AE23: 0.010710265 | AF23: 0.014801361 | AG23: 0.014397595 | AH23: 0.009881333 | AI23: 0.0075098216 | AJ23: 0.0081308862 | AK23: -0.00042132206 | AL23: -0.0011694238 | AM23: -0.0026715656 | AN23: 0.00094168849 | AO23: 0.00047040127 | AP23: 0.0029481563 | AR23: 0.0041019826 | AS23: 0.0043786041 | AT23: 0.0034706518 | AU23: 0.001690199 | AV23: -0.00069993657 | AW23: -0.0040212004 | AX23: -0.0022102292 | AY23: 0.0011421739 | AZ23: 0.0023791714 | BA23: 0.0020505746 | BB23: 0.002988213 | BC23: 0.0060085355 | BE23: 0.0032220051 | BF23: 0.0034589455 | BG23: 0.0021101076 | BH23: 0.0030708887 | BI23: 0.0042597269 | BJ23: 0.0037503586 | BK23: 0.0049098443 | BL23: 0.0013099538 | BM23: 0.0057798229 | BN23: 0.0069211636 | BO23: 0.0027207962 | BP23: 0.0039094577 | BR23: 0.0018285708 | BS23: 0.010220714 | BT23: 0.0041084177 | BU23: 0.0040507791 | BV23: 0.0018095421 | BW23: 0.00082050628 | BX23: 0.0040817864 | BY23: 0.00042988912 | BZ23: 0.0049776496 | CA23: -0.0012597711 | CB23: 0.0023497608 | CC23: 0.0012900636 | CE23: 0.0038422997 | CF23: 0.0039787571 | CG23: 0.0048692214 | CH23: 0.013439971 | CI23: 0.0085222121 | CJ23: 0.00099853401 | CK23: -0.00019066515 | CL23: -0.0036896596 | CM23: 0.0083681322 | CN23: 0.0041684378 | CO23: 0.0035477175 | CP23: 0.0047562249 | CR23: 0.005603616 | CS23: 0.0061723559 | CT23: 0.004717087 | CU23: 0.0043599375 | CV23: 0.0032606677 | CW23: 0.0019392954 | CX23: 0.0029643103 | CY23: 0.0023262794 | CZ23: 0.0025000127 | DA23: 0.0027867319 | DB23: 0.002197207 | DC23: 0.0033751532 | DE23: 0.0050941076 | DF23: 0.0050965764 | DG23: 0.0034423549 | DH23: 0.0037038604 | DI23: 0.0034029981 | DJ23: 0.0020894919 | DK23: 0.0021345042 | DL23: 0.0026963336 | DM23: 0.0027078269 | DN23: 0.0025023434 | DO23: 0.0024404325 | DP23: 0.0032940909 | DR23: 0.0047561931 | DS23: 0.0040372428 | DT23: 0.0033510021 | DU23: 0.0037040496 | DV23: 0.0033959091 | DW23: 0.0015315999 | DX23: 0.0024133577 | DY23: 0.0025992917 | DZ23: 0.0027958505 | EA23: 0.0025870853 | EB23: 0.0024311536 | EC23: 0.0038265249 | EE23: 0.0048229757 | EF23: 0.0041304557 | EG23: 0.0034447164 | EH23: 0.0037796664 | EI23: 0.0035673736 | EJ23: 0.0021082118 | EK23: 0.003326784 | EL23: 0.0026255031 | EM23: 0.0027437968 | EN23: 0.0025355952 | EO23: 0.0023989227 | EP23: 0.0034675776 | ER23: 0.0048862853 | ES23: 0.004144203 | ET23: 0.0033886847 | EU23: 0.0036987313 | EV23: 0.0034411577 | EW23: 0.0020553874 | EX23: 0.0033851524 | EY23: 0.0025313274 | EZ23: 0.002709726 | FA23: 0.0024911082 | FB23: 0.0023857394 | FC23: 0.0036338259 | FE23: 0.0049937175 | FF23: 0.0041906787 | FG23: 0.0034388068 | FH23: 0.0037405993 | FI23: 0.0034936282 | FJ23: 0.0020861974 | FK23: 0.0034529605 | FL23: 0.0025981396 | FM23: 0.0027559439 | FN23: 0.0025388219 | FO23: 0.0024522392 | FP23: 0.0036953113 | FR23: 0.0049108712 | FS23: 0.0042540585 | FT23: 0.0033758856 | FU23: 0.003641306 | FV23: 0.0033103382 | FW23: 0.0019877437 | FX23: 0.0032675006 | FY23: 0.00239728 | FZ23: 0.0026147941 | GA23: 0.0024324022 | GB23: 0.0022788725 | GC23: 0.0036796366 | GE23: 0.0045867914 | GF23: 0.0041462307 | GG23: 0.0032692943 | GH23: 0.0035225294 | GI23: 0.0032168978 | GJ23: 0.0019456654 | GK23: 0.0031420264 | GL23: 0.0023289621 | GM23: 0.0025613164 | GN23: 0.0023716898 | GO23: 0.002219669 | GP23: 0.003606644
C25: Acumulado12 meses | E25: 0.044240248 | F25: 0.043616759 | G25: 0.03957615 | H25: 0.036163296 | I25: 0.032649126 | J25: 0.037395515 | K25: 0.042362596 | L25: 0.047148848 | M25: 0.059811752 | N25: 0.075160604 | O25: 0.08531573 | P25: {=PRODUCT(1+E23:P23)-1} -> 0.092965627 | R25: {=PRODUCT(1+F23:R23)-1} -> 0.10505523 | S25: {=PRODUCT(1+G23:S23)-1} -> 0.12486106 | T25: {=PRODUCT(1+H23:T23)-1} -> 0.14279785 | U25: {=PRODUCT(1+I23:U23)-1} -> 0.15420416 | V25: {=PRODUCT(1+J23:V23)-1} -> 0.1799661 | W25: {=PRODUCT(1+K23:W23)-1} -> 0.18536216 | X25: {=PRODUCT(1+L23:X23)-1} -> 0.19027068 | Y25: {=PRODUCT(1+M23:Y23)-1} -> 0.19272987 | ... AB25: {=PRODUCT(1+P23:AB23)-1} -> 0.17802317 | AC25: {=PRODUCT(1+R23:AC23)-1} -> 0.16670024 | AE25: {=PRODUCT(1+S23:AE23)-1} -> 0.16222739 | AF25: {=PRODUCT(1+T23:AF23)-1} -> 0.15370238 | AG25: {=PRODUCT(1+U23:AG23)-1} -> 0.14804092 | AH25: {=PRODUCT(1+V23:AH23)-1} -> 0.14575066 | AI25: {=PRODUCT(1+W23:AI23)-1} -> 0.13016942 | AJ25: {=PRODUCT(1+X23:AJ23)-1} -> 0.12808042 | AK25: {=PRODUCT(1+Y23:AK23)-1} -> 0.11481688 | AL25: {=PRODUCT(1+Z23:AL23)-1} -> 0.10415076 | ... AO25: {=PRODUCT(1+AC23:AO23)-1} -> 0.069121873 | AP25: {=PRODUCT(1+AE23:AP23)-1} -> 0.067311041 | AR25: {=PRODUCT(1+AF23:AR23)-1} -> 0.060332688 | AS25: {=PRODUCT(1+AG23:AS23)-1} -> 0.049442291 | AT25: {=PRODUCT(1+AH23:AT23)-1} -> 0.038137851 | AU25: {=PRODUCT(1+AI23:AU23)-1} -> 0.029717529 | AV25: {=PRODUCT(1+AJ23:AV23)-1} -> 0.02132681 | AW25: {=PRODUCT(1+AK23:AW23)-1} -> 0.0090156586 | AX25: {=PRODUCT(1+AL23:AX23)-1} -> 0.0072098625 | AY25: {=PRODUCT(1+AM23:AY23)-1} -> 0.0095408524 | ... BB25: {=PRODUCT(1+AP23:BB23)-1} -> 0.018333847 | BC25: {=PRODUCT(1+AR23:BC23)-1} -> 0.021441174 | BE25: {=PRODUCT(1+AS23:BE23)-1} -> 0.020546001 | BF25: {=PRODUCT(1+AT23:BF23)-1} -> 0.019611538 | BG25: {=PRODUCT(1+AU23:BG23)-1} -> 0.01822911 | BH25: {=PRODUCT(1+AV23:BH23)-1} -> 0.019632596 | BI25: {=PRODUCT(1+AW23:BI23)-1} -> 0.024693172 | BJ25: {=PRODUCT(1+AX23:BJ23)-1} -> 0.032688788 | BK25: {=PRODUCT(1+AY23:BK23)-1} -> 0.040057895 | BL25: {=PRODUCT(1+AZ23:BL23)-1} -> 0.040232197 | ... BO25: {=PRODUCT(1+BC23:BO23)-1} -> 0.048554957 | BP25: =ANUAL!M18 -> 0.046367104 | BR25: {=PRODUCT(1+BF23:BR23)-1} -> 0.044913743 | BS25: {=PRODUCT(1+BG23:BS23)-1} -> 0.051954853 | BT25: {=PRODUCT(1+BH23:BT23)-1} -> 0.054052559 | BU25: {=PRODUCT(1+BI23:BU23)-1} -> 0.055082253 | BV25: {=PRODUCT(1+BJ23:BV23)-1} -> 0.052508071 | BW25: {=PRODUCT(1+BK23:BW23)-1} -> 0.0494359 | BX25: {=PRODUCT(1+BL23:BX23)-1} -> 0.048571152 | BY25: {=PRODUCT(1+BM23:BY23)-1} -> 0.047649549 | ... CB25: {=PRODUCT(1+BP23:CB23)-1} -> 0.037924726 | CC25: =ANUAL!O18 -> 0.035216579 | CE25: {=PRODUCT(1+BS23:CE23)-1} -> 0.03729742 | CF25: {=PRODUCT(1+BT23:CF23)-1} -> 0.030888161 | CG25: {=PRODUCT(1+BU23:CG23)-1} -> 0.031669255 | CH25: {=PRODUCT(1+BV23:CH23)-1} -> 0.041316716 | CI25: {=PRODUCT(1+BW23:CI23)-1} -> 0.048294106 | CJ25: {=PRODUCT(1+BX23:CJ23)-1} -> 0.048480579 | CK25: {=PRODUCT(1+BY23:CK23)-1} -> 0.044019206 | CL25: {=PRODUCT(1+BZ23:CL23)-1} -> 0.039720167 | ... CP25: {=PRODUCT(1+CD23:CP23)-1} -> 0.053786754 | CR25: {=PRODUCT(1+CF23:CR23)-1} -> 0.055635702 | CS25: {=PRODUCT(1+CG23:CS23)-1} -> 0.057942166 | CT25: {=PRODUCT(1+CH23:CT23)-1} -> 0.057781997 | CU25: {=PRODUCT(1+CI23:CU23)-1} -> 0.048304676 | CV25: {=PRODUCT(1+CJ23:CV23)-1} -> 0.042835583 | CW25: {=PRODUCT(1+CK23:CW23)-1} -> 0.043815664 | CX25: {=PRODUCT(1+CL23:CX23)-1} -> 0.047109505 | CY25: {=PRODUCT(1+CM23:CY23)-1} -> 0.05343218 | ... DC25: {=PRODUCT(1+CQ23:DC23)-1} -> 0.043017668 | DE25: {=PRODUCT(1+CS23:DE23)-1} -> 0.042489203 | DF25: {=PRODUCT(1+CT23:DF23)-1} -> 0.041374595 | DG25: {=PRODUCT(1+CU23:DG23)-1} -> 0.040053353 | DH25: {=PRODUCT(1+CV23:DH23)-1} -> 0.03937396 | DI25: {=PRODUCT(1+CW23:DI23)-1} -> 0.039521414 | DJ25: {=PRODUCT(1+CX23:DJ23)-1} -> 0.039677244 | DK25: {=PRODUCT(1+CY23:DK23)-1} -> 0.038817063 | DL25: {=PRODUCT(1+CZ23:DL23)-1} -> 0.03920059 | ... DP25: {=PRODUCT(1+DD23:DP23)-1} -> 0.039289452 | DR25: {=PRODUCT(1+DF23:DR23)-1} -> 0.03894004 | DS25: {=PRODUCT(1+DG23:DS23)-1} -> 0.037845037 | DT25: {=PRODUCT(1+DH23:DT23)-1} -> 0.037750552 | DU25: {=PRODUCT(1+DI23:DU23)-1} -> 0.037750748 | DV25: {=PRODUCT(1+DJ23:DV23)-1} -> 0.037743416 | DW25: {=PRODUCT(1+DK23:DW23)-1} -> 0.037165675 | DX25: {=PRODUCT(1+DL23:DX23)-1} -> 0.037454276 | DY25: {=PRODUCT(1+DM23:DY23)-1} -> 0.03735387 | ... EC25: {=PRODUCT(1+DQ23:EC23)-1} -> 0.038073626 | EE25: {=PRODUCT(1+DS23:EE23)-1} -> 0.038142623 | EF25: {=PRODUCT(1+DT23:EF23)-1} -> 0.038239002 | EG25: {=PRODUCT(1+DU23:EG23)-1} -> 0.038335975 | EH25: {=PRODUCT(1+DV23:EH23)-1} -> 0.038414201 | EI25: {=PRODUCT(1+DW23:EI23)-1} -> 0.038591649 | EJ25: {=PRODUCT(1+DX23:EJ23)-1} -> 0.039189598 | EK25: {=PRODUCT(1+DY23:EK23)-1} -> 0.040136536 | EL25: {=PRODUCT(1+DZ23:EL23)-1} -> 0.040163729 | ... EP25: {=PRODUCT(1+ED23:EP23)-1} -> 0.039650987 | ER25: {=PRODUCT(1+EF23:ER23)-1} -> 0.039716491 | ES25: {=PRODUCT(1+EG23:ES23)-1} -> 0.039730726 | ET25: {=PRODUCT(1+EH23:ET23)-1} -> 0.039672668 | EU25: {=PRODUCT(1+EI23:EU23)-1} -> 0.039588839 | EV25: {=PRODUCT(1+EJ23:EV23)-1} -> 0.039458092 | EW25: {=PRODUCT(1+EK23:EW23)-1} -> 0.039403299 | EX25: {=PRODUCT(1+EL23:EX23)-1} -> 0.039463766 | EY25: {=PRODUCT(1+EM23:EY23)-1} -> 0.03936613 | ... FC25: {=PRODUCT(1+EQ23:FC23)-1} -> 0.039443207 | FE25: {=PRODUCT(1+ES23:FE23)-1} -> 0.039554334 | FF25: {=PRODUCT(1+ET23:FF23)-1} -> 0.039602448 | FG25: {=PRODUCT(1+EU23:FG23)-1} -> 0.039654379 | FH25: {=PRODUCT(1+EV23:FH23)-1} -> 0.039697747 | FI25: {=PRODUCT(1+EW23:FI23)-1} -> 0.039752114 | FJ25: {=PRODUCT(1+EX23:FJ23)-1} -> 0.039784083 | FK25: {=PRODUCT(1+EY23:FK23)-1} -> 0.039854351 | FL25: {=PRODUCT(1+EZ23:FL23)-1} -> 0.03992365 | ... FP25: {=PRODUCT(1+FD23:FP23)-1} -> 0.040153796 | FR25: {=PRODUCT(1+FF23:FR23)-1} -> 0.040068051 | FS25: {=PRODUCT(1+FG23:FS23)-1} -> 0.040133696 | FT25: {=PRODUCT(1+FH23:FT23)-1} -> 0.040068474 | FU25: {=PRODUCT(1+FI23:FU23)-1} -> 0.039965587 | FV25: {=PRODUCT(1+FJ23:FV23)-1} -> 0.039775635 | FW25: {=PRODUCT(1+FK23:FW23)-1} -> 0.039673478 | FX25: {=PRODUCT(1+FL23:FX23)-1} -> 0.039481324 | FY25: {=PRODUCT(1+FM23:FY23)-1} -> 0.039273075 | ... GC25: {=PRODUCT(1+FQ23:GC23)-1} -> 0.038820568 | GE25: {=PRODUCT(1+FS23:GE23)-1} -> 0.038485553 | GF25: {=PRODUCT(1+FT23:GF23)-1} -> 0.03837405 | GG25: {=PRODUCT(1+FU23:GG23)-1} -> 0.03826374 | GH25: {=PRODUCT(1+FV23:GH23)-1} -> 0.038140866 | GI25: {=PRODUCT(1+FW23:GI23)-1} -> 0.038044182 | GJ25: {=PRODUCT(1+FX23:GJ23)-1} -> 0.03800059 | GK25: {=PRODUCT(1+FY23:GK23)-1} -> 0.037870771 | GL25: {=PRODUCT(1+FZ23:GL23)-1} -> 0.037800036 | ... GP25: {=PRODUCT(1+GD23:GP23)-1} -> 0.037545075
C27: INPC | E27: 0.0019 | F27: 0.0017 | G27: 0.0018 | H27: -0.0023 | I27: -0.0025 | J27: 0.003 | K27: 0.0044 | L27: 0.0036 | M27: 0.0087 | N27: 0.0089 | O27: 0.0095 | P27: 0.0146 | R27: 0.0027 | S27: 0.0082 | T27: 0.0086 | U27: 0.0038 | V27: 0.0096 | W27: 0.006 | X27: 0.0102 | Y27: 0.0088 | Z27: 0.012 | AA27: 0.0116 | AB27: 0.0084 | AC27: 0.0073 | AE27: 0.0067 | AF27: 0.01 | AG27: 0.0171 | AH27: 0.0104 | AI27: 0.0045 | AJ27: 0.0062 | AK27: -0.006 | AL27: -0.0031 | AM27: -0.0032 | AN27: 0.0047 | AO27: 0.0038 | AP27: 0.0069 | AR27: 0.0046 | AS27: 0.0077 | AT27: 0.0064 | AU27: 0.0053 | AV27: 0.0036 | AW27: -0.001 | AX27: -0.0009 | AY27: 0.002 | AZ27: 0.0011 | BA27: 0.0012 | BB27: 0.001 | BC27: 0.0055 | BE27: 0.0057 | BF27: 0.0081 | BG27: 0.0019 | BH27: 0.0037 | BI27: 0.0046 | BJ27: 0.0025 | BK27: 0.0026 | BL27: -0.0014 | BM27: 0.0048 | BN27: 0.0061 | BO27: 0.0033 | BP27: 0.0048 | BR27: 0 | BS27: 0.0148 | BT27: 0.0051 | BU27: 0.0048 | BV27: 0.0035 | BW27: 0.0023 | BX27: 0.0021 | BY27: -0.0021 | BZ27: 0.0052 | CA27: 0.0003 | CB27: 0.0003 | CC27: 0.0021 | CE27: 0.0039 | CF27: 0.0056 | CG27: 0.0091 | CH27: 0.0081 | CI27: 0.0065 | CJ27: 0.0014 | CK27: -0.0001 | CL27: -0.0032 | CM27: 0.0094455356 | CN27: 0.0022846995 | CO27: 0.0035406978 | CP27: 0.0073359772 | CR27: =(DC29+1)^(CR$10/360)-1 -> 0.0037177745 | CS27: =(DC29+1)^(CS$10/360)-1 -> 0.0037177745 | CT27: =(DC29+1)^(CT$10/360)-1 -> 0.0037177745 | CU27: =(DC29+1)^(CU$10/360)-1 -> 0.0037177745 | CV27: =(DC29+1)^(CV$10/360)-1 -> 0.0037177745 | CW27: =(DC29+1)^(CW$10/360)-1 -> 0.0037177745 | CX27: =(DC29+1)^(CX$10/360)-1 -> 0.0037177745 | CY27: =(DC29+1)^(CY$10/360)-1 -> 0.0037177745 | CZ27: =(DC29+1)^(CZ$10/360)-1 -> 0.0037177745 | DA27: =(DC29+1)^(DA$10/360)-1 -> 0.0037177745 | DB27: =(DC29+1)^(DB$10/360)-1 -> 0.0037177745 | DC27: =(DC29+1)^(DC$10/360)-1 -> 0.0037177745 | DE27: =(DP29+1)^(DE$10/360)-1 -> 0.0033327539 | DF27: =(DP29+1)^(DF$10/360)-1 -> 0.0033327539 | DG27: =(DP29+1)^(DG$10/360)-1 -> 0.0033327539 | DH27: =(DP29+1)^(DH$10/360)-1 -> 0.0033327539 | DI27: =(DP29+1)^(DI$10/360)-1 -> 0.0033327539 | DJ27: =(DP29+1)^(DJ$10/360)-1 -> 0.0033327539 | DK27: =(DP29+1)^(DK$10/360)-1 -> 0.0033327539 | DL27: =(DP29+1)^(DL$10/360)-1 -> 0.0033327539 | DM27: =(DP29+1)^(DM$10/360)-1 -> 0.0033327539 | DN27: =(DP29+1)^(DN$10/360)-1 -> 0.0033327539 | DO27: =(DP29+1)^(DO$10/360)-1 -> 0.0033327539 | DP27: =(DP29+1)^(DP$10/360)-1 -> 0.0033327539 | DR27: =($EC$29+1)^(DR$10/360)-1 -> 0.0030826235 | DS27: =($EC$29+1)^(DS$10/360)-1 -> 0.0030826235 | DT27: =($EC$29+1)^(DT$10/360)-1 -> 0.0030826235 | DU27: =($EC$29+1)^(DU$10/360)-1 -> 0.0030826235 | DV27: =($EC$29+1)^(DV$10/360)-1 -> 0.0030826235 | DW27: =($EC$29+1)^(DW$10/360)-1 -> 0.0030826235 | DX27: =($EC$29+1)^(DX$10/360)-1 -> 0.0030826235 | DY27: =($EC$29+1)^(DY$10/360)-1 -> 0.0030826235 | ... EC27: =($EC$29+1)^(EC$10/360)-1 -> 0.0030826235 | EE27: =($EP$29+1)^(EE$10/360)-1 -> 0.0029575817 | EF27: =($EP$29+1)^(EF$10/360)-1 -> 0.0029575817 | EG27: =($EP$29+1)^(EG$10/360)-1 -> 0.0029575817 | EH27: =($EP$29+1)^(EH$10/360)-1 -> 0.0029575817 | EI27: =($EP$29+1)^(EI$10/360)-1 -> 0.0029575817 | EJ27: =($EP$29+1)^(EJ$10/360)-1 -> 0.0029575817 | EK27: =($EP$29+1)^(EK$10/360)-1 -> 0.0029575817 | EL27: =($EP$29+1)^(EL$10/360)-1 -> 0.0029575817 | ... EP27: =($EP$29+1)^(EP$10/360)-1 -> 0.0029575817 | ER27: =($FC$29+1)^(ER$10/360)-1 -> 0.0028603107 | ES27: =($FC$29+1)^(ES$10/360)-1 -> 0.0028603107 | ET27: =($FC$29+1)^(ET$10/360)-1 -> 0.0028603107 | EU27: =($FC$29+1)^(EU$10/360)-1 -> 0.0028603107 | EV27: =($FC$29+1)^(EV$10/360)-1 -> 0.0028603107 | EW27: =($FC$29+1)^(EW$10/360)-1 -> 0.0028603107 | EX27: =($FC$29+1)^(EX$10/360)-1 -> 0.0028603107 | EY27: =($FC$29+1)^(EY$10/360)-1 -> 0.0028603107 | ... FC27: =($FC$29+1)^(FC$10/360)-1 -> 0.0028603107 | FE27: =($FP$29+1)^(FE$10/360)-1 -> 0.0028523741 | FF27: =($FP$29+1)^(FF$10/360)-1 -> 0.0028523741 | FG27: =($FP$29+1)^(FG$10/360)-1 -> 0.0028523741 | FH27: =($FP$29+1)^(FH$10/360)-1 -> 0.0028523741 | FI27: =($FP$29+1)^(FI$10/360)-1 -> 0.0028523741 | FJ27: =($FP$29+1)^(FJ$10/360)-1 -> 0.0028523741 | FK27: =($FP$29+1)^(FK$10/360)-1 -> 0.0028523741 | FL27: =($FP$29+1)^(FL$10/360)-1 -> 0.0028523741 | ... FP27: =($FP$29+1)^(FP$10/360)-1 -> 0.0028523741 | FR27: =($GC$29+1)^(FR$10/360)-1 -> 0.0027629034 | FS27: =($GC$29+1)^(FS$10/360)-1 -> 0.0027629034 | FT27: =($GC$29+1)^(FT$10/360)-1 -> 0.0027629034 | FU27: =($GC$29+1)^(FU$10/360)-1 -> 0.0027629034 | FV27: =($GC$29+1)^(FV$10/360)-1 -> 0.0027629034 | FW27: =($GC$29+1)^(FW$10/360)-1 -> 0.0027629034 | FX27: =($GC$29+1)^(FX$10/360)-1 -> 0.0027629034 | FY27: =($GC$29+1)^(FY$10/360)-1 -> 0.0027629034 | ... GC27: =($GC$29+1)^(GC$10/360)-1 -> 0.0027629034 | GE27: =($GP$29+1)^(GE$10/360)-1 -> 0.0027629034 | GF27: =($GP$29+1)^(GF$10/360)-1 -> 0.0027629034 | GG27: =($GP$29+1)^(GG$10/360)-1 -> 0.0027629034 | GH27: =($GP$29+1)^(GH$10/360)-1 -> 0.0027629034 | GI27: =($GP$29+1)^(GI$10/360)-1 -> 0.0027629034 | GJ27: =($GP$29+1)^(GJ$10/360)-1 -> 0.0027629034 | GK27: =($GP$29+1)^(GK$10/360)-1 -> 0.0027629034 | GL27: =($GP$29+1)^(GL$10/360)-1 -> 0.0027629034 | ... GP27: =($GP$29+1)^(GP$10/360)-1 -> 0.0027629034
C29: Acumulado12 meses | E29: 0.043046071 | F29: 0.039207529 | G29: 0.033123055 | H29: 0.024599276 | I29: 0.020507017 | J29: 0.023466192 | K29: 0.0269425 | L29: 0.029404208 | M29: 0.038879465 | N29: 0.047706409 | O29: 0.051978934 | P29: {=PRODUCT(1+E27:P27)-1} -> 0.054473253 | R29: {=PRODUCT(1+F27:R27)-1} -> 0.055315232 | S29: {=PRODUCT(1+G27:S27)-1} -> 0.062163139 | T29: {=PRODUCT(1+H27:T27)-1} -> 0.069372871 | U29: {=PRODUCT(1+I27:U27)-1} -> 0.075911083 | V29: {=PRODUCT(1+J27:V27)-1} -> 0.088962235 | W29: {=PRODUCT(1+K27:W27)-1} -> 0.092219351 | X29: {=PRODUCT(1+L27:X27)-1} -> 0.098526472 | Y29: {=PRODUCT(1+M27:Y27)-1} -> 0.10421832 | ... AB29: {=PRODUCT(1+P27:AB27)-1} -> 0.10958519 | AC29: {=PRODUCT(1+R27:AC27)-1} -> 0.10160178 | AE29: {=PRODUCT(1+S27:AE27)-1} -> 0.10599632 | AF29: {=PRODUCT(1+T27:AF27)-1} -> 0.10797092 | AG29: {=PRODUCT(1+U27:AG27)-1} -> 0.11730837 | AH29: {=PRODUCT(1+V27:AH27)-1} -> 0.12465469 | AI29: {=PRODUCT(1+W27:AI27)-1} -> 0.11897349 | AJ29: {=PRODUCT(1+X27:AJ27)-1} -> 0.11919595 | AK29: {=PRODUCT(1+Y27:AK27)-1} -> 0.10124804 | AL29: {=PRODUCT(1+Z27:AL27)-1} -> 0.08825751 | ... AO29: {=PRODUCT(1+AC27:AO27)-1} -> 0.059744389 | AP29: {=PRODUCT(1+AE27:AP27)-1} -> 0.059323563 | AR29: {=PRODUCT(1+AF27:AR27)-1} -> 0.057113789 | AS29: {=PRODUCT(1+AG27:AS27)-1} -> 0.0547065 | AT29: {=PRODUCT(1+AH27:AT27)-1} -> 0.043610876 | AU29: {=PRODUCT(1+AI27:AU27)-1} -> 0.038343243 | AV29: {=PRODUCT(1+AJ27:AV27)-1} -> 0.037412921 | AW29: {=PRODUCT(1+AK27:AW27)-1} -> 0.029989573 | AX29: {=PRODUCT(1+AL27:AX27)-1} -> 0.035274227 | AY29: {=PRODUCT(1+AM27:AY27)-1} -> 0.040570545 | ... BB29: {=PRODUCT(1+AP27:BB27)-1} -> 0.038513831 | BC29: {=PRODUCT(1+AR27:BC27)-1} -> 0.037069875 | BE29: {=PRODUCT(1+AS27:BE27)-1} -> 0.038205429 | BF29: {=PRODUCT(1+AT27:BF27)-1} -> 0.038617538 | BG29: {=PRODUCT(1+AU27:BG27)-1} -> 0.033973481 | BH29: {=PRODUCT(1+AV27:BH27)-1} -> 0.032327845 | BI29: {=PRODUCT(1+AW27:BI27)-1} -> 0.03335647 | BJ29: {=PRODUCT(1+AX27:BJ27)-1} -> 0.036976838 | BK29: {=PRODUCT(1+AY27:BK27)-1} -> 0.040609526 | BL29: {=PRODUCT(1+AZ27:BL27)-1} -> 0.037078516 | ... BO29: {=PRODUCT(1+BC27:BO27)-1} -> 0.048409253 | BP29: =ANUAL!M20 -> 0.047679381 | BR29: {=PRODUCT(1+BF27:BR27)-1} -> 0.041741455 | BS29: {=PRODUCT(1+BG27:BS27)-1} -> 0.048665041 | BT29: {=PRODUCT(1+BH27:BT27)-1} -> 0.052014406 | BU29: {=PRODUCT(1+BI27:BU27)-1} -> 0.053167356 | BV29: {=PRODUCT(1+BJ27:BV27)-1} -> 0.052014176 | BW29: {=PRODUCT(1+BK27:BW27)-1} -> 0.051804298 | BX29: {=PRODUCT(1+BL27:BX27)-1} -> 0.05127976 | BY29: {=PRODUCT(1+BM27:BY27)-1} -> 0.050542832 | ... CB29: {=PRODUCT(1+BP27:CB27)-1} -> 0.041778029 | CC29: =ANUAL!$O$20 -> 0.038978665 | CE29: {=PRODUCT(1+BS27:CE27)-1} -> 0.043030682 | CF29: {=PRODUCT(1+BT27:CF27)-1} -> 0.033574747 | CG29: {=PRODUCT(1+BU27:CG27)-1} -> 0.037688068 | CH29: {=PRODUCT(1+BV27:CH27)-1} -> 0.04109608 | CI29: {=PRODUCT(1+BW27:CI27)-1} -> 0.044208475 | CJ29: {=PRODUCT(1+BX27:CJ27)-1} -> 0.043270844 | CK29: {=PRODUCT(1+BY27:CK27)-1} -> 0.040980458 | CL29: {=PRODUCT(1+BZ27:CL27)-1} -> 0.03983297 | ... CO29: {=PRODUCT(1+CC27:CO27)-1} -> 0.049686346 | CP29: =ANUAL!$Q$20 -> 0.055170962 | CR29: {=PRODUCT(1+CF27:CR27)-1} -> 0.05497943 | CS29: {=PRODUCT(1+CG27:CS27)-1} -> 0.053004778 | CT29: {=PRODUCT(1+CH27:CT27)-1} -> 0.047388378 | CU29: {=PRODUCT(1+CI27:CU27)-1} -> 0.042835366 | CV29: {=PRODUCT(1+CJ27:CV27)-1} -> 0.0399527 | CW29: {=PRODUCT(1+CK27:CW27)-1} -> 0.042359706 | CX29: {=PRODUCT(1+CL27:CX27)-1} -> 0.046339598 | CY29: {=PRODUCT(1+CM27:CY27)-1} -> 0.053601177 | ... DB29: {=PRODUCT(1+CP27:DB27)-1} -> 0.049305888 | DC29: =ANUAL!$S$20 -> 0.045536936 | DE29: {=PRODUCT(1+CS27:DE27)-1} -> 0.045135874 | DF29: {=PRODUCT(1+CT27:DF27)-1} -> 0.044734965 | DG29: {=PRODUCT(1+CU27:DG27)-1} -> 0.044334211 | DH29: {=PRODUCT(1+CV27:DH27)-1} -> 0.04393361 | DI29: {=PRODUCT(1+CW27:DI27)-1} -> 0.043533163 | DJ29: {=PRODUCT(1+CX27:DJ27)-1} -> 0.043132869 | DK29: {=PRODUCT(1+CY27:DK27)-1} -> 0.04273273 | DL29: {=PRODUCT(1+CZ27:DL27)-1} -> 0.042332743 | ... DO29: {=PRODUCT(1+DC27:DO27)-1} -> 0.041133704 | DP29: =ANUAL!$U$20 -> 0.040734331 | DR29: {=PRODUCT(1+DF27:DR27)-1} -> 0.040474876 | DS29: {=PRODUCT(1+DG27:DS27)-1} -> 0.040215486 | DT29: {=PRODUCT(1+DH27:DT27)-1} -> 0.039956161 | DU29: {=PRODUCT(1+DI27:DU27)-1} -> 0.0396969 | DV29: {=PRODUCT(1+DJ27:DV27)-1} -> 0.039437704 | DW29: {=PRODUCT(1+DK27:DW27)-1} -> 0.039178573 | DX29: {=PRODUCT(1+DL27:DX27)-1} -> 0.038919506 | DY29: {=PRODUCT(1+DM27:DY27)-1} -> 0.038660504 | ... EB29: {=PRODUCT(1+DP27:EB27)-1} -> 0.037883884 | EC29: =ANUAL!$W$20 -> 0.03762514 | EE29: {=PRODUCT(1+DS27:EE27)-1} -> 0.037495792 | EF29: {=PRODUCT(1+DT27:EF27)-1} -> 0.037366461 | EG29: {=PRODUCT(1+DU27:EG27)-1} -> 0.037237145 | EH29: {=PRODUCT(1+DV27:EH27)-1} -> 0.037107846 | EI29: {=PRODUCT(1+DW27:EI27)-1} -> 0.036978563 | EJ29: {=PRODUCT(1+DX27:EJ27)-1} -> 0.036849296 | EK29: {=PRODUCT(1+DY27:EK27)-1} -> 0.036720045 | EL29: {=PRODUCT(1+DZ27:EL27)-1} -> 0.03659081 | ... EO29: {=PRODUCT(1+EC27:EO27)-1} -> 0.036203202 | EP29: =ANUAL!$Y$20 -> 0.036074032 | ER29: {=PRODUCT(1+EF27:ER27)-1} -> 0.035973549 | ES29: {=PRODUCT(1+EG27:ES27)-1} -> 0.035873076 | ET29: {=PRODUCT(1+EH27:ET27)-1} -> 0.035772612 | EU29: {=PRODUCT(1+EI27:EU27)-1} -> 0.035672159 | EV29: {=PRODUCT(1+EJ27:EV27)-1} -> 0.035571715 | EW29: {=PRODUCT(1+EK27:EW27)-1} -> 0.035471281 | EX29: {=PRODUCT(1+EL27:EX27)-1} -> 0.035370856 | EY29: {=PRODUCT(1+EM27:EY27)-1} -> 0.035270442 | ... FB29: {=PRODUCT(1+EP27:FB27)-1} -> 0.034969256 | FC29: =ANUAL!$AA$20 -> 0.034868881 | FE29: {=PRODUCT(1+ES27:FE27)-1} -> 0.034860691 | FF29: {=PRODUCT(1+ET27:FF27)-1} -> 0.034852501 | FG29: {=PRODUCT(1+EU27:FG27)-1} -> 0.034844311 | FH29: {=PRODUCT(1+EV27:FH27)-1} -> 0.034836121 | FI29: {=PRODUCT(1+EW27:FI27)-1} -> 0.034827932 | FJ29: {=PRODUCT(1+EX27:FJ27)-1} -> 0.034819742 | FK29: {=PRODUCT(1+EY27:FK27)-1} -> 0.034811553 | FL29: {=PRODUCT(1+EZ27:FL27)-1} -> 0.034803363 | ... FO29: {=PRODUCT(1+FC27:FO27)-1} -> 0.034778795 | FP29: =ANUAL!$AC$20 -> 0.034770606 | FR29: {=PRODUCT(1+FF27:FR27)-1} -> 0.034678288 | FS29: {=PRODUCT(1+FG27:FS27)-1} -> 0.034585977 | FT29: {=PRODUCT(1+FH27:FT27)-1} -> 0.034493676 | FU29: {=PRODUCT(1+FI27:FU27)-1} -> 0.034401382 | FV29: {=PRODUCT(1+FJ27:FV27)-1} -> 0.034309097 | FW29: {=PRODUCT(1+FK27:FW27)-1} -> 0.034216819 | FX29: {=PRODUCT(1+FL27:FX27)-1} -> 0.034124551 | FY29: {=PRODUCT(1+FM27:FY27)-1} -> 0.03403229 | ... GB29: {=PRODUCT(1+FP27:GB27)-1} -> 0.033755557 | GC29: =ANUAL!$AE$20 -> 0.033663329 | GE29: {=PRODUCT(1+FS27:GE27)-1} -> 0.033663329 | GF29: {=PRODUCT(1+FT27:GF27)-1} -> 0.033663329 | GG29: {=PRODUCT(1+FU27:GG27)-1} -> 0.033663329 | GH29: {=PRODUCT(1+FV27:GH27)-1} -> 0.033663329 | GI29: {=PRODUCT(1+FW27:GI27)-1} -> 0.033663329 | GJ29: {=PRODUCT(1+FX27:GJ27)-1} -> 0.033663329 | GK29: {=PRODUCT(1+FY27:GK27)-1} -> 0.033663329 | GL29: {=PRODUCT(1+FZ27:GL27)-1} -> 0.033663329 | ... GO29: {=PRODUCT(1+GC27:GO27)-1} -> 0.033663329 | GP29: =ANUAL!$AG$20 -> 0.033663329
