Workbook

Sheet MENSAL
C1: Cenários
C2: Cenários
C3: Base
C4: Benigno
C5: Benigno
C6: Projeção Macroneconômica 01/10/2026
C7: Realizado
E9: 1 | F9: 1 | G9: 1 | H9: 1 | I9: 1 | J9: 1 | K9: 1 | L9: 1 | M9: 1 | N9: 1 | O9: 1 | P9: 1 | R9: 1 | S9: 1 | T9: 1 | U9: 1 | V9: 1 | W9: 1 | X9: 1 | Y9: 1 | Z9: 1 | AA9: 1 | AB9: 1 | AC9: 1 | AE9: 1 | AF9: 1 | AG9: 1 | AH9: 1 | AI9: 1 | AJ9: 1 | AK9: 1 | AL9: 1 | AM9: 1 | AN9: 1 | AO9: 1 | AP9: 1 | AR9: 1 | AS9: 1 | AT9: 1 | AU9: 1 | AV9: 1 | AW9: 1 | AX9: 1 | AY9: 1 | AZ9: 1 | BA9: 1 | BB9: 1 | BC9: 1 | BE9: 1 | BF9: 1 | BG9: 1 | BH9: 1 | BI9: 1 | BJ9: 1 | BK9: 1 | BL9: 1 | BM9: 1 | BN9: 1 | BO9: 1 | BP9: 1 | BR9: 1 | BS9: 1 | BT9: 1 | BU9: 1 | BV9: 1 | BW9: 1 | BX9: 1 | BY9: 1 | BZ9: 1 | CA9: 1 | CB9: 1 | CC9: 1 | CE9: 1 | CF9: 1 | CG9: 1 | CH9: 1 | CI9: 1 | CJ9: 1 | CK9: 1 | CL9: 1 | CM9: 1 | CN9: 1 | CO9: 1 | CP9: 1 | CR9: 1 | CS9: 1 | CT9: 1 | CU9: 1 | CV9: 1 | CW9: 1 | CX9: 1 | CY9: 1 | CZ9: 1 | DA9: 1 | DB9: 1 | DC9: 1 | DE9: 1 | DF9: 1 | DG9: 1 | DH9: 1 | DI9: 1 | DJ9: 1 | DK9: 1 | DL9: 1 | DM9: 1 | DN9: 1 | DO9: 1 | DP9: 1 | DR9: 1 | DS9: 1 | DT9: 1 | DU9: 1 | DV9: 1 | DW9: 1 | DX9: 1 | DY9: 1 | DZ9: 1 | EA9: 1 | EB9: 1 | EC9: 1 | EE9: 1 | EF9: 1 | EG9: 1 | EH9: 1 | EI9: 1 | EJ9: 1 | EK9: 1 | EL9: 1 | EM9: 1 | EN9: 1 | EO9: 1 | EP9: 1 | ER9: 1 | ES9: 1 | ET9: 1 | EU9: 1 | EV9: 1 | EW9: 1 | EX9: 1 | EY9: 1 | EZ9: 1 | FA9: 1 | FB9: 1 | FC9: 1 | FE9: 1 | FF9: 1 | FG9: 1 | FH9: 1 | FI9: 1 | FJ9: 1 | FK9: 1 | FL9: 1 | FM9: 1 | FN9: 1 | FO9: 1 | FP9: 1 | FR9: 1 | FS9: 1 | FT9: 1 | FU9: 1 | FV9: 1 | FW9: 1 | FX9: 1 | FY9: 1 | FZ9: 1 | GA9: 1 | GB9: 1 | GC9: 1 | GE9: 1 | GF9: 1 | GG9: 1 | GH9: 1 | GI9: 1 | GJ9: 1 | GK9: 1 | GL9: 1 | GM9: 1 | GN9: 1 | GO9: 1 | GP9: 1
C10: Dias corridos | E10: 30 | F10: 30 | G10: 30 | H10: 30 | I10: 30 | J10: 30 | K10: 30 | L10: 30 | M10: 30 | N10: 30 | O10: 30 | P10: 30 | R10: 30 | S10: 30 | T10: 30 | U10: 30 | V10: 30 | W10: 30 | X10: 30 | Y10: 30 | Z10: 30 | AA10: 30 | AB10: 30 | AC10: 30 | AE10: 30 | AF10: 30 | AG10: 30 | AH10: 30 | AI10: 30 | AJ10: 30 | AK10: 30 | AL10: 30 | AM10: 30 | AN10: 30 | AO10: 30 | AP10: 30 | AR10: 30 | AS10: 30 | AT10: 30 | AU10: 30 | AV10: 30 | AW10: 30 | AX10: 30 | AY10: 30 | AZ10: 30 | BA10: 30 | BB10: 30 | BC10: 30 | BE10: 30 | BF10: 30 | BG10: 30 | BH10: 30 | BI10: 30 | BJ10: 30 | BK10: 30 | BL10: 30 | BM10: 30 | BN10: 30 | BO10: 30 | BP10: 30 | BR10: 30 | BS10: 30 | BT10: 30 | BU10: 30 | BV10: 30 | BW10: 30 | BX10: 30 | BY10: 30 | BZ10: 30 | CA10: 30 | CB10: 30 | CC10: 30 | CE10: 30 | CF10: 30 | CG10: 30 | CH10: 30 | CI10: 30 | CJ10: 30 | CK10: 30 | CL10: 30 | CM10: 30 | CN10: 30 | CO10: 30 | CP10: 30 | CR10: 30 | CS10: 30 | CT10: 30 | CU10: 30 | CV10: 30 | CW10: 30 | CX10: 30 | CY10: 30 | CZ10: 30 | DA10: 30 | DB10: 30 | DC10: 30 | DE10: 30 | DF10: 30 | DG10: 30 | DH10: 30 | DI10: 30 | DJ10: 30 | DK10: 30 | DL10: 30 | DM10: 30 | DN10: 30 | DO10: 30 | DP10: 30 | DR10: 30 | DS10: 30 | DT10: 30 | DU10: 30 | DV10: 30 | DW10: 30 | DX10: 30 | DY10: 30 | DZ10: 30 | EA10: 30 | EB10: 30 | EC10: 30 | EE10: 30 | EF10: 30 | EG10: 30 | EH10: 30 | EI10: 30 | EJ10: 30 | EK10: 30 | EL10: 30 | EM10: 30 | EN10: 30 | EO10: 30 | EP10: 30 | ER10: 30 | ES10: 30 | ET10: 30 | EU10: 30 | EV10: 30 | EW10: 30 | EX10: 30 | EY10: 30 | EZ10: 30 | FA10: 30 | FB10: 30 | FC10: 30 | FE10: 30 | FF10: 30 | FG10: 30 | FH10: 30 | FI10: 30 | FJ10: 30 | FK10: 30 | FL10: 30 | FM10: 30 | FN10: 30 | FO10: 30 | FP10: 30 | FR10: 30 | FS10: 30 | FT10: 30 | FU10: 30 | FV10: 30 | FW10: 30 | FX10: 30 | FY10: 30 | FZ10: 30 | GA10: 30 | GB10: 30 | GC10: 30 | GE10: 30 | GF10: 30 | GG10: 30 | GH10: 30 | GI10: 30 | GJ10: 30 | GK10: 30 | GL10: 30 | GM10: 30 | GN10: 30 | GO10: 30 | GP10: 30
C11: Indicadores Macroeconômicos | E11: 43861 | F11: =EOMONTH(E11,1) -> 43890 | G11: =EOMONTH(F11,1) -> 43921 | H11: =EOMONTH(G11,1) -> 43951 | I11: =EOMONTH(H11,1) -> 43982 | J11: =EOMONTH(I11,1) -> 44012 | K11: =EOMONTH(J11,1) -> 44043 | L11: =EOMONTH(K11,1) -> 44074 | M11: =EOMONTH(L11,1) -> 44104 | ... P11: =EOMONTH(O11,1) -> 44196 | R11: =EOMONTH(P11,1) -> 44227 | S11: =EOMONTH(R11,1) -> 44255 | T11: =EOMONTH(S11,1) -> 44286 | U11: =EOMONTH(T11,1) -> 44316 | V11: =EOMONTH(U11,1) -> 44347 | W11: =EOMONTH(V11,1) -> 44377 | X11: =EOMONTH(W11,1) -> 44408 | Y11: =EOMONTH(X11,1) -> 44439 | Z11: =EOMONTH(Y11,1) -> 44469 | ... AC11: =EOMONTH(AB11,1) -> 44561 | AE11: =EOMONTH(AC11,1) -> 44592 | AF11: =EOMONTH(AE11,1) -> 44620 | AG11: =EOMONTH(AF11,1) -> 44651 | AH11: =EOMONTH(AG11,1) -> 44681 | AI11: =EOMONTH(AH11,1) -> 44712 | AJ11: =EOMONTH(AI11,1) -> 44742 | AK11: =EOMONTH(AJ11,1) -> 44773 | AL11: =EOMONTH(AK11,1) -> 44804 | AM11: =EOMONTH(AL11,1) -> 44834 | ... AP11: =EOMONTH(AO11,1) -> 44926 | AR11: =EOMONTH(AP11,1) -> 44957 | AS11: =EOMONTH(AR11,1) -> 44985 | AT11: =EOMONTH(AS11,1) -> 45016 | AU11: =EOMONTH(AT11,1) -> 45046 | AV11: =EOMONTH(AU11,1) -> 45077 | AW11: =EOMONTH(AV11,1) -> 45107 | AX11: =EOMONTH(AW11,1) -> 45138 | AY11: =EOMONTH(AX11,1) -> 45169 | AZ11: =EOMONTH(AY11,1) -> 45199 | ... BC11: =EOMONTH(BB11,1) -> 45291 | BE11: =EOMONTH(BC11,1) -> 45322 | BF11: =EOMONTH(BE11,1) -> 45351 | BG11: =EOMONTH(BF11,1) -> 45382 | BH11: =EOMONTH(BG11,1) -> 45412 | BI11: =EOMONTH(BH11,1) -> 45443 | BJ11: =EOMONTH(BI11,1) -> 45473 | BK11: =EOMONTH(BJ11,1) -> 45504 | BL11: =EOMONTH(BK11,1) -> 45535 | BM11: =EOMONTH(BL11,1) -> 45565 | ... BP11: =EOMONTH(BO11,1) -> 45657 | BR11: =EOMONTH(BP11,1) -> 45688 | BS11: =EOMONTH(BR11,1) -> 45716 | BT11: =EOMONTH(BS11,1) -> 45747 | BU11: =EOMONTH(BT11,1) -> 45777 | BV11: =EOMONTH(BU11,1) -> 45808 | BW11: =EOMONTH(BV11,1) -> 45838 | BX11: =EOMONTH(BW11,1) -> 45869 | BY11: =EOMONTH(BX11,1) -> 45900 | BZ11: =EOMONTH(BY11,1) -> 45930 | ... CC11: =EOMONTH(CB11,1) -> 46022 | CE11: =EOMONTH(CC11,1) -> 46053 | CF11: =EOMONTH(CE11,1) -> 46081 | CG11: =EOMONTH(CF11,1) -> 46112 | CH11: =EOMONTH(CG11,1) -> 46142 | CI11: =EOMONTH(CH11,1) -> 46173 | CJ11: =EOMONTH(CI11,1) -> 46203 | CK11: =EOMONTH(CJ11,1) -> 46234 | CL11: =EOMONTH(CK11,1) -> 46265 | CM11: =EOMONTH(CL11,1) -> 46295 | ... CP11: =EOMONTH(CO11,1) -> 46387 | CR11: =EOMONTH(CP11,1) -> 46418 | CS11: =EOMONTH(CR11,1) -> 46446 | CT11: =EOMONTH(CS11,1) -> 46477 | CU11: =EOMONTH(CT11,1) -> 46507 | CV11: =EOMONTH(CU11,1) -> 46538 | CW11: =EOMONTH(CV11,1) -> 46568 | CX11: =EOMONTH(CW11,1) -> 46599 | CY11: =EOMONTH(CX11,1) -> 46630 | CZ11: =EOMONTH(CY11,1) -> 46660 | ... DC11: =EOMONTH(DB11,1) -> 46752 | DE11: =EOMONTH(DC11,1) -> 46783 | DF11: =EOMONTH(DE11,1) -> 46812 | DG11: =EOMONTH(DF11,1) -> 46843 | DH11: =EOMONTH(DG11,1) -> 46873 | DI11: =EOMONTH(DH11,1) -> 46904 | DJ11: =EOMONTH(DI11,1) -> 46934 | DK11: =EOMONTH(DJ11,1) -> 46965 | DL11: =EOMONTH(DK11,1) -> 46996 | DM11: =EOMONTH(DL11,1) -> 47026 | ... DP11: =EOMONTH(DO11,1) -> 47118 | DR11: =EOMONTH(DP11,1) -> 47149 | DS11: =EOMONTH(DR11,1) -> 47177 | DT11: =EOMONTH(DS11,1) -> 47208 | DU11: =EOMONTH(DT11,1) -> 47238 | DV11: =EOMONTH(DU11,1) -> 47269 | DW11: =EOMONTH(DV11,1) -> 47299 | DX11: =EOMONTH(DW11,1) -> 47330 | DY11: =EOMONTH(DX11,1) -> 47361 | DZ11: =EOMONTH(DY11,1) -> 47391 | ... EC11: =EOMONTH(EB11,1) -> 47483 | EE11: =EOMONTH(EC11,1) -> 47514 | EF11: =EOMONTH(EE11,1) -> 47542 | EG11: =EOMONTH(EF11,1) -> 47573 | EH11: =EOMONTH(EG11,1) -> 47603 | EI11: =EOMONTH(EH11,1) -> 47634 | EJ11: =EOMONTH(EI11,1) -> 47664 | EK11: =EOMONTH(EJ11,1) -> 47695 | EL11: =EOMONTH(EK11,1) -> 47726 | EM11: =EOMONTH(EL11,1) -> 47756 | ... EP11: =EOMONTH(EO11,1) -> 47848 | ER11: =EOMONTH(EP11,1) -> 47879 | ES11: =EOMONTH(ER11,1) -> 47907 | ET11: =EOMONTH(ES11,1) -> 47938 | EU11: =EOMONTH(ET11,1) -> 47968 | EV11: =EOMONTH(EU11,1) -> 47999 | EW11: =EOMONTH(EV11,1) -> 48029 | EX11: =EOMONTH(EW11,1) -> 48060 | EY11: =EOMONTH(EX11,1) -> 48091 | EZ11: =EOMONTH(EY11,1) -> 48121 | ... FC11: =EOMONTH(FB11,1) -> 48213 | FE11: =EOMONTH(FC11,1) -> 48244 | FF11: =EOMONTH(FE11,1) -> 48273 | FG11: =EOMONTH(FF11,1) -> 48304 | FH11: =EOMONTH(FG11,1) -> 48334 | FI11: =EOMONTH(FH11,1) -> 48365 | FJ11: =EOMONTH(FI11,1) -> 48395 | FK11: =EOMONTH(FJ11,1) -> 48426 | FL11: =EOMONTH(FK11,1) -> 48457 | FM11: =EOMONTH(FL11,1) -> 48487 | ... FP11: =EOMONTH(FO11,1) -> 48579 | FR11: =EOMONTH(FP11,1) -> 48610 | FS11: =EOMONTH(FR11,1) -> 48638 | FT11: =EOMONTH(FS11,1) -> 48669 | FU11: =EOMONTH(FT11,1) -> 48699 | FV11: =EOMONTH(FU11,1) -> 48730 | FW11: =EOMONTH(FV11,1) -> 48760 | FX11: =EOMONTH(FW11,1) -> 48791 | FY11: =EOMONTH(FX11,1) -> 48822 | FZ11: =EOMONTH(FY11,1) -> 48852 | ... GC11: =EOMONTH(GB11,1) -> 48944 | GE11: =EOMONTH(GC11,1) -> 48975 | GF11: =EOMONTH(GE11,1) -> 49003 | GG11: =EOMONTH(GF11,1) -> 49034 | GH11: =EOMONTH(GG11,1) -> 49064 | GI11: =EOMONTH(GH11,1) -> 49095 | GJ11: =EOMONTH(GI11,1) -> 49125 | GK11: =EOMONTH(GJ11,1) -> 49156 | GL11: =EOMONTH(GK11,1) -> 49187 | GM11: =EOMONTH(GL11,1) -> 49217 | ... GP11: =EOMONTH(GO11,1) -> 49309
C13: PREÇOS
C15: IPCA (IBGE) | E15: 0.0021 | F15: 0.0025 | G15: 0.0007 | H15: -0.0031 | I15: -0.0038 | J15: 0.0026 | K15: 0.0036 | L15: 0.0024 | M15: 0.0064 | N15: 0.0086 | O15: 0.0089 | P15: 0.0135 | R15: 0.0025 | S15: 0.0086 | T15: 0.0093 | U15: 0.0031 | V15: 0.0083 | W15: 0.0053 | X15: 0.0096 | Y15: 0.0087 | Z15: 0.0116 | AA15: 0.0125 | AB15: 0.0095 | AC15: 0.0073 | AE15: 0.0054 | AF15: 0.0101 | AG15: 0.0162 | AH15: 0.0106 | AI15: 0.0047 | AJ15: 0.0067 | AK15: -0.0068 | AL15: -0.0036 | AM15: -0.0029 | AN15: 0.0059 | AO15: 0.0041 | AP15: 0.0062 | AR15: 0.0053 | AS15: 0.0084 | AT15: 0.0071 | AU15: 0.0061 | AV15: 0.0023 | AW15: -0.0008 | AX15: 0.0012 | AY15: 0.0023 | AZ15: 0.0026 | BA15: 0.0024 | BB15: 0.0028 | BC15: 0.0056 | BE15: 0.0042 | BF15: 0.0083 | BG15: 0.0016 | BH15: 0.0038 | BI15: 0.0046 | BJ15: 0.0021 | BK15: 0.0038 | BL15: -0.0002 | BM15: 0.0044 | BN15: 0.0056 | BO15: 0.0039 | BP15: 0.0052 | BR15: 0.0016 | BS15: 0.0131 | BT15: 0.0056 | BU15: 0.0043 | BV15: 0.0026 | BW15: 0.0024 | BX15: 0.0026 | BY15: -0.0011 | BZ15: 0.0048 | CA15: 0.0009 | CB15: 0.0018 | CC15: 0.0033 | CE15: 0.0033 | CF15: 0.007 | CG15: 0.0088 | CH15: 0.0067 | CI15: 0.0058 | CJ15: 0.0016 | CK15: 0.0007 | CL15: -0.0032 | CM15: 0.008 | CN15: 0.0023587021 | CO15: 0.0036103142 | CP15: 0.0066284881 | CR15: =(DC17+1)^(CR$10/360)-1 -> 0.0036875729 | CS15: =(DC17+1)^(CS$10/360)-1 -> 0.0036875729 | CT15: =(DC17+1)^(CT$10/360)-1 -> 0.0036875729 | CU15: =(DC17+1)^(CU$10/360)-1 -> 0.0036875729 | CV15: =(DC17+1)^(CV$10/360)-1 -> 0.0036875729 | CW15: =(DC17+1)^(CW$10/360)-1 -> 0.0036875729 | CX15: =(DC17+1)^(CX$10/360)-1 -> 0.0036875729 | CY15: =(DC17+1)^(CY$10/360)-1 -> 0.0036875729 | CZ15: =(DC17+1)^(CZ$10/360)-1 -> 0.0036875729 | DA15: =(DC17+1)^(DA$10/360)-1 -> 0.0036875729 | DB15: =(DC17+1)^(DB$10/360)-1 -> 0.0036875729 | DC15: =(DC17+1)^(DC$10/360)-1 -> 0.0036875729 | DE15: =(DP17+1)^(DE$10/360)-1 -> 0.0032744142 | DF15: =(DP17+1)^(DF$10/360)-1 -> 0.0032744142 | DG15: =(DP17+1)^(DG$10/360)-1 -> 0.0032744142 | DH15: =(DP17+1)^(DH$10/360)-1 -> 0.0032744142 | DI15: =(DP17+1)^(DI$10/360)-1 -> 0.0032744142 | DJ15: =(DP17+1)^(DJ$10/360)-1 -> 0.0032744142 | DK15: =(DP17+1)^(DK$10/360)-1 -> 0.0032744142 | DL15: =(DP17+1)^(DL$10/360)-1 -> 0.0032744142 | DM15: =(DP17+1)^(DM$10/360)-1 -> 0.0032744142 | DN15: =(DP17+1)^(DN$10/360)-1 -> 0.0032744142 | DO15: =(DP17+1)^(DO$10/360)-1 -> 0.0032744142 | DP15: =(DP17+1)^(DP$10/360)-1 -> 0.0032744142 | DR15: =($EC$17+1)^(DR$10/360)-1 -> 0.0030490431 | DS15: =($EC$17+1)^(DS$10/360)-1 -> 0.0030490431 | DT15: =($EC$17+1)^(DT$10/360)-1 -> 0.0030490431 | DU15: =($EC$17+1)^(DU$10/360)-1 -> 0.0030490431 | DV15: =($EC$17+1)^(DV$10/360)-1 -> 0.0030490431 | DW15: =($EC$17+1)^(DW$10/360)-1 -> 0.0030490431 | DX15: =($EC$17+1)^(DX$10/360)-1 -> 0.0030490431 | DY15: =($EC$17+1)^(DY$10/360)-1 -> 0.0030490431 | ... EC15: =($EC$17+1)^(EC$10/360)-1 -> 0.0030490431 | EE15: =($EP$17+1)^(EE$10/360)-1 -> 0.0029356849 | EF15: =($EP$17+1)^(EF$10/360)-1 -> 0.0029356849 | EG15: =($EP$17+1)^(EG$10/360)-1 -> 0.0029356849 | EH15: =($EP$17+1)^(EH$10/360)-1 -> 0.0029356849 | EI15: =($EP$17+1)^(EI$10/360)-1 -> 0.0029356849 | EJ15: =($EP$17+1)^(EJ$10/360)-1 -> 0.0029356849 | EK15: =($EP$17+1)^(EK$10/360)-1 -> 0.0029356849 | EL15: =($EP$17+1)^(EL$10/360)-1 -> 0.0029356849 | ... EP15: =($EP$17+1)^(EP$10/360)-1 -> 0.0029356849 | ER15: =($FC$17+1)^(ER$10/360)-1 -> 0.0028476468 | ES15: =($FC$17+1)^(ES$10/360)-1 -> 0.0028476468 | ET15: =($FC$17+1)^(ET$10/360)-1 -> 0.0028476468 | EU15: =($FC$17+1)^(EU$10/360)-1 -> 0.0028476468 | EV15: =($FC$17+1)^(EV$10/360)-1 -> 0.0028476468 | EW15: =($FC$17+1)^(EW$10/360)-1 -> 0.0028476468 | EX15: =($FC$17+1)^(EX$10/360)-1 -> 0.0028476468 | EY15: =($FC$17+1)^(EY$10/360)-1 -> 0.0028476468 | ... FC15: =($FC$17+1)^(FC$10/360)-1 -> 0.0028476468 | FE15: =($FP$17+1)^(FE$10/360)-1 -> 0.0028447827 | FF15: =($FP$17+1)^(FF$10/360)-1 -> 0.0028447827 | FG15: =($FP$17+1)^(FG$10/360)-1 -> 0.0028447827 | FH15: =($FP$17+1)^(FH$10/360)-1 -> 0.0028447827 | FI15: =($FP$17+1)^(FI$10/360)-1 -> 0.0028447827 | FJ15: =($FP$17+1)^(FJ$10/360)-1 -> 0.0028447827 | FK15: =($FP$17+1)^(FK$10/360)-1 -> 0.0028447827 | FL15: =($FP$17+1)^(FL$10/360)-1 -> 0.0028447827 | ... FP15: =($FP$17+1)^(FP$10/360)-1 -> 0.0028447827 | FR15: =($GC$17+1)^(FR$10/360)-1 -> 0.0027585882 | FS15: =($GC$17+1)^(FS$10/360)-1 -> 0.0027585882 | FT15: =($GC$17+1)^(FT$10/360)-1 -> 0.0027585882 | FU15: =($GC$17+1)^(FU$10/360)-1 -> 0.0027585882 | FV15: =($GC$17+1)^(FV$10/360)-1 -> 0.0027585882 | FW15: =($GC$17+1)^(FW$10/360)-1 -> 0.0027585882 | FX15: =($GC$17+1)^(FX$10/360)-1 -> 0.0027585882 | FY15: =($GC$17+1)^(FY$10/360)-1 -> 0.0027585882 | ... GC15: =($GC$17+1)^(GC$10/360)-1 -> 0.0027585882 | GE15: =($GP$17+1)^(GE$10/360)-1 -> 0.0027585882 | GF15: =($GP$17+1)^(GF$10/360)-1 -> 0.0027585882 | GG15: =($GP$17+1)^(GG$10/360)-1 -> 0.0027585882 | GH15: =($GP$17+1)^(GH$10/360)-1 -> 0.0027585882 | GI15: =($GP$17+1)^(GI$10/360)-1 -> 0.0027585882 | GJ15: =($GP$17+1)^(GJ$10/360)-1 -> 0.0027585882 | GK15: =($GP$17+1)^(GK$10/360)-1 -> 0.0027585882 | GL15: =($GP$17+1)^(GL$10/360)-1 -> 0.0027585882 | ... GP15: =($GP$17+1)^(GP$10/360)-1 -> 0.0027585882
C17: Acumulado12 meses | E17: 0.041916693 | F17: 0.040049273 | G17: 0.033029586 | H17: 0.023990448 | I17: 0.018774877 | J17: 0.02132156 | K17: 0.023054514 | L17: 0.024383023 | M17: 0.031351615 | N17: 0.039182057 | O17: 0.043110912 | P17: {=PRODUCT(1+E15:P15)-1} -> 0.045173415 | R17: {=PRODUCT(1+F15:R15)-1} -> 0.045590608 | S17: {=PRODUCT(1+G15:S15)-1} -> 0.051952805 | T17: {=PRODUCT(1+H15:T15)-1} -> 0.060993271 | U17: {=PRODUCT(1+I15:U15)-1} -> 0.067591885 | V17: {=PRODUCT(1+J15:V15)-1} -> 0.080559022 | W17: {=PRODUCT(1+K15:W15)-1} -> 0.083468966 | X17: {=PRODUCT(1+L15:X15)-1} -> 0.089946461 | Y17: {=PRODUCT(1+M15:Y15)-1} -> 0.096796683 | ... AB17: {=PRODUCT(1+P15:AB15)-1} -> 0.10738488 | AC17: {=PRODUCT(1+R15:AC15)-1} -> 0.10061055 | AE17: {=PRODUCT(1+S15:AE15)-1} -> 0.10379436 | AF17: {=PRODUCT(1+T15:AF15)-1} -> 0.10543593 | AG17: {=PRODUCT(1+U15:AG15)-1} -> 0.11299316 | AH17: {=PRODUCT(1+V15:AH15)-1} -> 0.12131481 | AI17: {=PRODUCT(1+W15:AI15)-1} -> 0.11731131 | AJ17: {=PRODUCT(1+X15:AJ15)-1} -> 0.1188673 | AK17: {=PRODUCT(1+Y15:AK15)-1} -> 0.10069235 | AL17: {=PRODUCT(1+Z15:AL15)-1} -> 0.087270605 | ... AO17: {=PRODUCT(1+AC15:AO15)-1} -> 0.059004883 | AP17: {=PRODUCT(1+AE15:AP15)-1} -> 0.05784842 | AR17: {=PRODUCT(1+AF15:AR15)-1} -> 0.057743203 | AS17: {=PRODUCT(1+AG15:AS15)-1} -> 0.055963019 | AT17: {=PRODUCT(1+AH15:AT15)-1} -> 0.046506944 | AU17: {=PRODUCT(1+AI15:AU15)-1} -> 0.041847058 | AV17: {=PRODUCT(1+AJ15:AV15)-1} -> 0.039358322 | AW17: {=PRODUCT(1+AK15:AW15)-1} -> 0.031615015 | AX17: {=PRODUCT(1+AL15:AX15)-1} -> 0.039924439 | AY17: {=PRODUCT(1+AM15:AY15)-1} -> 0.046082161 | ... BB17: {=PRODUCT(1+AP15:BB15)-1} -> 0.04683537 | BC17: {=PRODUCT(1+AR15:BC15)-1} -> 0.046211139 | BE17: {=PRODUCT(1+AS15:BE15)-1} -> 0.045066374 | BF17: {=PRODUCT(1+AT15:BF15)-1} -> 0.044962738 | BG17: {=PRODUCT(1+AU15:BG15)-1} -> 0.039255961 | BH17: {=PRODUCT(1+AV15:BH15)-1} -> 0.036880165 | BI17: {=PRODUCT(1+AW15:BI15)-1} -> 0.039259517 | BJ17: {=PRODUCT(1+AX15:BJ15)-1} -> 0.042275782 | BK17: {=PRODUCT(1+AY15:BK15)-1} -> 0.044982451 | BL17: {=PRODUCT(1+AZ15:BL15)-1} -> 0.04237599 | ... BO17: {=PRODUCT(1+BC15:BO15)-1} -> 0.048730114 | BP17: =ANUAL!M14 -> 0.048312958 | BR17: {=PRODUCT(1+BF15:BR15)-1} -> 0.045598744 | BS17: {=PRODUCT(1+BG15:BS15)-1} -> 0.050576304 | BT17: {=PRODUCT(1+BH15:BT15)-1} -> 0.054771896 | BU17: {=PRODUCT(1+BI15:BU15)-1} -> 0.055297286 | BV17: {=PRODUCT(1+BJ15:BV15)-1} -> 0.053196356 | BW17: {=PRODUCT(1+BK15:BW15)-1} -> 0.053511652 | BX17: {=PRODUCT(1+BL15:BX15)-1} -> 0.052252224 | BY17: {=PRODUCT(1+BM15:BY15)-1} -> 0.051305008 | ... CB17: {=PRODUCT(1+BP15:CB15)-1} -> 0.044618356 | CC17: =ANUAL!$O14 -> 0.042643849 | CE17: {=PRODUCT(1+BS15:CE15)-1} -> 0.044413512 | CF17: {=PRODUCT(1+BT15:CF15)-1} -> 0.03812497 | CG17: {=PRODUCT(1+BU15:CG15)-1} -> 0.04142847 | CH17: {=PRODUCT(1+BV15:CH15)-1} -> 0.043917197 | CI17: {=PRODUCT(1+BW15:CI15)-1} -> 0.047249069 | CJ17: {=PRODUCT(1+BX15:CJ15)-1} -> 0.046413276 | CK17: {=PRODUCT(1+BY15:CK15)-1} -> 0.044430246 | CL17: {=PRODUCT(1+BZ15:CL15)-1} -> 0.042234527 | ... CO17: {=PRODUCT(1+CC15:CO15)-1} -> 0.048969659 | CP17: =ANUAL!$Q14 -> 0.052449658 | CR17: {=PRODUCT(1+CF15:CR15)-1} -> 0.052856218 | CS17: {=PRODUCT(1+CG15:CS15)-1} -> 0.049392951 | CT17: {=PRODUCT(1+CH15:CT15)-1} -> 0.044074806 | CU17: {=PRODUCT(1+CI15:CU15)-1} -> 0.040950539 | CV17: {=PRODUCT(1+CJ15:CV15)-1} -> 0.038764287 | CW17: {=PRODUCT(1+CK15:CW15)-1} -> 0.040929319 | CX17: {=PRODUCT(1+CL15:CX15)-1} -> 0.044036996 | CY17: {=PRODUCT(1+CM15:CY15)-1} -> 0.051250962 | ... DB17: {=PRODUCT(1+CP15:DB15)-1} -> 0.048221912 | DC17: =ANUAL!$S14 -> 0.045159479 | DE17: {=PRODUCT(1+CS15:DE15)-1} -> 0.044729249 | DF17: {=PRODUCT(1+CT15:DF15)-1} -> 0.044299196 | DG17: {=PRODUCT(1+CU15:DG15)-1} -> 0.04386932 | DH17: {=PRODUCT(1+CV15:DH15)-1} -> 0.04343962 | DI17: {=PRODUCT(1+CW15:DI15)-1} -> 0.043010098 | DJ17: {=PRODUCT(1+CX15:DJ15)-1} -> 0.042580753 | DK17: {=PRODUCT(1+CY15:DK15)-1} -> 0.042151584 | DL17: {=PRODUCT(1+CZ15:DL15)-1} -> 0.041722592 | ... DO17: {=PRODUCT(1+DC15:DO15)-1} -> 0.040436675 | DP17: =ANUAL!$U14 -> 0.040008389 | DR17: {=PRODUCT(1+DF15:DR15)-1} -> 0.039774766 | DS17: {=PRODUCT(1+DG15:DS15)-1} -> 0.039541196 | DT17: {=PRODUCT(1+DH15:DT15)-1} -> 0.039307678 | DU17: {=PRODUCT(1+DI15:DU15)-1} -> 0.039074212 | DV17: {=PRODUCT(1+DJ15:DV15)-1} -> 0.038840799 | DW17: {=PRODUCT(1+DK15:DW15)-1} -> 0.038607439 | DX17: {=PRODUCT(1+DL15:DX15)-1} -> 0.038374131 | DY17: {=PRODUCT(1+DM15:DY15)-1} -> 0.038140875 | ... EB17: {=PRODUCT(1+DP15:EB15)-1} -> 0.037441423 | EC17: =ANUAL!$W14 -> 0.037208376 | EE17: {=PRODUCT(1+DS15:EE15)-1} -> 0.037091158 | EF17: {=PRODUCT(1+DT15:EF15)-1} -> 0.036973952 | EG17: {=PRODUCT(1+DU15:EG15)-1} -> 0.03685676 | EH17: {=PRODUCT(1+DV15:EH15)-1} -> 0.036739581 | EI17: {=PRODUCT(1+DW15:EI15)-1} -> 0.036622415 | EJ17: {=PRODUCT(1+DX15:EJ15)-1} -> 0.036505263 | EK17: {=PRODUCT(1+DY15:EK15)-1} -> 0.036388123 | EL17: {=PRODUCT(1+DZ15:EL15)-1} -> 0.036270997 | ... EO17: {=PRODUCT(1+EC15:EO15)-1} -> 0.035919699 | EP17: =ANUAL!$Y14 -> 0.035802626 | ER17: {=PRODUCT(1+EF15:ER15)-1} -> 0.035711703 | ES17: {=PRODUCT(1+EG15:ES15)-1} -> 0.035620787 | ET17: {=PRODUCT(1+EH15:ET15)-1} -> 0.03552988 | EU17: {=PRODUCT(1+EI15:EU15)-1} -> 0.035438981 | EV17: {=PRODUCT(1+EJ15:EV15)-1} -> 0.03534809 | EW17: {=PRODUCT(1+EK15:EW15)-1} -> 0.035257207 | EX17: {=PRODUCT(1+EL15:EX15)-1} -> 0.035166332 | EY17: {=PRODUCT(1+EM15:EY15)-1} -> 0.035075464 | ... FB17: {=PRODUCT(1+EP15:FB15)-1} -> 0.03480291 | FC17: =ANUAL!$AA$14 -> 0.034712075 | FE17: {=PRODUCT(1+ES15:FE15)-1} -> 0.03470912 | FF17: {=PRODUCT(1+ET15:FF15)-1} -> 0.034706165 | FG17: {=PRODUCT(1+EU15:FG15)-1} -> 0.03470321 | FH17: {=PRODUCT(1+EV15:FH15)-1} -> 0.034700255 | FI17: {=PRODUCT(1+EW15:FI15)-1} -> 0.0346973 | FJ17: {=PRODUCT(1+EX15:FJ15)-1} -> 0.034694345 | FK17: {=PRODUCT(1+EY15:FK15)-1} -> 0.034691389 | FL17: {=PRODUCT(1+EZ15:FL15)-1} -> 0.034688434 | ... FO17: {=PRODUCT(1+FC15:FO15)-1} -> 0.034679569 | FP17: =ANUAL!$AC$14 -> 0.034676614 | FR17: {=PRODUCT(1+FF15:FR15)-1} -> 0.034587684 | FS17: {=PRODUCT(1+FG15:FS15)-1} -> 0.034498761 | FT17: {=PRODUCT(1+FH15:FT15)-1} -> 0.034409846 | FU17: {=PRODUCT(1+FI15:FU15)-1} -> 0.034320938 | FV17: {=PRODUCT(1+FJ15:FV15)-1} -> 0.034232038 | FW17: {=PRODUCT(1+FK15:FW15)-1} -> 0.034143146 | FX17: {=PRODUCT(1+FL15:FX15)-1} -> 0.034054261 | FY17: {=PRODUCT(1+FM15:FY15)-1} -> 0.033965384 | ... GB17: {=PRODUCT(1+FP15:GB15)-1} -> 0.033698799 | GC17: =ANUAL!$AE$14 -> 0.033609952 | GE17: {=PRODUCT(1+FS15:GE15)-1} -> 0.033609952 | GF17: {=PRODUCT(1+FT15:GF15)-1} -> 0.033609952 | GG17: {=PRODUCT(1+FU15:GG15)-1} -> 0.033609952 | GH17: {=PRODUCT(1+FV15:GH15)-1} -> 0.033609952 | GI17: {=PRODUCT(1+FW15:GI15)-1} -> 0.033609952 | GJ17: {=PRODUCT(1+FX15:GJ15)-1} -> 0.033609952 | GK17: {=PRODUCT(1+FY15:GK15)-1} -> 0.033609952 | GL17: {=PRODUCT(1+FZ15:GL15)-1} -> 0.033609952 | ... GO17: {=PRODUCT(1+GC15:GO15)-1} -> 0.033609952 | GP17: =ANUAL!$AG$14 -> 0.033609952
C19: IGPM | E19: 0.0047700471 | F19: -0.00040643318 | G19: 0.012440601 | H19: 0.0080229768 | I19: 0.0028004077 | J19: 0.015570052 | K19: 0.022278337 | L19: 0.027441633 | M19: 0.043407949 | N19: 0.03231419 | O19: 0.032773939 | P19: 0.0095810828 | R19: 0.025767097 | S19: 0.02525854 | T19: 0.029382654 | U19: 0.015082791 | V19: 0.040963346 | W19: 0.0060264344 | X19: 0.0077733043 | Y19: 0.0066368722 | Z19: -0.0063942673 | AA19: 0.0064289614 | AB19: 0.00018327052 | AC19: 0.0087083354 | AE19: 0.018175493 | AF19: 0.018329187 | AG19: 0.017407971 | AH19: 0.014112921 | AI19: 0.0052164655 | AJ19: 0.0058524283 | AK19: 0.0020614973 | AL19: -0.0069829394 | AM19: -0.0094607276 | AN19: -0.0097138081 | AO19: -0.0056452605 | AP19: 0.0044790363 | AR19: 0.0021179908 | AS19: -0.00060508911 | AT19: 0.00051429314 | AU19: -0.0095000769 | AV19: -0.018440398 | AW19: -0.019298745 | AX19: -0.00723565 | AY19: -0.0013566969 | AZ19: 0.0036641478 | BA19: 0.0049798888 | BB19: 0.0059311093 | BC19: 0.0073999722 | BE19: 0.00071792554 | BF19: -0.0051721118 | BG19: -0.0046681995 | BH19: 0.0030911166 | BI19: 0.0089082414 | BJ19: 0.0081402869 | BK19: 0.0060752775 | BL19: 0.002853112 | BM19: 0.0062298585 | BN19: 0.015215157 | BO19: 0.012968807 | BP19: 0.0093555462 | BR19: 0.0026827004 | BS19: 0.010609234 | BT19: -0.0033637024 | BU19: 0.0023681363 | BV19: -0.0048819752 | BW19: -0.016677197 | BX19: -0.0076635048 | BY19: 0.0035684799 | BZ19: 0.0041595824 | CA19: -0.0036058019 | CB19: 0.0026821373 | CC19: -0.00014968249 | CE19: 0.0040695427 | CF19: -0.0072854693 | CG19: 0.0052064425 | CH19: 0.027268893 | CI19: 0.0083840161 | CJ19: -0.0049947809 | CK19: -0.011557407 | CL19: -0.0022484799 | CM19: 0.015700589 | CN19: 0.0165 | CO19: 0.0044241332 | CP19: 0.0032256593 | CR19: =(DC21+1)^(CR$10/360)-1 -> 0.0035292932 | CS19: =(DC21+1)^(CS$10/360)-1 -> 0.0035292932 | CT19: =(DC21+1)^(CT$10/360)-1 -> 0.0035292932 | CU19: =(DC21+1)^(CU$10/360)-1 -> 0.0035292932 | CV19: =(DC21+1)^(CV$10/360)-1 -> 0.0035292932 | CW19: =(DC21+1)^(CW$10/360)-1 -> 0.0035292932 | CX19: =(DC21+1)^(CX$10/360)-1 -> 0.0035292932 | CY19: =(DC21+1)^(CY$10/360)-1 -> 0.0035292932 | CZ19: =(DC21+1)^(CZ$10/360)-1 -> 0.0035292932 | DA19: =(DC21+1)^(DA$10/360)-1 -> 0.0035292932 | DB19: =(DC21+1)^(DB$10/360)-1 -> 0.0035292932 | DC19: =(DC21+1)^(DC$10/360)-1 -> 0.0035292932 | DE19: =(DP21+1)^(DE$10/360)-1 -> 0.0030811807 | DF19: =(DP21+1)^(DF$10/360)-1 -> 0.0030811807 | DG19: =(DP21+1)^(DG$10/360)-1 -> 0.0030811807 | DH19: =(DP21+1)^(DH$10/360)-1 -> 0.0030811807 | DI19: =(DP21+1)^(DI$10/360)-1 -> 0.0030811807 | DJ19: =(DP21+1)^(DJ$10/360)-1 -> 0.0030811807 | DK19: =(DP21+1)^(DK$10/360)-1 -> 0.0030811807 | DL19: =(DP21+1)^(DL$10/360)-1 -> 0.0030811807 | DM19: =(DP21+1)^(DM$10/360)-1 -> 0.0030811807 | DN19: =(DP21+1)^(DN$10/360)-1 -> 0.0030811807 | DO19: =(DP21+1)^(DO$10/360)-1 -> 0.0030811807 | DP19: =(DP21+1)^(DP$10/360)-1 -> 0.0030811807 | DR19: =($EC$21+1)^(DR$10/360)-1 -> 0.0030858895 | DS19: =($EC$21+1)^(DS$10/360)-1 -> 0.0030858895 | DT19: =($EC$21+1)^(DT$10/360)-1 -> 0.0030858895 | DU19: =($EC$21+1)^(DU$10/360)-1 -> 0.0030858895 | DV19: =($EC$21+1)^(DV$10/360)-1 -> 0.0030858895 | DW19: =($EC$21+1)^(DW$10/360)-1 -> 0.0030858895 | DX19: =($EC$21+1)^(DX$10/360)-1 -> 0.0030858895 | DY19: =($EC$21+1)^(DY$10/360)-1 -> 0.0030858895 | ... EC19: =($EC$21+1)^(EC$10/360)-1 -> 0.0030858895 | EE19: =($EP$21+1)^(EE$10/360)-1 -> 0.0030058459 | EF19: =($EP$21+1)^(EF$10/360)-1 -> 0.0030058459 | EG19: =($EP$21+1)^(EG$10/360)-1 -> 0.0030058459 | EH19: =($EP$21+1)^(EH$10/360)-1 -> 0.0030058459 | EI19: =($EP$21+1)^(EI$10/360)-1 -> 0.0030058459 | EJ19: =($EP$21+1)^(EJ$10/360)-1 -> 0.0030058459 | EK19: =($EP$21+1)^(EK$10/360)-1 -> 0.0030058459 | EL19: =($EP$21+1)^(EL$10/360)-1 -> 0.0030058459 | ... EP19: =($EP$21+1)^(EP$10/360)-1 -> 0.0030058459 | ER19: =($FC$21+1)^(ER$10/360)-1 -> 0.0029303609 | ES19: =($FC$21+1)^(ES$10/360)-1 -> 0.0029303609 | ET19: =($FC$21+1)^(ET$10/360)-1 -> 0.0029303609 | EU19: =($FC$21+1)^(EU$10/360)-1 -> 0.0029303609 | EV19: =($FC$21+1)^(EV$10/360)-1 -> 0.0029303609 | EW19: =($FC$21+1)^(EW$10/360)-1 -> 0.0029303609 | EX19: =($FC$21+1)^(EX$10/360)-1 -> 0.0029303609 | EY19: =($FC$21+1)^(EY$10/360)-1 -> 0.0029303609 | ... FC19: =($FC$21+1)^(FC$10/360)-1 -> 0.0029303609 | FE19: =($FP$21+1)^(FE$10/360)-1 -> 0.0029760257 | FF19: =($FP$21+1)^(FF$10/360)-1 -> 0.0029760257 | FG19: =($FP$21+1)^(FG$10/360)-1 -> 0.0029760257 | FH19: =($FP$21+1)^(FH$10/360)-1 -> 0.0029760257 | FI19: =($FP$21+1)^(FI$10/360)-1 -> 0.0029760257 | FJ19: =($FP$21+1)^(FJ$10/360)-1 -> 0.0029760257 | FK19: =($FP$21+1)^(FK$10/360)-1 -> 0.0029760257 | FL19: =($FP$21+1)^(FL$10/360)-1 -> 0.0029760257 | ... FP19: =($FP$21+1)^(FP$10/360)-1 -> 0.0029760257 | FR19: =($GC$21+1)^(FR$10/360)-1 -> 0.0029760257 | FS19: =($GC$21+1)^(FS$10/360)-1 -> 0.0029760257 | FT19: =($GC$21+1)^(FT$10/360)-1 -> 0.0029760257 | FU19: =($GC$21+1)^(FU$10/360)-1 -> 0.0029760257 | FV19: =($GC$21+1)^(FV$10/360)-1 -> 0.0029760257 | FW19: =($GC$21+1)^(FW$10/360)-1 -> 0.0029760257 | FX19: =($GC$21+1)^(FX$10/360)-1 -> 0.0029760257 | FY19: =($GC$21+1)^(FY$10/360)-1 -> 0.0029760257 | ... GC19: =($GC$21+1)^(GC$10/360)-1 -> 0.0029760257 | GE19: =($GP$21+1)^(GE$10/360)-1 -> 0.0029760257 | GF19: =($GP$21+1)^(GF$10/360)-1 -> 0.0029760257 | GG19: =($GP$21+1)^(GG$10/360)-1 -> 0.0029760257 | GH19: =($GP$21+1)^(GH$10/360)-1 -> 0.0029760257 | GI19: =($GP$21+1)^(GI$10/360)-1 -> 0.0029760257 | GJ19: =($GP$21+1)^(GJ$10/360)-1 -> 0.0029760257 | GK19: =($GP$21+1)^(GK$10/360)-1 -> 0.0029760257 | GL19: =($GP$21+1)^(GL$10/360)-1 -> 0.0029760257 | ... GP19: =($GP$21+1)^(GP$10/360)-1 -> 0.0029760257
C21: Acumulado12 meses | E21: 0.07808613 | F21: 0.068197835 | G21: 0.068078765 | H21: 0.066847559 | I21: 0.065090534 | J21: 0.073139848 | K21: 0.092719189 | L21: 0.13024272 | M21: 0.1793683 | N21: 0.20931484 | O21: 0.24521154 | P21: {=PRODUCT(1+E19:P19)-1} -> 0.23138351 | R21: {=PRODUCT(1+F19:R19)-1} -> 0.25711619 | S21: {=PRODUCT(1+G19:S19)-1} -> 0.28939316 | T21: {=PRODUCT(1+H19:T19)-1} -> 0.3109697 | U21: {=PRODUCT(1+I19:U19)-1} -> 0.32015124 | V21: {=PRODUCT(1+J19:V19)-1} -> 0.3703914 | W21: {=PRODUCT(1+K19:W19)-1} -> 0.35751342 | X21: {=PRODUCT(1+L19:X19)-1} -> 0.33825176 | Y21: {=PRODUCT(1+M19:Y19)-1} -> 0.31115338 | ... AB21: {=PRODUCT(1+P19:AB19)-1} -> 0.1788512 | AC21: {=PRODUCT(1+R19:AC19)-1} -> 0.17783212 | AE21: {=PRODUCT(1+S19:AE19)-1} -> 0.1691151 | AF21: {=PRODUCT(1+T19:AF19)-1} -> 0.16121347 | AG21: {=PRODUCT(1+U19:AG19)-1} -> 0.14770522 | AH21: {=PRODUCT(1+V19:AH19)-1} -> 0.14660863 | AI21: {=PRODUCT(1+W19:AI19)-1} -> 0.10723387 | AJ21: {=PRODUCT(1+X19:AJ19)-1} -> 0.10704236 | AK21: {=PRODUCT(1+Y19:AK19)-1} -> 0.10076792 | AL21: {=PRODUCT(1+Z19:AL19)-1} -> 0.085874515 | ... AO21: {=PRODUCT(1+AC19:AO19)-1} -> 0.058952819 | AP21: {=PRODUCT(1+AE19:AP19)-1} -> 0.054512856 | AR21: {=PRODUCT(1+AF19:AR19)-1} -> 0.037882282 | AS21: {=PRODUCT(1+AG19:AS19)-1} -> 0.018584446 | AT21: {=PRODUCT(1+AH19:AT19)-1} -> 0.0016712329 | AU21: {=PRODUCT(1+AI19:AU19)-1} -> -0.021652068 | AV21: {=PRODUCT(1+AJ19:AV19)-1} -> -0.044676605 | AW21: {=PRODUCT(1+AK19:AW19)-1} -> -0.068564308 | AX21: {=PRODUCT(1+AL19:AX19)-1} -> -0.077206187 | AY21: {=PRODUCT(1+AM19:AY19)-1} -> -0.071977816 | ... BB21: {=PRODUCT(1+AP19:BB19)-1} -> -0.034619308 | BC21: {=PRODUCT(1+AR19:BC19)-1} -> -0.031812066 | BE21: {=PRODUCT(1+AS19:BE19)-1} -> -0.033164728 | BF21: {=PRODUCT(1+AT19:BF19)-1} -> -0.03758296 | BG21: {=PRODUCT(1+AU19:BG19)-1} -> -0.042568115 | BH21: {=PRODUCT(1+AV19:BH19)-1} -> -0.030397281 | BI21: {=PRODUCT(1+AW19:BI19)-1} -> -0.0033817894 | BJ21: {=PRODUCT(1+AX19:BJ19)-1} -> 0.024502583 | BK21: {=PRODUCT(1+AY19:BK19)-1} -> 0.038239055 | BL21: {=PRODUCT(1+AZ19:BL19)-1} -> 0.042615781 | ... BO21: {=PRODUCT(1+BC19:BO19)-1} -> 0.063314259 | BP21: =ANUAL!M16 -> 0.065378374 | BR21: {=PRODUCT(1+BF19:BR19)-1} -> 0.067470101 | BS21: {=PRODUCT(1+BG19:BS19)-1} -> 0.084403799 | BT21: {=PRODUCT(1+BH19:BT19)-1} -> 0.085825035 | BU21: {=PRODUCT(1+BI19:BU19)-1} -> 0.085042424 | BV21: {=PRODUCT(1+BJ19:BV19)-1} -> 0.070211571 | BW21: {=PRODUCT(1+BK19:BW19)-1} -> 0.043866073 | BX21: {=PRODUCT(1+BL19:BX19)-1} -> 0.029611226 | BY21: {=PRODUCT(1+BM19:BY19)-1} -> 0.030345682 | ... CB21: {=PRODUCT(1+BP19:CB19)-1} -> -0.0010844005 | CC21: =ANUAL!$O$16 -> -0.010491315 | CE21: {=PRODUCT(1+BS19:CE19)-1} -> -0.0091226939 | CF21: {=PRODUCT(1+BT19:CF19)-1} -> -0.026668007 | CG21: {=PRODUCT(1+BU19:CG19)-1} -> -0.018298258 | CH21: {=PRODUCT(1+BV19:CH19)-1} -> 0.0060891059 | CI21: {=PRODUCT(1+BW19:CI19)-1} -> 0.019501354 | CJ21: {=PRODUCT(1+BX19:CJ19)-1} -> 0.031613591 | CK21: {=PRODUCT(1+BY19:CK19)-1} -> 0.027565566 | CL21: {=PRODUCT(1+BZ19:CL19)-1} -> 0.021609513 | ... CO21: {=PRODUCT(1+CC19:CO19)-1} -> 0.056034118 | CP21: =ANUAL!$Q$16 -> 0.059599127 | CR21: {=PRODUCT(1+CF19:CR19)-1} -> 0.059029 | CS21: {=PRODUCT(1+CG19:CS19)-1} -> 0.070566201 | CT21: {=PRODUCT(1+CH19:CT19)-1} -> 0.068780001 | CU21: {=PRODUCT(1+CI19:CU19)-1} -> 0.044081104 | CV21: {=PRODUCT(1+CJ19:CV19)-1} -> 0.039054522 | CW21: {=PRODUCT(1+CK19:CW19)-1} -> 0.047955961 | CX21: {=PRODUCT(1+CL19:CX19)-1} -> 0.063951019 | CY21: {=PRODUCT(1+CM19:CY19)-1} -> 0.07011214 | ... DB21: {=PRODUCT(1+CP19:DB19)-1} -> 0.042867726 | DC21: =ANUAL!$S$16 -> 0.043183357 | DE21: {=PRODUCT(1+CS19:DE19)-1} -> 0.042717538 | DF21: {=PRODUCT(1+CT19:DF19)-1} -> 0.042251926 | DG21: {=PRODUCT(1+CU19:DG19)-1} -> 0.041786523 | DH21: {=PRODUCT(1+CV19:DH19)-1} -> 0.041321327 | DI21: {=PRODUCT(1+CW19:DI19)-1} -> 0.040856339 | DJ21: {=PRODUCT(1+CX19:DJ19)-1} -> 0.040391559 | DK21: {=PRODUCT(1+CY19:DK19)-1} -> 0.039926986 | DL21: {=PRODUCT(1+CZ19:DL19)-1} -> 0.03946262 | ... DO21: {=PRODUCT(1+DC19:DO19)-1} -> 0.038070768 | DP21: =ANUAL!$U$16 -> 0.037607231 | DR21: {=PRODUCT(1+DF19:DR19)-1} -> 0.037612102 | DS21: {=PRODUCT(1+DG19:DS19)-1} -> 0.037616973 | DT21: {=PRODUCT(1+DH19:DT19)-1} -> 0.037621844 | DU21: {=PRODUCT(1+DI19:DU19)-1} -> 0.037626715 | DV21: {=PRODUCT(1+DJ19:DV19)-1} -> 0.037631586 | DW21: {=PRODUCT(1+DK19:DW19)-1} -> 0.037636457 | DX21: {=PRODUCT(1+DL19:DX19)-1} -> 0.037641328 | DY21: {=PRODUCT(1+DM19:DY19)-1} -> 0.037646199 | ... EB21: {=PRODUCT(1+DP19:EB19)-1} -> 0.037660812 | EC21: =ANUAL!$W$16 -> 0.037665684 | EE21: {=PRODUCT(1+DS19:EE19)-1} -> 0.037582881 | EF21: {=PRODUCT(1+DT19:EF19)-1} -> 0.037500084 | EG21: {=PRODUCT(1+DU19:EG19)-1} -> 0.037417294 | EH21: {=PRODUCT(1+DV19:EH19)-1} -> 0.037334511 | EI21: {=PRODUCT(1+DW19:EI19)-1} -> 0.037251735 | EJ21: {=PRODUCT(1+DX19:EJ19)-1} -> 0.037168965 | EK21: {=PRODUCT(1+DY19:EK19)-1} -> 0.037086201 | EL21: {=PRODUCT(1+DZ19:EL19)-1} -> 0.037003445 | ... EO21: {=PRODUCT(1+EC19:EO19)-1} -> 0.036755214 | EP21: =ANUAL!$Y$16 -> 0.036672484 | ER21: {=PRODUCT(1+EF19:ER19)-1} -> 0.036594465 | ES21: {=PRODUCT(1+EG19:ES19)-1} -> 0.036516452 | ET21: {=PRODUCT(1+EH19:ET19)-1} -> 0.036438445 | EU21: {=PRODUCT(1+EI19:EU19)-1} -> 0.036360444 | EV21: {=PRODUCT(1+EJ19:EV19)-1} -> 0.036282449 | EW21: {=PRODUCT(1+EK19:EW19)-1} -> 0.036204459 | EX21: {=PRODUCT(1+EL19:EX19)-1} -> 0.036126476 | EY21: {=PRODUCT(1+EM19:EY19)-1} -> 0.036048498 | ... FB21: {=PRODUCT(1+EP19:FB19)-1} -> 0.0358146 | FC21: =ANUAL!$AA$16 -> 0.035736646 | FE21: {=PRODUCT(1+ES19:FE19)-1} -> 0.035783805 | FF21: {=PRODUCT(1+ET19:FF19)-1} -> 0.035830966 | FG21: {=PRODUCT(1+EU19:FG19)-1} -> 0.035878128 | FH21: {=PRODUCT(1+EV19:FH19)-1} -> 0.035925293 | FI21: {=PRODUCT(1+EW19:FI19)-1} -> 0.03597246 | FJ21: {=PRODUCT(1+EX19:FJ19)-1} -> 0.03601963 | FK21: {=PRODUCT(1+EY19:FK19)-1} -> 0.036066801 | FL21: {=PRODUCT(1+EZ19:FL19)-1} -> 0.036113975 | ... FO21: {=PRODUCT(1+FC19:FO19)-1} -> 0.036255508 | FP21: =ANUAL!$AC$16 -> 0.036302691 | FR21: {=PRODUCT(1+FF19:FR19)-1} -> 0.036302691 | FS21: {=PRODUCT(1+FG19:FS19)-1} -> 0.036302691 | FT21: {=PRODUCT(1+FH19:FT19)-1} -> 0.036302691 | FU21: {=PRODUCT(1+FI19:FU19)-1} -> 0.036302691 | FV21: {=PRODUCT(1+FJ19:FV19)-1} -> 0.036302691 | FW21: {=PRODUCT(1+FK19:FW19)-1} -> 0.036302691 | FX21: {=PRODUCT(1+FL19:FX19)-1} -> 0.036302691 | FY21: {=PRODUCT(1+FM19:FY19)-1} -> 0.036302691 | ... GB21: {=PRODUCT(1+FP19:GB19)-1} -> 0.036302691 | GC21: =ANUAL!$AE$16 -> 0.036302691 | GE21: {=PRODUCT(1+FS19:GE19)-1} -> 0.036302691 | GF21: {=PRODUCT(1+FT19:GF19)-1} -> 0.036302691 | GG21: {=PRODUCT(1+FU19:GG19)-1} -> 0.036302691 | GH21: {=PRODUCT(1+FV19:GH19)-1} -> 0.036302691 | GI21: {=PRODUCT(1+FW19:GI19)-1} -> 0.036302691 | GJ21: {=PRODUCT(1+FX19:GJ19)-1} -> 0.036302691 | GK21: {=PRODUCT(1+FY19:GK19)-1} -> 0.036302691 | GL21: {=PRODUCT(1+FZ19:GL19)-1} -> 0.036302691 | ... GO21: {=PRODUCT(1+GC19:GO19)-1} -> 0.036302691 | GP21: =ANUAL!$AG$16 -> 0.036302691
C23: IST | E23: 0.0035 | F23: 0.0043 | G23: 0.0034 | H23: 0.0019 | I23: -0.0009 | J23: 0.0054 | K23: 0.0073 | L23: 0.0064 | M23: 0.0127 | N23: 0.0157 | O23: 0.0153 | P23: 0.0144 | R23: 0.0146 | S23: 0.0223 | T23: 0.0194 | U23: 0.0119 | V23: 0.0214 | W23: 0.0099977622 | X23: 0.011471168 | Y23: 0.008479307 | Z23: 0.010030059 | AA23: 0.008296769 | AB23: 0.01281403 | AC23: 0.0046497884 | AE23: 0.010710265 | AF23: 0.014801361 | AG23: 0.014397595 | AH23: 0.009881333 | AI23: 0.0075098216 | AJ23: 0.0081308862 | AK23: -0.00042132206 | AL23: -0.0011694238 | AM23: -0.0026715656 | AN23: 0.00094168849 | AO23: 0.00047040127 | AP23: 0.0029481563 | AR23: 0.0041019826 | AS23: 0.0043786041 | AT23: 0.0034706518 | AU23: 0.001690199 | AV23: -0.00069993657 | AW23: -0.0040212004 | AX23: -0.0022102292 | AY23: 0.0011421739 | AZ23: 0.0023791714 | BA23: 0.0020505746 | BB23: 0.002988213 | BC23: 0.0060085355 | BE23: 0.0032220051 | BF23: 0.0034589455 | BG23: 0.0021101076 | BH23: 0.0030708887 | BI23: 0.0042597269 | BJ23: 0.0037503586 | BK23: 0.0049098443 | BL23: 0.0013099538 | BM23: 0.0057798229 | BN23: 0.0069211636 | BO23: 0.0027207962 | BP23: 0.0039094577 | BR23: 0.0018285708 | BS23: 0.010220714 | BT23: 0.0041084177 | BU23: 0.0040507791 | BV23: 0.0018095421 | BW23: 0.00082050628 | BX23: 0.0040817864 | BY23: 0.00042988912 | BZ23: 0.0049776496 | CA23: -0.0012597711 | CB23: 0.0023497608 | CC23: 0.0012900636 | CE23: 0.0038422997 | CF23: 0.0039787571 | CG23: 0.0048692214 | CH23: 0.013439971 | CI23: 0.0085222121 | CJ23: 0.00099853401 | CK23: -0.00019066515 | CL23: -0.0036896596 | CM23: 0.0083681322 | CN23: 0.0041684378 | CO23: 0.0035477175 | CP23: 0.0047562249 | CR23: 0.005603616 | CS23: 0.0061723559 | CT23: 0.004717087 | CU23: 0.0043599375 | CV23: 0.0032606677 | CW23: 0.0019392954 | CX23: 0.0029643103 | CY23: 0.0023262794 | CZ23: 0.0025000127 | DA23: 0.0027867319 | DB23: 0.002197207 | DC23: 0.0033751532 | DE23: 0.0050941076 | DF23: 0.0050965764 | DG23: 0.0034423549 | DH23: 0.0037038604 | DI23: 0.0034029981 | DJ23: 0.0020894919 | DK23: 0.0021345042 | DL23: 0.0026963336 | DM23: 0.0027078269 | DN23: 0.0025023434 | DO23: 0.0024404325 | DP23: 0.0032940909 | DR23: 0.0047561931 | DS23: 0.0040372428 | DT23: 0.0033510021 | DU23: 0.0037040496 | DV23: 0.0033959091 | DW23: 0.0015315999 | DX23: 0.0024133577 | DY23: 0.0025992917 | DZ23: 0.0027958505 | EA23: 0.0025870853 | EB23: 0.0024311536 | EC23: 0.0038265249 | EE23: 0.0048229757 | EF23: 0.0041304557 | EG23: 0.0034447164 | EH23: 0.0037796664 | EI23: 0.0035673736 | EJ23: 0.0021082118 | EK23: 0.003326784 | EL23: 0.0026255031 | EM23: 0.0027437968 | EN23: 0.0025355952 | EO23: 0.0023989227 | EP23: 0.0034675776 | ER23: 0.0048862853 | ES23: 0.004144203 | ET23: 0.0033886847 | EU23: 0.0036987313 | EV23: 0.0034411577 | EW23: 0.0020553874 | EX23: 0.0033851524 | EY23: 0.0025313274 | EZ23: 0.002709726 | FA23: 0.0024911082 | FB23: 0.0023857394 | FC23: 0.0036338259 | FE23: 0.0049937175 | FF23: 0.0041906787 | FG23: 0.0034388068 | FH23: 0.0037405993 | FI23: 0.0034936282 | FJ23: 0.0020861974 | FK23: 0.0034529605 | FL23: 0.0025981396 | FM23: 0.0027559439 | FN23: 0.0025388219 | FO23: 0.0024522392 | FP23: 0.0036953113 | FR23: 0.0049108712 | FS23: 0.0042540585 | FT23: 0.0033758856 | FU23: 0.003641306 | FV23: 0.0033103382 | FW23: 0.0019877437 | FX23: 0.0032675006 | FY23: 0.00239728 | FZ23: 0.0026147941 | GA23: 0.0024324022 | GB23: 0.0022788725 | GC23: 0.0036796366 | GE23: 0.0045867914 | GF23: 0.0041462307 | GG23: 0.0032692943 | GH23: 0.0035225294 | GI23: 0.0032168978 | GJ23: 0.0019456654 | GK23: 0.0031420264 | GL23: 0.0023289621 | GM23: 0.0025613164 | GN23: 0.0023716898 | GO23: 0.002219669 | GP23: 0.003606644
C25: Acumulado12 meses | E25: 0.044240248 | F25: 0.043616759 | G25: 0.03957615 | H25: 0.036163296 | I25: 0.032649126 | J25: 0.037395515 | K25: 0.042362596 | L25: 0.047148848 | M25: 0.059811752 | N25: 0.075160604 | O25: 0.08531573 | P25: {=PRODUCT(1+E23:P23)-1} -> 0.092965627 | R25: {=PRODUCT(1+F23:R23)-1} -> 0.10505523 | S25: {=PRODUCT(1+G23:S23)-1} -> 0.12486106 | T25: {=PRODUCT(1+H23:T23)-1} -> 0.14279785 | U25: {=PRODUCT(1+I23:U23)-1} -> 0.15420416 | V25: {=PRODUCT(1+J23:V23)-1} -> 0.1799661 | W25: {=PRODUCT(1+K23:W23)-1} -> 0.18536216 | X25: {=PRODUCT(1+L23:X23)-1} -> 0.19027068 | Y25: {=PRODUCT(1+M23:Y23)-1} -> 0.19272987 | ... AB25: {=PRODUCT(1+P23:AB23)-1} -> 0.17802317 | AC25: {=PRODUCT(1+R23:AC23)-1} -> 0.16670024 | AE25: {=PRODUCT(1+S23:AE23)-1} -> 0.16222739 | AF25: {=PRODUCT(1+T23:AF23)-1} -> 0.15370238 | AG25: {=PRODUCT(1+U23:AG23)-1} -> 0.14804092 | AH25: {=PRODUCT(1+V23:AH23)-1} -> 0.14575066 | AI25: {=PRODUCT(1+W23:AI23)-1} -> 0.13016942 | AJ25: {=PRODUCT(1+X23:AJ23)-1} -> 0.12808042 | AK25: {=PRODUCT(1+Y23:AK23)-1} -> 0.11481688 | AL25: {=PRODUCT(1+Z23:AL23)-1} -> 0.10415076 | ... AO25: {=PRODUCT(1+AC23:AO23)-1} -> 0.069121873 | AP25: {=PRODUCT(1+AE23:AP23)-1} -> 0.067311041 | AR25: {=PRODUCT(1+AF23:AR23)-1} -> 0.060332688 | AS25: {=PRODUCT(1+AG23:AS23)-1} -> 0.049442291 | AT25: {=PRODUCT(1+AH23:AT23)-1} -> 0.038137851 | AU25: {=PRODUCT(1+AI23:AU23)-1} -> 0.029717529 | AV25: {=PRODUCT(1+AJ23:AV23)-1} -> 0.02132681 | AW25: {=PRODUCT(1+AK23:AW23)-1} -> 0.0090156586 | AX25: {=PRODUCT(1+AL23:AX23)-1} -> 0.0072098625 | AY25: {=PRODUCT(1+AM23:AY23)-1} -> 0.0095408524 | ... BB25: {=PRODUCT(1+AP23:BB23)-1} -> 0.018333847 | BC25: {=PRODUCT(1+AR23:BC23)-1} -> 0.021441174 | BE25: {=PRODUCT(1+AS23:BE23)-1} -> 0.020546001 | BF25: {=PRODUCT(1+AT23:BF23)-1} -> 0.019611538 | BG25: {=PRODUCT(1+AU23:BG23)-1} -> 0.01822911 | BH25: {=PRODUCT(1+AV23:BH23)-1} -> 0.019632596 | BI25: {=PRODUCT(1+AW23:BI23)-1} -> 0.024693172 | BJ25: {=PRODUCT(1+AX23:BJ23)-1} -> 0.032688788 | BK25: {=PRODUCT(1+AY23:BK23)-1} -> 0.040057895 | BL25: {=PRODUCT(1+AZ23:BL23)-1} -> 0.040232197 | ... BO25: {=PRODUCT(1+BC23:BO23)-1} -> 0.048554957 | BP25: =ANUAL!M18 -> 0.046367104 | BR25: {=PRODUCT(1+BF23:BR23)-1} -> 0.044913743 | BS25: {=PRODUCT(1+BG23:BS23)-1} -> 0.051954853 | BT25: {=PRODUCT(1+BH23:BT23)-1} -> 0.054052559 | BU25: {=PRODUCT(1+BI23:BU23)-1} -> 0.055082253 | BV25: {=PRODUCT(1+BJ23:BV23)-1} -> 0.052508071 | BW25: {=PRODUCT(1+BK23:BW23)-1} -> 0.0494359 | BX25: {=PRODUCT(1+BL23:BX23)-1} -> 0.048571152 | BY25: {=PRODUCT(1+BM23:BY23)-1} -> 0.047649549 | ... CB25: {=PRODUCT(1+BP23:CB23)-1} -> 0.037924726 | CC25: =ANUAL!O18 -> 0.035216579 | CE25: {=PRODUCT(1+BS23:CE23)-1} -> 0.03729742 | CF25: {=PRODUCT(1+BT23:CF23)-1} -> 0.030888161 | CG25: {=PRODUCT(1+BU23:CG23)-1} -> 0.031669255 | CH25: {=PRODUCT(1+BV23:CH23)-1} -> 0.041316716 | CI25: {=PRODUCT(1+BW23:CI23)-1} -> 0.048294106 | CJ25: {=PRODUCT(1+BX23:CJ23)-1} -> 0.048480579 | CK25: {=PRODUCT(1+BY23:CK23)-1} -> 0.044019206 | CL25: {=PRODUCT(1+BZ23:CL23)-1} -> 0.039720167 | ... CP25: {=PRODUCT(1+CD23:CP23)-1} -> 0.053786754 | CR25: {=PRODUCT(1+CF23:CR23)-1} -> 0.055635702 | CS25: {=PRODUCT(1+CG23:CS23)-1} -> 0.057942166 | CT25: {=PRODUCT(1+CH23:CT23)-1} -> 0.057781997 | CU25: {=PRODUCT(1+CI23:CU23)-1} -> 0.048304676 | CV25: {=PRODUCT(1+CJ23:CV23)-1} -> 0.042835583 | CW25: {=PRODUCT(1+CK23:CW23)-1} -> 0.043815664 | CX25: {=PRODUCT(1+CL23:CX23)-1} -> 0.047109505 | CY25: {=PRODUCT(1+CM23:CY23)-1} -> 0.05343218 | ... DC25: {=PRODUCT(1+CQ23:DC23)-1} -> 0.043017668 | DE25: {=PRODUCT(1+CS23:DE23)-1} -> 0.042489203 | DF25: {=PRODUCT(1+CT23:DF23)-1} -> 0.041374595 | DG25: {=PRODUCT(1+CU23:DG23)-1} -> 0.040053353 | DH25: {=PRODUCT(1+CV23:DH23)-1} -> 0.03937396 | DI25: {=PRODUCT(1+CW23:DI23)-1} -> 0.039521414 | DJ25: {=PRODUCT(1+CX23:DJ23)-1} -> 0.039677244 | DK25: {=PRODUCT(1+CY23:DK23)-1} -> 0.038817063 | DL25: {=PRODUCT(1+CZ23:DL23)-1} -> 0.03920059 | ... DP25: {=PRODUCT(1+DD23:DP23)-1} -> 0.039289452 | DR25: {=PRODUCT(1+DF23:DR23)-1} -> 0.03894004 | DS25: {=PRODUCT(1+DG23:DS23)-1} -> 0.037845037 | DT25: {=PRODUCT(1+DH23:DT23)-1} -> 0.037750552 | DU25: {=PRODUCT(1+DI23:DU23)-1} -> 0.037750748 | DV25: {=PRODUCT(1+DJ23:DV23)-1} -> 0.037743416 | DW25: {=PRODUCT(1+DK23:DW23)-1} -> 0.037165675 | DX25: {=PRODUCT(1+DL23:DX23)-1} -> 0.037454276 | DY25: {=PRODUCT(1+DM23:DY23)-1} -> 0.03735387 | ... EC25: {=PRODUCT(1+DQ23:EC23)-1} -> 0.038073626 | EE25: {=PRODUCT(1+DS23:EE23)-1} -> 0.038142623 | EF25: {=PRODUCT(1+DT23:EF23)-1} -> 0.038239002 | EG25: {=PRODUCT(1+DU23:EG23)-1} -> 0.038335975 | EH25: {=PRODUCT(1+DV23:EH23)-1} -> 0.038414201 | EI25: {=PRODUCT(1+DW23:EI23)-1} -> 0.038591649 | EJ25: {=PRODUCT(1+DX23:EJ23)-1} -> 0.039189598 | EK25: {=PRODUCT(1+DY23:EK23)-1} -> 0.040136536 | EL25: {=PRODUCT(1+DZ23:EL23)-1} -> 0.040163729 | ... EP25: {=PRODUCT(1+ED23:EP23)-1} -> 0.039650987 | ER25: {=PRODUCT(1+EF23:ER23)-1} -> 0.039716491 | ES25: {=PRODUCT(1+EG23:ES23)-1} -> 0.039730726 | ET25: {=PRODUCT(1+EH23:ET23)-1} -> 0.039672668 | EU25: {=PRODUCT(1+EI23:EU23)-1} -> 0.039588839 | EV25: {=PRODUCT(1+EJ23:EV23)-1} -> 0.039458092 | EW25: {=PRODUCT(1+EK23:EW23)-1} -> 0.039403299 | EX25: {=PRODUCT(1+EL23:EX23)-1} -> 0.039463766 | EY25: {=PRODUCT(1+EM23:EY23)-1} -> 0.03936613 | ... FC25: {=PRODUCT(1+EQ23:FC23)-1} -> 0.039443207 | FE25: {=PRODUCT(1+ES23:FE23)-1} -> 0.039554334 | FF25: {=PRODUCT(1+ET23:FF23)-1} -> 0.039602448 | FG25: {=PRODUCT(1+EU23:FG23)-1} -> 0.039654379 | FH25: {=PRODUCT(1+EV23:FH23)-1} -> 0.039697747 | FI25: {=PRODUCT(1+EW23:FI23)-1} -> 0.039752114 | FJ25: {=PRODUCT(1+EX23:FJ23)-1} -> 0.039784083 | FK25: {=PRODUCT(1+EY23:FK23)-1} -> 0.039854351 | FL25: {=PRODUCT(1+EZ23:FL23)-1} -> 0.03992365 | ... FP25: {=PRODUCT(1+FD23:FP23)-1} -> 0.040153796 | FR25: {=PRODUCT(1+FF23:FR23)-1} -> 0.040068051 | FS25: {=PRODUCT(1+FG23:FS23)-1} -> 0.040133696 | FT25: {=PRODUCT(1+FH23:FT23)-1} -> 0.040068474 | FU25: {=PRODUCT(1+FI23:FU23)-1} -> 0.039965587 | FV25: {=PRODUCT(1+FJ23:FV23)-1} -> 0.039775635 | FW25: {=PRODUCT(1+FK23:FW23)-1} -> 0.039673478 | FX25: {=PRODUCT(1+FL23:FX23)-1} -> 0.039481324 | FY25: {=PRODUCT(1+FM23:FY23)-1} -> 0.039273075 | ... GC25: {=PRODUCT(1+FQ23:GC23)-1} -> 0.038820568 | GE25: {=PRODUCT(1+FS23:GE23)-1} -> 0.038485553 | GF25: {=PRODUCT(1+FT23:GF23)-1} -> 0.03837405 | GG25: {=PRODUCT(1+FU23:GG23)-1} -> 0.03826374 | GH25: {=PRODUCT(1+FV23:GH23)-1} -> 0.038140866 | GI25: {=PRODUCT(1+FW23:GI23)-1} -> 0.038044182 | GJ25: {=PRODUCT(1+FX23:GJ23)-1} -> 0.03800059 | GK25: {=PRODUCT(1+FY23:GK23)-1} -> 0.037870771 | GL25: {=PRODUCT(1+FZ23:GL23)-1} -> 0.037800036 | ... GP25: {=PRODUCT(1+GD23:GP23)-1} -> 0.037545075
C27: INPC | E27: 0.0019 | F27: 0.0017 | G27: 0.0018 | H27: -0.0023 | I27: -0.0025 | J27: 0.003 | K27: 0.0044 | L27: 0.0036 | M27: 0.0087 | N27: 0.0089 | O27: 0.0095 | P27: 0.0146 | R27: 0.0027 | S27: 0.0082 | T27: 0.0086 | U27: 0.0038 | V27: 0.0096 | W27: 0.006 | X27: 0.0102 | Y27: 0.0088 | Z27: 0.012 | AA27: 0.0116 | AB27: 0.0084 | AC27: 0.0073 | AE27: 0.0067 | AF27: 0.01 | AG27: 0.0171 | AH27: 0.0104 | AI27: 0.0045 | AJ27: 0.0062 | AK27: -0.006 | AL27: -0.0031 | AM27: -0.0032 | AN27: 0.0047 | AO27: 0.0038 | AP27: 0.0069 | AR27: 0.0046 | AS27: 0.0077 | AT27: 0.0064 | AU27: 0.0053 | AV27: 0.0036 | AW27: -0.001 | AX27: -0.0009 | AY27: 0.002 | AZ27: 0.0011 | BA27: 0.0012 | BB27: 0.001 | BC27: 0.0055 | BE27: 0.0057 | BF27: 0.0081 | BG27: 0.0019 | BH27: 0.0037 | BI27: 0.0046 | BJ27: 0.0025 | BK27: 0.0026 | BL27: -0.0014 | BM27: 0.0048 | BN27: 0.0061 | BO27: 0.0033 | BP27: 0.0048 | BR27: 0 | BS27: 0.0148 | BT27: 0.0051 | BU27: 0.0048 | BV27: 0.0035 | BW27: 0.0023 | BX27: 0.0021 | BY27: -0.0021 | BZ27: 0.0052 | CA27: 0.0003 | CB27: 0.0003 | CC27: 0.0021 | CE27: 0.0039 | CF27: 0.0056 | CG27: 0.0091 | CH27: 0.0081 | CI27: 0.0065 | CJ27: 0.0014 | CK27: -0.0001 | CL27: -0.0032 | CM27: 0.0094455356 | CN27: 0.0022846995 | CO27: 0.0035406978 | CP27: 0.0073359772 | CR27: =(DC29+1)^(CR$10/360)-1 -> 0.0037177745 | CS27: =(DC29+1)^(CS$10/360)-1 -> 0.0037177745 | CT27: =(DC29+1)^(CT$10/360)-1 -> 0.0037177745 | CU27: =(DC29+1)^(CU$10/360)-1 -> 0.0037177745 | CV27: =(DC29+1)^(CV$10/360)-1 -> 0.0037177745 | CW27: =(DC29+1)^(CW$10/360)-1 -> 0.0037177745 | CX27: =(DC29+1)^(CX$10/360)-1 -> 0.0037177745 | CY27: =(DC29+1)^(CY$10/360)-1 -> 0.0037177745 | CZ27: =(DC29+1)^(CZ$10/360)-1 -> 0.0037177745 | DA27: =(DC29+1)^(DA$10/360)-1 -> 0.0037177745 | DB27: =(DC29+1)^(DB$10/360)-1 -> 0.0037177745 | DC27: =(DC29+1)^(DC$10/360)-1 -> 0.0037177745 | DE27: =(DP29+1)^(DE$10/360)-1 -> 0.0033327539 | DF27: =(DP29+1)^(DF$10/360)-1 -> 0.0033327539 | DG27: =(DP29+1)^(DG$10/360)-1 -> 0.0033327539 | DH27: =(DP29+1)^(DH$10/360)-1 -> 0.0033327539 | DI27: =(DP29+1)^(DI$10/360)-1 -> 0.0033327539 | DJ27: =(DP29+1)^(DJ$10/360)-1 -> 0.0033327539 | DK27: =(DP29+1)^(DK$10/360)-1 -> 0.0033327539 | DL27: =(DP29+1)^(DL$10/360)-1 -> 0.0033327539 | DM27: =(DP29+1)^(DM$10/360)-1 -> 0.0033327539 | DN27: =(DP29+1)^(DN$10/360)-1 -> 0.0033327539 | DO27: =(DP29+1)^(DO$10/360)-1 -> 0.0033327539 | DP27: =(DP29+1)^(DP$10/360)-1 -> 0.0033327539 | DR27: =($EC$29+1)^(DR$10/360)-1 -> 0.0030826235 | DS27: =($EC$29+1)^(DS$10/360)-1 -> 0.0030826235 | DT27: =($EC$29+1)^(DT$10/360)-1 -> 0.0030826235 | DU27: =($EC$29+1)^(DU$10/360)-1 -> 0.0030826235 | DV27: =($EC$29+1)^(DV$10/360)-1 -> 0.0030826235 | DW27: =($EC$29+1)^(DW$10/360)-1 -> 0.0030826235 | DX27: =($EC$29+1)^(DX$10/360)-1 -> 0.0030826235 | DY27: =($EC$29+1)^(DY$10/360)-1 -> 0.0030826235 | ... EC27: =($EC$29+1)^(EC$10/360)-1 -> 0.0030826235 | EE27: =($EP$29+1)^(EE$10/360)-1 -> 0.0029575817 | EF27: =($EP$29+1)^(EF$10/360)-1 -> 0.0029575817 | EG27: =($EP$29+1)^(EG$10/360)-1 -> 0.0029575817 | EH27: =($EP$29+1)^(EH$10/360)-1 -> 0.0029575817 | EI27: =($EP$29+1)^(EI$10/360)-1 -> 0.0029575817 | EJ27: =($EP$29+1)^(EJ$10/360)-1 -> 0.0029575817 | EK27: =($EP$29+1)^(EK$10/360)-1 -> 0.0029575817 | EL27: =($EP$29+1)^(EL$10/360)-1 -> 0.0029575817 | ... EP27: =($EP$29+1)^(EP$10/360)-1 -> 0.0029575817 | ER27: =($FC$29+1)^(ER$10/360)-1 -> 0.0028603107 | ES27: =($FC$29+1)^(ES$10/360)-1 -> 0.0028603107 | ET27: =($FC$29+1)^(ET$10/360)-1 -> 0.0028603107 | EU27: =($FC$29+1)^(EU$10/360)-1 -> 0.0028603107 | EV27: =($FC$29+1)^(EV$10/360)-1 -> 0.0028603107 | EW27: =($FC$29+1)^(EW$10/360)-1 -> 0.0028603107 | EX27: =($FC$29+1)^(EX$10/360)-1 -> 0.0028603107 | EY27: =($FC$29+1)^(EY$10/360)-1 -> 0.0028603107 | ... FC27: =($FC$29+1)^(FC$10/360)-1 -> 0.0028603107 | FE27: =($FP$29+1)^(FE$10/360)-1 -> 0.0028523741 | FF27: =($FP$29+1)^(FF$10/360)-1 -> 0.0028523741 | FG27: =($FP$29+1)^(FG$10/360)-1 -> 0.0028523741 | FH27: =($FP$29+1)^(FH$10/360)-1 -> 0.0028523741 | FI27: =($FP$29+1)^(FI$10/360)-1 -> 0.0028523741 | FJ27: =($FP$29+1)^(FJ$10/360)-1 -> 0.0028523741 | FK27: =($FP$29+1)^(FK$10/360)-1 -> 0.0028523741 | FL27: =($FP$29+1)^(FL$10/360)-1 -> 0.0028523741 | ... FP27: =($FP$29+1)^(FP$10/360)-1 -> 0.0028523741 | FR27: =($GC$29+1)^(FR$10/360)-1 -> 0.0027629034 | FS27: =($GC$29+1)^(FS$10/360)-1 -> 0.0027629034 | FT27: =($GC$29+1)^(FT$10/360)-1 -> 0.0027629034 | FU27: =($GC$29+1)^(FU$10/360)-1 -> 0.0027629034 | FV27: =($GC$29+1)^(FV$10/360)-1 -> 0.0027629034 | FW27: =($GC$29+1)^(FW$10/360)-1 -> 0.0027629034 | FX27: =($GC$29+1)^(FX$10/360)-1 -> 0.0027629034 | FY27: =($GC$29+1)^(FY$10/360)-1 -> 0.0027629034 | ... GC27: =($GC$29+1)^(GC$10/360)-1 -> 0.0027629034 | GE27: =($GP$29+1)^(GE$10/360)-1 -> 0.0027629034 | GF27: =($GP$29+1)^(GF$10/360)-1 -> 0.0027629034 | GG27: =($GP$29+1)^(GG$10/360)-1 -> 0.0027629034 | GH27: =($GP$29+1)^(GH$10/360)-1 -> 0.0027629034 | GI27: =($GP$29+1)^(GI$10/360)-1 -> 0.0027629034 | GJ27: =($GP$29+1)^(GJ$10/360)-1 -> 0.0027629034 | GK27: =($GP$29+1)^(GK$10/360)-1 -> 0.0027629034 | GL27: =($GP$29+1)^(GL$10/360)-1 -> 0.0027629034 | ... GP27: =($GP$29+1)^(GP$10/360)-1 -> 0.0027629034
C29: Acumulado12 meses | E29: 0.043046071 | F29: 0.039207529 | G29: 0.033123055 | H29: 0.024599276 | I29: 0.020507017 | J29: 0.023466192 | K29: 0.0269425 | L29: 0.029404208 | M29: 0.038879465 | N29: 0.047706409 | O29: 0.051978934 | P29: {=PRODUCT(1+E27:P27)-1} -> 0.054473253 | R29: {=PRODUCT(1+F27:R27)-1} -> 0.055315232 | S29: {=PRODUCT(1+G27:S27)-1} -> 0.062163139 | T29: {=PRODUCT(1+H27:T27)-1} -> 0.069372871 | U29: {=PRODUCT(1+I27:U27)-1} -> 0.075911083 | V29: {=PRODUCT(1+J27:V27)-1} -> 0.088962235 | W29: {=PRODUCT(1+K27:W27)-1} -> 0.092219351 | X29: {=PRODUCT(1+L27:X27)-1} -> 0.098526472 | Y29: {=PRODUCT(1+M27:Y27)-1} -> 0.10421832 | ... AB29: {=PRODUCT(1+P27:AB27)-1} -> 0.10958519 | AC29: {=PRODUCT(1+R27:AC27)-1} -> 0.10160178 | AE29: {=PRODUCT(1+S27:AE27)-1} -> 0.10599632 | AF29: {=PRODUCT(1+T27:AF27)-1} -> 0.10797092 | AG29: {=PRODUCT(1+U27:AG27)-1} -> 0.11730837 | AH29: {=PRODUCT(1+V27:AH27)-1} -> 0.12465469 | AI29: {=PRODUCT(1+W27:AI27)-1} -> 0.11897349 | AJ29: {=PRODUCT(1+X27:AJ27)-1} -> 0.11919595 | AK29: {=PRODUCT(1+Y27:AK27)-1} -> 0.10124804 | AL29: {=PRODUCT(1+Z27:AL27)-1} -> 0.08825751 | ... AO29: {=PRODUCT(1+AC27:AO27)-1} -> 0.059744389 | AP29: {=PRODUCT(1+AE27:AP27)-1} -> 0.059323563 | AR29: {=PRODUCT(1+AF27:AR27)-1} -> 0.057113789 | AS29: {=PRODUCT(1+AG27:AS27)-1} -> 0.0547065 | AT29: {=PRODUCT(1+AH27:AT27)-1} -> 0.043610876 | AU29: {=PRODUCT(1+AI27:AU27)-1} -> 0.038343243 | AV29: {=PRODUCT(1+AJ27:AV27)-1} -> 0.037412921 | AW29: {=PRODUCT(1+AK27:AW27)-1} -> 0.029989573 | AX29: {=PRODUCT(1+AL27:AX27)-1} -> 0.035274227 | AY29: {=PRODUCT(1+AM27:AY27)-1} -> 0.040570545 | ... BB29: {=PRODUCT(1+AP27:BB27)-1} -> 0.038513831 | BC29: {=PRODUCT(1+AR27:BC27)-1} -> 0.037069875 | BE29: {=PRODUCT(1+AS27:BE27)-1} -> 0.038205429 | BF29: {=PRODUCT(1+AT27:BF27)-1} -> 0.038617538 | BG29: {=PRODUCT(1+AU27:BG27)-1} -> 0.033973481 | BH29: {=PRODUCT(1+AV27:BH27)-1} -> 0.032327845 | BI29: {=PRODUCT(1+AW27:BI27)-1} -> 0.03335647 | BJ29: {=PRODUCT(1+AX27:BJ27)-1} -> 0.036976838 | BK29: {=PRODUCT(1+AY27:BK27)-1} -> 0.040609526 | BL29: {=PRODUCT(1+AZ27:BL27)-1} -> 0.037078516 | ... BO29: {=PRODUCT(1+BC27:BO27)-1} -> 0.048409253 | BP29: =ANUAL!M20 -> 0.047679381 | BR29: {=PRODUCT(1+BF27:BR27)-1} -> 0.041741455 | BS29: {=PRODUCT(1+BG27:BS27)-1} -> 0.048665041 | BT29: {=PRODUCT(1+BH27:BT27)-1} -> 0.052014406 | BU29: {=PRODUCT(1+BI27:BU27)-1} -> 0.053167356 | BV29: {=PRODUCT(1+BJ27:BV27)-1} -> 0.052014176 | BW29: {=PRODUCT(1+BK27:BW27)-1} -> 0.051804298 | BX29: {=PRODUCT(1+BL27:BX27)-1} -> 0.05127976 | BY29: {=PRODUCT(1+BM27:BY27)-1} -> 0.050542832 | ... CB29: {=PRODUCT(1+BP27:CB27)-1} -> 0.041778029 | CC29: =ANUAL!$O$20 -> 0.038978665 | CE29: {=PRODUCT(1+BS27:CE27)-1} -> 0.043030682 | CF29: {=PRODUCT(1+BT27:CF27)-1} -> 0.033574747 | CG29: {=PRODUCT(1+BU27:CG27)-1} -> 0.037688068 | CH29: {=PRODUCT(1+BV27:CH27)-1} -> 0.04109608 | CI29: {=PRODUCT(1+BW27:CI27)-1} -> 0.044208475 | CJ29: {=PRODUCT(1+BX27:CJ27)-1} -> 0.043270844 | CK29: {=PRODUCT(1+BY27:CK27)-1} -> 0.040980458 | CL29: {=PRODUCT(1+BZ27:CL27)-1} -> 0.03983297 | ... CO29: {=PRODUCT(1+CC27:CO27)-1} -> 0.049686346 | CP29: =ANUAL!$Q$20 -> 0.055170962 | CR29: {=PRODUCT(1+CF27:CR27)-1} -> 0.05497943 | CS29: {=PRODUCT(1+CG27:CS27)-1} -> 0.053004778 | CT29: {=PRODUCT(1+CH27:CT27)-1} -> 0.047388378 | CU29: {=PRODUCT(1+CI27:CU27)-1} -> 0.042835366 | CV29: {=PRODUCT(1+CJ27:CV27)-1} -> 0.0399527 | CW29: {=PRODUCT(1+CK27:CW27)-1} -> 0.042359706 | CX29: {=PRODUCT(1+CL27:CX27)-1} -> 0.046339598 | CY29: {=PRODUCT(1+CM27:CY27)-1} -> 0.053601177 | ... DB29: {=PRODUCT(1+CP27:DB27)-1} -> 0.049305888 | DC29: =ANUAL!$S$20 -> 0.045536936 | DE29: {=PRODUCT(1+CS27:DE27)-1} -> 0.045135874 | DF29: {=PRODUCT(1+CT27:DF27)-1} -> 0.044734965 | DG29: {=PRODUCT(1+CU27:DG27)-1} -> 0.044334211 | DH29: {=PRODUCT(1+CV27:DH27)-1} -> 0.04393361 | DI29: {=PRODUCT(1+CW27:DI27)-1} -> 0.043533163 | DJ29: {=PRODUCT(1+CX27:DJ27)-1} -> 0.043132869 | DK29: {=PRODUCT(1+CY27:DK27)-1} -> 0.04273273 | DL29: {=PRODUCT(1+CZ27:DL27)-1} -> 0.042332743 | ... DO29: {=PRODUCT(1+DC27:DO27)-1} -> 0.041133704 | DP29: =ANUAL!$U$20 -> 0.040734331 | DR29: {=PRODUCT(1+DF27:DR27)-1} -> 0.040474876 | DS29: {=PRODUCT(1+DG27:DS27)-1} -> 0.040215486 | DT29: {=PRODUCT(1+DH27:DT27)-1} -> 0.039956161 | DU29: {=PRODUCT(1+DI27:DU27)-1} -> 0.0396969 | DV29: {=PRODUCT(1+DJ27:DV27)-1} -> 0.039437704 | DW29: {=PRODUCT(1+DK27:DW27)-1} -> 0.039178573 | DX29: {=PRODUCT(1+DL27:DX27)-1} -> 0.038919506 | DY29: {=PRODUCT(1+DM27:DY27)-1} -> 0.038660504 | ... EB29: {=PRODUCT(1+DP27:EB27)-1} -> 0.037883884 | EC29: =ANUAL!$W$20 -> 0.03762514 | EE29: {=PRODUCT(1+DS27:EE27)-1} -> 0.037495792 | EF29: {=PRODUCT(1+DT27:EF27)-1} -> 0.037366461 | EG29: {=PRODUCT(1+DU27:EG27)-1} -> 0.037237145 | EH29: {=PRODUCT(1+DV27:EH27)-1} -> 0.037107846 | EI29: {=PRODUCT(1+DW27:EI27)-1} -> 0.036978563 | EJ29: {=PRODUCT(1+DX27:EJ27)-1} -> 0.036849296 | EK29: {=PRODUCT(1+DY27:EK27)-1} -> 0.036720045 | EL29: {=PRODUCT(1+DZ27:EL27)-1} -> 0.03659081 | ... EO29: {=PRODUCT(1+EC27:EO27)-1} -> 0.036203202 | EP29: =ANUAL!$Y$20 -> 0.036074032 | ER29: {=PRODUCT(1+EF27:ER27)-1} -> 0.035973549 | ES29: {=PRODUCT(1+EG27:ES27)-1} -> 0.035873076 | ET29: {=PRODUCT(1+EH27:ET27)-1} -> 0.035772612 | EU29: {=PRODUCT(1+EI27:EU27)-1} -> 0.035672159 | EV29: {=PRODUCT(1+EJ27:EV27)-1} -> 0.035571715 | EW29: {=PRODUCT(1+EK27:EW27)-1} -> 0.035471281 | EX29: {=PRODUCT(1+EL27:EX27)-1} -> 0.035370856 | EY29: {=PRODUCT(1+EM27:EY27)-1} -> 0.035270442 | ... FB29: {=PRODUCT(1+EP27:FB27)-1} -> 0.034969256 | FC29: =ANUAL!$AA$20 -> 0.034868881 | FE29: {=PRODUCT(1+ES27:FE27)-1} -> 0.034860691 | FF29: {=PRODUCT(1+ET27:FF27)-1} -> 0.034852501 | FG29: {=PRODUCT(1+EU27:FG27)-1} -> 0.034844311 | FH29: {=PRODUCT(1+EV27:FH27)-1} -> 0.034836121 | FI29: {=PRODUCT(1+EW27:FI27)-1} -> 0.034827932 | FJ29: {=PRODUCT(1+EX27:FJ27)-1} -> 0.034819742 | FK29: {=PRODUCT(1+EY27:FK27)-1} -> 0.034811553 | FL29: {=PRODUCT(1+EZ27:FL27)-1} -> 0.034803363 | ... FO29: {=PRODUCT(1+FC27:FO27)-1} -> 0.034778795 | FP29: =ANUAL!$AC$20 -> 0.034770606 | FR29: {=PRODUCT(1+FF27:FR27)-1} -> 0.034678288 | FS29: {=PRODUCT(1+FG27:FS27)-1} -> 0.034585977 | FT29: {=PRODUCT(1+FH27:FT27)-1} -> 0.034493676 | FU29: {=PRODUCT(1+FI27:FU27)-1} -> 0.034401382 | FV29: {=PRODUCT(1+FJ27:FV27)-1} -> 0.034309097 | FW29: {=PRODUCT(1+FK27:FW27)-1} -> 0.034216819 | FX29: {=PRODUCT(1+FL27:FX27)-1} -> 0.034124551 | FY29: {=PRODUCT(1+FM27:FY27)-1} -> 0.03403229 | ... GB29: {=PRODUCT(1+FP27:GB27)-1} -> 0.033755557 | GC29: =ANUAL!$AE$20 -> 0.033663329 | GE29: {=PRODUCT(1+FS27:GE27)-1} -> 0.033663329 | GF29: {=PRODUCT(1+FT27:GF27)-1} -> 0.033663329 | GG29: {=PRODUCT(1+FU27:GG27)-1} -> 0.033663329 | GH29: {=PRODUCT(1+FV27:GH27)-1} -> 0.033663329 | GI29: {=PRODUCT(1+FW27:GI27)-1} -> 0.033663329 | GJ29: {=PRODUCT(1+FX27:GJ27)-1} -> 0.033663329 | GK29: {=PRODUCT(1+FY27:GK27)-1} -> 0.033663329 | GL29: {=PRODUCT(1+FZ27:GL27)-1} -> 0.033663329 | ... GO29: {=PRODUCT(1+GC27:GO27)-1} -> 0.033663329 | GP29: =ANUAL!$AG$20 -> 0.033663329
C31: CPI US | E31: 0.0019216642 | F31: 0.00047467072 | G31: -0.0045284474 | H31: -0.0079201476 | I31: -0.00089832521 | J31: 0.0048474992 | K31: 0.0050964434 | L31: 0.0037313433 | M31: 0.0026261395 | N31: 0.0012384758 | O31: 0.0022741329 | P31: 0.0043463097 | R31: 0.0022667862 | S31: 0.0035562121 | T31: 0.0048335755 | U31: 0.0067133099 | V31: 0.0066722925 | W31: 0.0085915262 | X31: 0.0046359573 | Y31: 0.0028937547 | Z31: 0.0043629378 | AA31: 0.0094399544 | AB31: 0.0083029567 | AC31: 0.0071084268 | AE31: 0.0061822041 | AF31: 0.0070184256 | AG31: 0.01034004 | AH31: 0.0038787061 | AI31: 0.0094150016 | AJ31: 0.012952327 | AK31: -0.00044734844 | AL31: 0.00075269546 | AM31: 0.0042654542 | AN31: 0.0052560379 | AO31: 0.0024464811 | AP31: 0.0003347751 | AR31: 0.0055152472 | AS31: 0.0033948398 | AT31: 0.00055394128 | AU31: 0.0040279403 | AV31: 0.0015122599 | AW31: 0.0025814662 | AX31: 0.0016968158 | AY31: 0.0049997538 | AZ31: 0.0040373949 | BA31: 0.000907689 | BB31: 0.0014106802 | BC31: 0.002103302 | BE31: 0.0030996855 | BF31: 0.0040975402 | BG31: 0.0044313384 | BH31: 0.0021706767 | BI31: 0.00048558732 | BJ31: -0.00041829648 | BK31: 0.0016770805 | BL31: 0 | BM31: 0.0015722217 | BN31: 0.0021333367 | BO31: 0.0028563985 | BP31: 0.0028419262 | BR31: 0.0033993833 | BS31: 0.0042726162 | BT31: 0.0022510589 | BU31: 0.00033158262 | BV31: 0.0016167112 | BW31: 0.00099281303 | BX31: 0.00254195 | BY31: 0.0022835099 | BZ31: 0.0034826442 | CA31: 0.0029509018 | CB31: 0.0025227837 | CC31: 0.0029778843 | CE31: 0.0017084265 | CF31: 0.0026700307 | CG31: 0.0086514383 | CH31: 0.0064003778 | CI31: 0.0047291423 | CJ31: -0.0042248165 | CK31: 0.00073669144 | CL31: 0.0039601818 | CM31: 0.0020174419 | CN31: 0.0020174419 | CO31: 0.0020174419 | CP31: 0.0020174419 | CR31: =(DC33+1)^(CR$10/360)-1 -> 0.0020174419 | CS31: =(DC33+1)^(CS$10/360)-1 -> 0.0020174419 | CT31: =(DC33+1)^(CT$10/360)-1 -> 0.0020174419 | CU31: =(DC33+1)^(CU$10/360)-1 -> 0.0020174419 | CV31: =(DC33+1)^(CV$10/360)-1 -> 0.0020174419 | CW31: =(DC33+1)^(CW$10/360)-1 -> 0.0020174419 | CX31: =(DC33+1)^(CX$10/360)-1 -> 0.0020174419 | CY31: =(DC33+1)^(CY$10/360)-1 -> 0.0020174419 | CZ31: =(DC33+1)^(CZ$10/360)-1 -> 0.0020174419 | DA31: =(DC33+1)^(DA$10/360)-1 -> 0.0020174419 | DB31: =(DC33+1)^(DB$10/360)-1 -> 0.0020174419 | DC31: =(DC33+1)^(DC$10/360)-1 -> 0.0020174419 | DE31: =(DP33+1)^(DE$10/360)-1 -> 0.0020174419 | DF31: =(DP33+1)^(DF$10/360)-1 -> 0.0020174419 | DG31: =(DP33+1)^(DG$10/360)-1 -> 0.0020174419 | DH31: =(DP33+1)^(DH$10/360)-1 -> 0.0020174419 | DI31: =(DP33+1)^(DI$10/360)-1 -> 0.0020174419 | DJ31: =(DP33+1)^(DJ$10/360)-1 -> 0.0020174419 | DK31: =(DP33+1)^(DK$10/360)-1 -> 0.0020174419 | DL31: =(DP33+1)^(DL$10/360)-1 -> 0.0020174419 | DM31: =(DP33+1)^(DM$10/360)-1 -> 0.0020174419 | DN31: =(DP33+1)^(DN$10/360)-1 -> 0.0020174419 | DO31: =(DP33+1)^(DO$10/360)-1 -> 0.0020174419 | DP31: =(DP33+1)^(DP$10/360)-1 -> 0.0020174419 | DR31: =($EC$33+1)^(DR$10/360)-1 -> 0.0020174419 | DS31: =($EC$33+1)^(DS$10/360)-1 -> 0.0020174419 | DT31: =($EC$33+1)^(DT$10/360)-1 -> 0.0020174419 | DU31: =($EC$33+1)^(DU$10/360)-1 -> 0.0020174419 | DV31: =($EC$33+1)^(DV$10/360)-1 -> 0.0020174419 | DW31: =($EC$33+1)^(DW$10/360)-1 -> 0.0020174419 | DX31: =($EC$33+1)^(DX$10/360)-1 -> 0.0020174419 | DY31: =($EC$33+1)^(DY$10/360)-1 -> 0.0020174419 | ... EC31: =($EC$33+1)^(EC$10/360)-1 -> 0.0020174419 | EE31: =($EP$33+1)^(EE$10/360)-1 -> 0.0020174419 | EF31: =($EP$33+1)^(EF$10/360)-1 -> 0.0020174419 | EG31: =($EP$33+1)^(EG$10/360)-1 -> 0.0020174419 | EH31: =($EP$33+1)^(EH$10/360)-1 -> 0.0020174419 | EI31: =($EP$33+1)^(EI$10/360)-1 -> 0.0020174419 | EJ31: =($EP$33+1)^(EJ$10/360)-1 -> 0.0020174419 | EK31: =($EP$33+1)^(EK$10/360)-1 -> 0.0020174419 | EL31: =($EP$33+1)^(EL$10/360)-1 -> 0.0020174419 | ... EP31: =($EP$33+1)^(EP$10/360)-1 -> 0.0020174419 | ER31: =($FC$33+1)^(ER$10/360)-1 -> 0.0020174419 | ES31: =($FC$33+1)^(ES$10/360)-1 -> 0.0020174419 | ET31: =($FC$33+1)^(ET$10/360)-1 -> 0.0020174419 | EU31: =($FC$33+1)^(EU$10/360)-1 -> 0.0020174419 | EV31: =($FC$33+1)^(EV$10/360)-1 -> 0.0020174419 | EW31: =($FC$33+1)^(EW$10/360)-1 -> 0.0020174419 | EX31: =($FC$33+1)^(EX$10/360)-1 -> 0.0020174419 | EY31: =($FC$33+1)^(EY$10/360)-1 -> 0.0020174419 | ... FC31: =($FC$33+1)^(FC$10/360)-1 -> 0.0020174419 | FE31: =($FP$33+1)^(FE$10/360)-1 -> 0.0020174419 | FF31: =($FP$33+1)^(FF$10/360)-1 -> 0.0020174419 | FG31: =($FP$33+1)^(FG$10/360)-1 -> 0.0020174419 | FH31: =($FP$33+1)^(FH$10/360)-1 -> 0.0020174419 | FI31: =($FP$33+1)^(FI$10/360)-1 -> 0.0020174419 | FJ31: =($FP$33+1)^(FJ$10/360)-1 -> 0.0020174419 | FK31: =($FP$33+1)^(FK$10/360)-1 -> 0.0020174419 | FL31: =($FP$33+1)^(FL$10/360)-1 -> 0.0020174419 | ... FP31: =($FP$33+1)^(FP$10/360)-1 -> 0.0020174419 | FR31: =($GC$33+1)^(FR$10/360)-1 -> 0.0020174419 | FS31: =($GC$33+1)^(FS$10/360)-1 -> 0.0020174419 | FT31: =($GC$33+1)^(FT$10/360)-1 -> 0.0020174419 | FU31: =($GC$33+1)^(FU$10/360)-1 -> 0.0020174419 | FV31: =($GC$33+1)^(FV$10/360)-1 -> 0.0020174419 | FW31: =($GC$33+1)^(FW$10/360)-1 -> 0.0020174419 | FX31: =($GC$33+1)^(FX$10/360)-1 -> 0.0020174419 | FY31: =($GC$33+1)^(FY$10/360)-1 -> 0.0020174419 | ... GC31: =($GC$33+1)^(GC$10/360)-1 -> 0.0020174419 | GE31: =($GP$33+1)^(GE$10/360)-1 -> 0.0020174419 | GF31: =($GP$33+1)^(GF$10/360)-1 -> 0.0020174419 | GG31: =($GP$33+1)^(GG$10/360)-1 -> 0.0020174419 | GH31: =($GP$33+1)^(GH$10/360)-1 -> 0.0020174419 | GI31: =($GP$33+1)^(GI$10/360)-1 -> 0.0020174419 | GJ31: =($GP$33+1)^(GJ$10/360)-1 -> 0.0020174419 | GK31: =($GP$33+1)^(GK$10/360)-1 -> 0.0020174419 | GL31: =($GP$33+1)^(GL$10/360)-1 -> 0.0020174419 | ... GP31: =($GP$33+1)^(GP$10/360)-1 -> 0.0020174419
C33: Acumulado12 meses | E33: 0.024870813 | F33: 0.023350188 | G33: 0.015392471 | H33: 0.0032820999 | I33: 0.0011696742 | J33: 0.0064447833 | K33: 0.0098509429 | L33: 0.013082627 | M33: 0.013700126 | N33: 0.011808838 | O33: 0.011737973 | P33: {=PRODUCT(1+E31:P31)-1} -> 0.013204191 | R33: {=PRODUCT(1+F31:R31)-1} -> 0.0135532 | S33: {=PRODUCT(1+G31:S31)-1} -> 0.016675024 | T33: {=PRODUCT(1+H31:T31)-1} -> 0.026236457 | U33: {=PRODUCT(1+I31:U31)-1} -> 0.041373735 | V33: {=PRODUCT(1+J31:V31)-1} -> 0.049264666 | W33: {=PRODUCT(1+K31:W31)-1} -> 0.053174189 | X33: {=PRODUCT(1+L31:X31)-1} -> 0.052691676 | Y33: {=PRODUCT(1+M31:Y31)-1} -> 0.051813232 | ... AB33: {=PRODUCT(1+P31:AB31)-1} -> 0.068655595 | AC33: {=PRODUCT(1+R31:AC31)-1} -> 0.071594573 | AE33: {=PRODUCT(1+S31:AE31)-1} -> 0.075780825 | AF33: {=PRODUCT(1+T31:AF31)-1} -> 0.079492209 | AG33: {=PRODUCT(1+U31:AG31)-1} -> 0.085407801 | AH33: {=PRODUCT(1+V31:AH31)-1} -> 0.082351617 | AI33: {=PRODUCT(1+W31:AI31)-1} -> 0.085300517 | AJ33: {=PRODUCT(1+X31:AJ31)-1} -> 0.089992981 | AK33: {=PRODUCT(1+Y31:AK31)-1} -> 0.084477782 | AL33: {=PRODUCT(1+Z31:AL31)-1} -> 0.082162551 | ... AO33: {=PRODUCT(1+AC31:AO31)-1} -> 0.071313804 | AP33: {=PRODUCT(1+AE31:AP31)-1} -> 0.064108317 | AR33: {=PRODUCT(1+AF31:AR31)-1} -> 0.063402963 | AS33: {=PRODUCT(1+AG31:AS31)-1} -> 0.059576487 | AT33: {=PRODUCT(1+AH31:AT31)-1} -> 0.049313486 | AU33: {=PRODUCT(1+AI31:AU31)-1} -> 0.049469475 | AV33: {=PRODUCT(1+AJ31:AV31)-1} -> 0.041253145 | AW33: {=PRODUCT(1+AK31:AW31)-1} -> 0.030592533 | AX33: {=PRODUCT(1+AL31:AX31)-1} -> 0.032803282 | AY33: {=PRODUCT(1+AM31:AY31)-1} -> 0.037186359 | ... BB33: {=PRODUCT(1+AP31:BB31)-1} -> 0.031398556 | BC33: {=PRODUCT(1+AR31:BC31)-1} -> 0.033222002 | BE33: {=PRODUCT(1+AS31:BE31)-1} -> 0.03073988 | BF33: {=PRODUCT(1+AT31:BF31)-1} -> 0.031461731 | BG33: {=PRODUCT(1+AU31:BG31)-1} -> 0.035458903 | BH33: {=PRODUCT(1+AV31:BH31)-1} -> 0.033543498 | BI33: {=PRODUCT(1+AW31:BI31)-1} -> 0.03248399 | BJ33: {=PRODUCT(1+AX31:BJ31)-1} -> 0.029394758 | BK33: {=PRODUCT(1+AY31:BK31)-1} -> 0.029374477 | BL33: {=PRODUCT(1+AZ31:BL31)-1} -> 0.024253461 | ... BO33: {=PRODUCT(1+BC31:BO31)-1} -> 0.02446668 | BP33: =ANUAL!M22 -> 0.025221788 | BR33: {=PRODUCT(1+BF31:BR31)-1} -> 0.025528095 | BS33: {=PRODUCT(1+BG31:BS31)-1} -> 0.025706908 | BT33: {=PRODUCT(1+BH31:BT31)-1} -> 0.023480446 | BU33: {=PRODUCT(1+BI31:BU31)-1} -> 0.021602246 | BV33: {=PRODUCT(1+BJ31:BV31)-1} -> 0.022757244 | BW33: {=PRODUCT(1+BK31:BW31)-1} -> 0.024201071 | BX33: {=PRODUCT(1+BL31:BX31)-1} -> 0.025085388 | BY33: {=PRODUCT(1+BM31:BY31)-1} -> 0.027426181 | ... CB33: {=PRODUCT(1+BP31:CB31)-1} -> 0.029882996 | CC33: =ANUAL!$O$22 -> 0.03002262 | CE33: {=PRODUCT(1+BS31:CE31)-1} -> 0.028286797 | CF33: {=PRODUCT(1+BT31:CF31)-1} -> 0.026645891 | CG33: {=PRODUCT(1+BU31:CG31)-1} -> 0.033202056 | CH33: {=PRODUCT(1+BV31:CH31)-1} -> 0.039470269 | CI33: {=PRODUCT(1+BW31:CI31)-1} -> 0.042700327 | CJ33: {=PRODUCT(1+BX31:CJ31)-1} -> 0.037265298 | CK33: {=PRODUCT(1+BY31:CK31)-1} -> 0.035397514 | CL33: {=PRODUCT(1+BZ31:CL31)-1} -> 0.037129581 | ... CO33: {=PRODUCT(1+CC31:CO31)-1} -> 0.034129852 | CP33: =ANUAL!$Q$22 -> 0.033139579 | CR33: {=PRODUCT(1+CF31:CR31)-1} -> 0.033458291 | CS33: {=PRODUCT(1+CG31:CS31)-1} -> 0.032785663 | CT33: {=PRODUCT(1+CH31:CT31)-1} -> 0.025992934 | CU33: {=PRODUCT(1+CI31:CU31)-1} -> 0.021524671 | CV33: {=PRODUCT(1+CJ31:CV31)-1} -> 0.01876764 | CW33: {=PRODUCT(1+CK31:CW31)-1} -> 0.025154033 | CX33: {=PRODUCT(1+CL31:CX31)-1} -> 0.026466033 | CY33: {=PRODUCT(1+CM31:CY31)-1} -> 0.024479742 | ... DB33: {=PRODUCT(1+CP31:DB31)-1} -> 0.024479742 | DC33: =ANUAL!$S$22 -> 0.024479742 | DE33: {=PRODUCT(1+CS31:DE31)-1} -> 0.024479742 | DF33: {=PRODUCT(1+CT31:DF31)-1} -> 0.024479742 | DG33: {=PRODUCT(1+CU31:DG31)-1} -> 0.024479742 | DH33: {=PRODUCT(1+CV31:DH31)-1} -> 0.024479742 | DI33: {=PRODUCT(1+CW31:DI31)-1} -> 0.024479742 | DJ33: {=PRODUCT(1+CX31:DJ31)-1} -> 0.024479742 | DK33: {=PRODUCT(1+CY31:DK31)-1} -> 0.024479742 | DL33: {=PRODUCT(1+CZ31:DL31)-1} -> 0.024479742 | ... DO33: {=PRODUCT(1+DC31:DO31)-1} -> 0.024479742 | DP33: =ANUAL!$U$22 -> 0.024479742 | DR33: {=PRODUCT(1+DF31:DR31)-1} -> 0.024479742 | DS33: {=PRODUCT(1+DG31:DS31)-1} -> 0.024479742 | DT33: {=PRODUCT(1+DH31:DT31)-1} -> 0.024479742 | DU33: {=PRODUCT(1+DI31:DU31)-1} -> 0.024479742 | DV33: {=PRODUCT(1+DJ31:DV31)-1} -> 0.024479742 | DW33: {=PRODUCT(1+DK31:DW31)-1} -> 0.024479742 | DX33: {=PRODUCT(1+DL31:DX31)-1} -> 0.024479742 | DY33: {=PRODUCT(1+DM31:DY31)-1} -> 0.024479742 | ... EB33: {=PRODUCT(1+DP31:EB31)-1} -> 0.024479742 | EC33: =ANUAL!$W$22 -> 0.024479742 | EE33: {=PRODUCT(1+DS31:EE31)-1} -> 0.024479742 | EF33: {=PRODUCT(1+DT31:EF31)-1} -> 0.024479742 | EG33: {=PRODUCT(1+DU31:EG31)-1} -> 0.024479742 | EH33: {=PRODUCT(1+DV31:EH31)-1} -> 0.024479742 | EI33: {=PRODUCT(1+DW31:EI31)-1} -> 0.024479742 | EJ33: {=PRODUCT(1+DX31:EJ31)-1} -> 0.024479742 | EK33: {=PRODUCT(1+DY31:EK31)-1} -> 0.024479742 | EL33: {=PRODUCT(1+DZ31:EL31)-1} -> 0.024479742 | ... EO33: {=PRODUCT(1+EC31:EO31)-1} -> 0.024479742 | EP33: =ANUAL!$Y$22 -> 0.024479742 | ER33: {=PRODUCT(1+EF31:ER31)-1} -> 0.024479742 | ES33: {=PRODUCT(1+EG31:ES31)-1} -> 0.024479742 | ET33: {=PRODUCT(1+EH31:ET31)-1} -> 0.024479742 | EU33: {=PRODUCT(1+EI31:EU31)-1} -> 0.024479742 | EV33: {=PRODUCT(1+EJ31:EV31)-1} -> 0.024479742 | EW33: {=PRODUCT(1+EK31:EW31)-1} -> 0.024479742 | EX33: {=PRODUCT(1+EL31:EX31)-1} -> 0.024479742 | EY33: {=PRODUCT(1+EM31:EY31)-1} -> 0.024479742 | ... FB33: {=PRODUCT(1+EP31:FB31)-1} -> 0.024479742 | FC33: =ANUAL!$AA$22 -> 0.024479742 | FE33: {=PRODUCT(1+ES31:FE31)-1} -> 0.024479742 | FF33: {=PRODUCT(1+ET31:FF31)-1} -> 0.024479742 | FG33: {=PRODUCT(1+EU31:FG31)-1} -> 0.024479742 | FH33: {=PRODUCT(1+EV31:FH31)-1} -> 0.024479742 | FI33: {=PRODUCT(1+EW31:FI31)-1} -> 0.024479742 | FJ33: {=PRODUCT(1+EX31:FJ31)-1} -> 0.024479742 | FK33: {=PRODUCT(1+EY31:FK31)-1} -> 0.024479742 | FL33: {=PRODUCT(1+EZ31:FL31)-1} -> 0.024479742 | ... FO33: {=PRODUCT(1+FC31:FO31)-1} -> 0.024479742 | FP33: =ANUAL!$AC$22 -> 0.024479742 | FR33: {=PRODUCT(1+FF31:FR31)-1} -> 0.024479742 | FS33: {=PRODUCT(1+FG31:FS31)-1} -> 0.024479742 | FT33: {=PRODUCT(1+FH31:FT31)-1} -> 0.024479742 | FU33: {=PRODUCT(1+FI31:FU31)-1} -> 0.024479742 | FV33: {=PRODUCT(1+FJ31:FV31)-1} -> 0.024479742 | FW33: {=PRODUCT(1+FK31:FW31)-1} -> 0.024479742 | FX33: {=PRODUCT(1+FL31:FX31)-1} -> 0.024479742 | FY33: {=PRODUCT(1+FM31:FY31)-1} -> 0.024479742 | ... GB33: {=PRODUCT(1+FP31:GB31)-1} -> 0.024479742 | GC33: =ANUAL!$AE$22 -> 0.024479742 | GE33: {=PRODUCT(1+FS31:GE31)-1} -> 0.024479742 | GF33: {=PRODUCT(1+FT31:GF31)-1} -> 0.024479742 | GG33: {=PRODUCT(1+FU31:GG31)-1} -> 0.024479742 | GH33: {=PRODUCT(1+FV31:GH31)-1} -> 0.024479742 | GI33: {=PRODUCT(1+FW31:GI31)-1} -> 0.024479742 | GJ33: {=PRODUCT(1+FX31:GJ31)-1} -> 0.024479742 | GK33: {=PRODUCT(1+FY31:GK31)-1} -> 0.024479742 | GL33: {=PRODUCT(1+FZ31:GL31)-1} -> 0.024479742 | ... GO33: {=PRODUCT(1+GC31:GO31)-1} -> 0.024479742 | GP33: =ANUAL!$AG$22 -> 0.024479742
C35: CÂMBIO
C37: Begining Exchange Rate (PTAX) | E37: 4.0307 | F37: 4.2695 | G37: 4.4987 | H37: 5.1987 | I37: 5.427 | J37: 5.4263 | K37: 5.476 | L37: 5.2033 | M37: 5.4713 | N37: 5.6407 | O37: 5.7718 | P37: 5.3317 | R37: =P39 -> 5.1967 | S37: =R39 -> 5.4759 | T37: =S39 -> 5.5302 | U37: =T39 -> 5.6973 | V37: =U39 -> 5.4036 | W37: =V39 -> 5.2322 | X37: =W39 -> 5.0022 | Y37: =X39 -> 5.1216 | Z37: =Y39 -> 5.1433 | ... AC37: =AB39 -> 5.6199 | AE37: =AC39 -> 5.5805 | AF37: =AE39 -> 5.3574 | AG37: =AF39 -> 5.1394 | AH37: =AG39 -> 4.7378 | AI37: =AH39 -> 4.9191 | AJ37: =AI39 -> 4.7289 | AK37: =AJ39 -> 5.238 | AL37: =AK39 -> 5.1884 | AM37: =AL39 -> 5.179 | ... AP37: =AO39 -> 5.2941 | AR37: =AP39 -> 5.2177 | AS37: =AR39 -> 5.0993 | AT37: =AS39 -> 5.2078 | AU37: =AT39 -> 5.0804 | AV37: =AU39 -> 5.0007 | AW37: =AV39 -> 5.0959 | AX37: =AW39 -> 4.8192 | AY37: =AX39 -> 4.7415 | AZ37: =AY39 -> 4.9219 | ... BC37: =BB39 -> 4.9355 | BE37: =BC39 -> 4.8413 | BF37: =BE39 -> 4.9535 | BG37: =BF39 -> 4.9833 | BH37: =BG39 -> 4.9962 | BI37: =BH39 -> 5.1718 | BJ37: =BI39 -> 5.2416 | BK37: =BJ39 -> 5.5589 | BL37: =BK39 -> 5.6621 | BM37: =BL39 -> 5.6562 | ... BP37: =BO39 -> 6.0535 | BR37: =BP39 -> 6.1923 | BS37: =BR39 -> 5.8301 | BT37: =BS39 -> 5.8488 | BU37: =BT39 -> 5.7422 | BV37: =BU39 -> 5.6608 | BW37: =BV39 -> 5.7087 | BX37: =BW39 -> 5.4571 | BY37: =BX39 -> 5.6034 | BZ37: =BY39 -> 5.4264 | ... CC37: =CB39 -> 5.3338 | CE37: =CC39 -> 5.5024 | CF37: =CE39 -> 5.2301 | CG37: =CF39 -> 5.1495 | CH37: =CG39 -> 5.2194 | CI37: =CH39 -> 4.9886 | CJ37: =CI39 -> 5.0569 | CK37: =CJ39 -> 5.1766 | CL37: =CK39 -> 5.0773 | CM37: =CL39 -> 5.1816 | ... CP37: =CO39 -> 5.3 | CR37: =CP39 -> 5.3 | CS37: =CR39 -> 5.29 | CT37: =CS39 -> 5.29 | CU37: =CT39 -> 5.28 | CV37: =CU39 -> 5.28 | CW37: =CV39 -> 5.27 | CX37: =CW39 -> 5.27 | CY37: =CX39 -> 5.26 | CZ37: =CY39 -> 5.26 | ... DC37: =DB39 -> 5.25 | DE37: =DC39 -> 5.25 | DF37: =DE39 -> 5.2533333 | DG37: =DF39 -> 5.2566667 | DH37: =DG39 -> 5.26 | DI37: =DH39 -> 5.2633333 | DJ37: =DI39 -> 5.2666667 | DK37: =DJ39 -> 5.27 | DL37: =DK39 -> 5.2733333 | DM37: =DL39 -> 5.2766667 | ... DP37: =DO39 -> 5.2866667 | DR37: =DP39 -> 5.29 | DS37: =DR39 -> 5.2933333 | DT37: =DS39 -> 5.2966667 | DU37: =DT39 -> 5.3 | DV37: =DU39 -> 5.3033333 | DW37: =DV39 -> 5.3066667 | DX37: =DW39 -> 5.31 | DY37: =DX39 -> 5.3133333 | DZ37: =DY39 -> 5.3166667 | ... EC37: =EB39 -> 5.3266667 | EE37: =EC39 -> 5.33 | EF37: =EE39 -> 5.3333333 | EG37: =EF39 -> 5.3366667 | EH37: =EG39 -> 5.34 | EI37: =EH39 -> 5.3433333 | EJ37: =EI39 -> 5.3466667 | EK37: =EJ39 -> 5.35 | EL37: =EK39 -> 5.3533333 | EM37: =EL39 -> 5.3566667 | ... EP37: =EO39 -> 5.3666667 | ER37: =EP39 -> 5.37 | ES37: =ER39 -> 5.3733333 | ET37: =ES39 -> 5.3766667 | EU37: =ET39 -> 5.38 | EV37: =EU39 -> 5.3833333 | EW37: =EV39 -> 5.3866667 | EX37: =EW39 -> 5.39 | EY37: =EX39 -> 5.3933333 | EZ37: =EY39 -> 5.3966667 | ... FC37: =FB39 -> 5.4066667 | FE37: =FC39 -> 5.41 | FF37: =FE39 -> 5.4141667 | FG37: =FF39 -> 5.4183333 | FH37: =FG39 -> 5.4225 | FI37: =FH39 -> 5.4266667 | FJ37: =FI39 -> 5.4308333 | FK37: =FJ39 -> 5.435 | FL37: =FK39 -> 5.4391667 | FM37: =FL39 -> 5.4433333 | ... FP37: =FO39 -> 5.4558333 | FR37: =FP39 -> 5.46 | FS37: =FR39 -> 5.4633333 | FT37: =FS39 -> 5.4666667 | FU37: =FT39 -> 5.47 | FV37: =FU39 -> 5.4733333 | FW37: =FV39 -> 5.4766667 | FX37: =FW39 -> 5.48 | FY37: =FX39 -> 5.4833333 | FZ37: =FY39 -> 5.4866667 | ... GC37: =GB39 -> 5.4966667 | GE37: =GC39 -> 5.5 | GF37: =GE39 -> 5.5033333 | GG37: =GF39 -> 5.5066667 | GH37: =GG39 -> 5.51 | GI37: =GH39 -> 5.5133333 | GJ37: =GI39 -> 5.5166667 | GK37: =GJ39 -> 5.52 | GL37: =GK39 -> 5.5233333 | GM37: =GL39 -> 5.5266667 | ... GP37: =GO39 -> 5.5366667
C39: Ending Exchange Rate (PTAX) | E39: 4.2695 | F39: 4.4987 | G39: 5.1987 | H39: 5.427 | I39: 5.4263 | J39: 5.476 | K39: 5.2033 | L39: 5.4713 | M39: 5.6407 | N39: 5.7718 | O39: 5.3317 | P39: 5.1967 | R39: =5.4759 -> 5.4759 | S39: 5.5302 | T39: 5.6973 | U39: 5.4036 | V39: 5.2322 | W39: 5.0022 | X39: 5.1216 | Y39: 5.1433 | Z39: 5.4394 | AA39: 5.643 | AB39: 5.6199 | AC39: 5.5805 | AE39: 5.3574 | AF39: =5.1394 -> 5.1394 | AG39: 4.7378 | AH39: 4.9191 | AI39: =4.7289 -> 4.7289 | AJ39: =5.238 -> 5.238 | AK39: =5.1884 -> 5.1884 | AL39: 5.179 | AM39: =5.4066 -> 5.4066 | AN39: 5.257 | AO39: =5.2941 -> 5.2941 | AP39: =5.2177 -> 5.2177 | AR39: =5.0993 -> 5.0993 | AS39: 5.2078 | AT39: 5.0804 | AU39: 5.0007 | AV39: 5.0959 | AW39: =4.8192 -> 4.8192 | AX39: =4.7415 -> 4.7415 | AY39: =4.9219 -> 4.9219 | AZ39: =5.0076 -> 5.0076 | BA39: 5.0575 | BB39: =4.9355 -> 4.9355 | BC39: 4.8413 | BE39: 4.9535 | BF39: =4.9833 -> 4.9833 | BG39: 4.9962 | BH39: 5.1718 | BI39: 5.2416 | BJ39: 5.5589 | BK39: =5.6621 -> 5.6621 | BL39: =5.6562 -> 5.6562 | BM39: 5.4481 | BN39: 5.7779 | BO39: 6.0535 | BP39: =ANUAL!M28 -> 6.1923 | BR39: 5.8301 | BS39: 5.8488 | BT39: 5.7422 | BU39: 5.6608 | BV39: 5.7087 | BW39: 5.4571 | BX39: 5.6034 | BY39: 5.4264 | BZ39: 5.3186 | CA39: 5.3843 | CB39: 5.3338 | CC39: 5.5024 | CE39: 5.2301 | CF39: 5.1495 | CG39: 5.2194 | CH39: 4.9886 | CI39: 5.0569 | CJ39: 5.1766 | CK39: 5.0773 | CL39: 5.1816 | CM39: 5.1809 | CN39: 5.3 | CO39: 5.3 | CP39: =ANUAL!$Q$28 -> 5.3 | CR39: 5.29 | CS39: 5.29 | CT39: 5.28 | CU39: 5.28 | CV39: 5.27 | CW39: 5.27 | CX39: 5.26 | CY39: 5.26 | CZ39: 5.25 | DA39: 5.25 | DB39: 5.25 | DC39: =ANUAL!$S$28 -> 5.25 | DE39: =($DP$39-$DC$39)/12+DC39 -> 5.2533333 | DF39: =($DP$39-$DC$39)/12+DE39 -> 5.2566667 | DG39: =($DP$39-$DC$39)/12+DF39 -> 5.26 | DH39: =($DP$39-$DC$39)/12+DG39 -> 5.2633333 | DI39: =($DP$39-$DC$39)/12+DH39 -> 5.2666667 | DJ39: =($DP$39-$DC$39)/12+DI39 -> 5.27 | DK39: =($DP$39-$DC$39)/12+DJ39 -> 5.2733333 | DL39: =($DP$39-$DC$39)/12+DK39 -> 5.2766667 | DM39: =($DP$39-$DC$39)/12+DL39 -> 5.28 | ... DO39: =($DP$39-$DC$39)/12+DN39 -> 5.2866667 | DP39: =ANUAL!$U$28 -> 5.29 | DR39: =($EC$39-$DP$39)/12+DP39 -> 5.2933333 | DS39: =($EC$39-$DP$39)/12+DR39 -> 5.2966667 | DT39: =($EC$39-$DP$39)/12+DS39 -> 5.3 | DU39: =($EC$39-$DP$39)/12+DT39 -> 5.3033333 | DV39: =($EC$39-$DP$39)/12+DU39 -> 5.3066667 | DW39: =($EC$39-$DP$39)/12+DV39 -> 5.31 | DX39: =($EC$39-$DP$39)/12+DW39 -> 5.3133333 | DY39: =($EC$39-$DP$39)/12+DX39 -> 5.3166667 | DZ39: =($EC$39-$DP$39)/12+DY39 -> 5.32 | ... EB39: =($EC$39-$DP$39)/12+EA39 -> 5.3266667 | EC39: =ANUAL!$W$28 -> 5.33 | EE39: =($EP$39-$EC$39)/12+EC39 -> 5.3333333 | EF39: =($EP$39-$EC$39)/12+EE39 -> 5.3366667 | EG39: =($EP$39-$EC$39)/12+EF39 -> 5.34 | EH39: =($EP$39-$EC$39)/12+EG39 -> 5.3433333 | EI39: =($EP$39-$EC$39)/12+EH39 -> 5.3466667 | EJ39: =($EP$39-$EC$39)/12+EI39 -> 5.35 | EK39: =($EP$39-$EC$39)/12+EJ39 -> 5.3533333 | EL39: =($EP$39-$EC$39)/12+EK39 -> 5.3566667 | EM39: =($EP$39-$EC$39)/12+EL39 -> 5.36 | ... EO39: =($EP$39-$EC$39)/12+EN39 -> 5.3666667 | EP39: =ANUAL!$Y$28 -> 5.37 | ER39: =($FC$39-$EP$39)/12+EP39 -> 5.3733333 | ES39: =($FC$39-$EP$39)/12+ER39 -> 5.3766667 | ET39: =($FC$39-$EP$39)/12+ES39 -> 5.38 | EU39: =($FC$39-$EP$39)/12+ET39 -> 5.3833333 | EV39: =($FC$39-$EP$39)/12+EU39 -> 5.3866667 | EW39: =($FC$39-$EP$39)/12+EV39 -> 5.39 | EX39: =($FC$39-$EP$39)/12+EW39 -> 5.3933333 | EY39: =($FC$39-$EP$39)/12+EX39 -> 5.3966667 | EZ39: =($FC$39-$EP$39)/12+EY39 -> 5.4 | ... FB39: =($FC$39-$EP$39)/12+FA39 -> 5.4066667 | FC39: =ANUAL!$AA$28 -> 5.41 | FE39: =($FP$39-$FC$39)/12+FC39 -> 5.4141667 | FF39: =($FP$39-$FC$39)/12+FE39 -> 5.4183333 | FG39: =($FP$39-$FC$39)/12+FF39 -> 5.4225 | FH39: =($FP$39-$FC$39)/12+FG39 -> 5.4266667 | FI39: =($FP$39-$FC$39)/12+FH39 -> 5.4308333 | FJ39: =($FP$39-$FC$39)/12+FI39 -> 5.435 | FK39: =($FP$39-$FC$39)/12+FJ39 -> 5.4391667 | FL39: =($FP$39-$FC$39)/12+FK39 -> 5.4433333 | FM39: =($FP$39-$FC$39)/12+FL39 -> 5.4475 | ... FO39: =($FP$39-$FC$39)/12+FN39 -> 5.4558333 | FP39: =ANUAL!$AC$28 -> 5.46 | FR39: =($GC$39-$FP$39)/12+FP39 -> 5.4633333 | FS39: =($GC$39-$FP$39)/12+FR39 -> 5.4666667 | FT39: =($GC$39-$FP$39)/12+FS39 -> 5.47 | FU39: =($GC$39-$FP$39)/12+FT39 -> 5.4733333 | FV39: =($GC$39-$FP$39)/12+FU39 -> 5.4766667 | FW39: =($GC$39-$FP$39)/12+FV39 -> 5.48 | FX39: =($GC$39-$FP$39)/12+FW39 -> 5.4833333 | FY39: =($GC$39-$FP$39)/12+FX39 -> 5.4866667 | FZ39: =($GC$39-$FP$39)/12+FY39 -> 5.49 | ... GB39: =($GC$39-$FP$39)/12+GA39 -> 5.4966667 | GC39: =ANUAL!$AE$28 -> 5.5 | GE39: =($GP$39-$GC$39)/12+GC39 -> 5.5033333 | GF39: =($GP$39-$GC$39)/12+GE39 -> 5.5066667 | GG39: =($GP$39-$GC$39)/12+GF39 -> 5.51 | GH39: =($GP$39-$GC$39)/12+GG39 -> 5.5133333 | GI39: =($GP$39-$GC$39)/12+GH39 -> 5.5166667 | GJ39: =($GP$39-$GC$39)/12+GI39 -> 5.52 | GK39: =($GP$39-$GC$39)/12+GJ39 -> 5.5233333 | GL39: =($GP$39-$GC$39)/12+GK39 -> 5.5266667 | GM39: =($GP$39-$GC$39)/12+GL39 -> 5.53 | ... GO39: =($GP$39-$GC$39)/12+GN39 -> 5.5366667 | GP39: =ANUAL!$AG$28 -> 5.54
C41: Average Exchange Rate (PTAX) | E41: 4.149463 | F41: 4.341011 | G41: 4.883854 | H41: 5.32558 | I41: 5.643445 | J41: 5.1966 | K41: 5.280191 | L41: 5.461233 | M41: 5.399485 | N41: 5.62579 | O41: 5.417835 | P41: 5.145586 | R41: 5.356245 | S41: 5.416494 | T41: 5.646147 | U41: 5.562135 | V41: 5.291057 | W41: 5.031904 | X41: 5.156704 | Y41: 5.251718 | Z41: 5.27969 | AA41: 5.53998 | AB41: 5.55686 | AC41: 5.651391 | AE41: 5.534104 | AF41: 5.196578 | AG41: 4.968381 | AH41: 4.758015 | AI41: 4.95505 | AJ41: 5.049209 | AK41: 5.368071 | AL41: 5.143286 | AM41: 5.236957 | AN41: 5.2503 | AO41: 5.27465 | AP41: 5.242431 | AR41: 5.200681 | AS41: 5.171688 | AT41: 5.21146 | AU41: 5.019733 | AV41: 4.982836 | AW41: 4.851566 | AX41: 4.800833 | AY41: 4.903543 | AZ41: 4.93699 | BA41: 5.06521 | BB41: 4.890876 | BC41: 4.897245 | BE41: 4.914395 | BF41: 4.964389 | BG41: 4.980135 | BH41: 5.129095 | BI41: 5.133047 | BJ41: 5.388975 | BK41: 5.542047 | BL41: 5.552613 | BM41: 5.541566 | BN41: 5.624108 | BO41: 5.807057 | BP41: 6.097028 | BR41: 6.021772 | BS41: 5.765645 | BT41: 5.74681 | BU41: 5.779119 | BV41: 5.667385 | BW41: 5.547055 | BX41: 5.528491 | BY41: 5.446923 | BZ41: 5.367409 | CA41: 5.385526 | CB41: 5.340852 | CC41: 5.45309 | CE41: 5.338023 | CF41: 5.200616 | CG41: 5.231586 | CH41: 5.033075 | CI41: 4.9837 | CJ41: 5.127571 | CK41: 5.113947 | CL41: 5.153161 | CM41: 5.144723 | CN41: 5.3 | CO41: 5.3 | CP41: 5.3 | CR41: =(CR37+CR39)/2 -> 5.295 | CS41: =(CS37+CS39)/2 -> 5.29 | CT41: =(CT37+CT39)/2 -> 5.285 | CU41: =(CU37+CU39)/2 -> 5.28 | CV41: =(CV37+CV39)/2 -> 5.275 | CW41: =(CW37+CW39)/2 -> 5.27 | CX41: =(CX37+CX39)/2 -> 5.265 | CY41: =(CY37+CY39)/2 -> 5.26 | ... DC41: =(DC37+DC39)/2 -> 5.25 | DE41: =(DE37+DE39)/2 -> 5.2516667 | DF41: =(DF37+DF39)/2 -> 5.255 | DG41: =(DG37+DG39)/2 -> 5.2583333 | DH41: =(DH37+DH39)/2 -> 5.2616667 | DI41: =(DI37+DI39)/2 -> 5.265 | DJ41: =(DJ37+DJ39)/2 -> 5.2683333 | DK41: =(DK37+DK39)/2 -> 5.2716667 | DL41: =(DL37+DL39)/2 -> 5.275 | ... DP41: =(DP37+DP39)/2 -> 5.2883333 | DR41: =(DR37+DR39)/2 -> 5.2916667 | DS41: =(DS37+DS39)/2 -> 5.295 | DT41: =(DT37+DT39)/2 -> 5.2983333 | DU41: =(DU37+DU39)/2 -> 5.3016667 | DV41: =(DV37+DV39)/2 -> 5.305 | DW41: =(DW37+DW39)/2 -> 5.3083333 | DX41: =(DX37+DX39)/2 -> 5.3116667 | DY41: =(DY37+DY39)/2 -> 5.315 | ... EC41: =(EC37+EC39)/2 -> 5.3283333 | EE41: =(EE37+EE39)/2 -> 5.3316667 | EF41: =(EF37+EF39)/2 -> 5.335 | EG41: =(EG37+EG39)/2 -> 5.3383333 | EH41: =(EH37+EH39)/2 -> 5.3416667 | EI41: =(EI37+EI39)/2 -> 5.345 | EJ41: =(EJ37+EJ39)/2 -> 5.3483333 | EK41: =(EK37+EK39)/2 -> 5.3516667 | EL41: =(EL37+EL39)/2 -> 5.355 | ... EP41: =(EP37+EP39)/2 -> 5.3683333 | ER41: =(ER37+ER39)/2 -> 5.3716667 | ES41: =(ES37+ES39)/2 -> 5.375 | ET41: =(ET37+ET39)/2 -> 5.3783333 | EU41: =(EU37+EU39)/2 -> 5.3816667 | EV41: =(EV37+EV39)/2 -> 5.385 | EW41: =(EW37+EW39)/2 -> 5.3883333 | EX41: =(EX37+EX39)/2 -> 5.3916667 | EY41: =(EY37+EY39)/2 -> 5.395 | ... FC41: =(FC37+FC39)/2 -> 5.4083333 | FE41: =(FE37+FE39)/2 -> 5.4120833 | FF41: =(FF37+FF39)/2 -> 5.41625 | FG41: =(FG37+FG39)/2 -> 5.4204167 | FH41: =(FH37+FH39)/2 -> 5.4245833 | FI41: =(FI37+FI39)/2 -> 5.42875 | FJ41: =(FJ37+FJ39)/2 -> 5.4329167 | FK41: =(FK37+FK39)/2 -> 5.4370833 | FL41: =(FL37+FL39)/2 -> 5.44125 | ... FP41: =(FP37+FP39)/2 -> 5.4579167 | FR41: =(FR37+FR39)/2 -> 5.4616667 | FS41: =(FS37+FS39)/2 -> 5.465 | FT41: =(FT37+FT39)/2 -> 5.4683333 | FU41: =(FU37+FU39)/2 -> 5.4716667 | FV41: =(FV37+FV39)/2 -> 5.475 | FW41: =(FW37+FW39)/2 -> 5.4783333 | FX41: =(FX37+FX39)/2 -> 5.4816667 | FY41: =(FY37+FY39)/2 -> 5.485 | ... GC41: =(GC37+GC39)/2 -> 5.4983333 | GE41: =(GE37+GE39)/2 -> 5.5016667 | GF41: =(GF37+GF39)/2 -> 5.505 | GG41: =(GG37+GG39)/2 -> 5.5083333 | GH41: =(GH37+GH39)/2 -> 5.5116667 | GI41: =(GI37+GI39)/2 -> 5.515 | GJ41: =(GJ37+GJ39)/2 -> 5.5183333 | GK41: =(GK37+GK39)/2 -> 5.5216667 | GL41: =(GL37+GL39)/2 -> 5.525 | ... GP41: =(GP37+GP39)/2 -> 5.5383333
C43: JUROS
C45: CDI (%) a.m. | E45: =(E47+1)^(E10/360)-1 -> 0.0035947364 | F45: =(F47+1)^(F10/360)-1 -> 0.0034276531 | G45: =(G47+1)^(G10/360)-1 -> 0.0032296378 | H45: =(H47+1)^(H10/360)-1 -> 0.0029919044 | I45: =(I47+1)^(I10/360)-1 -> 0.0024761194 | J45: =(J47+1)^(J10/360)-1 -> 0.00212327 | K45: =(K47+1)^(K10/360)-1 -> 0.0017742589 | L45: =(L47+1)^(L10/360)-1 -> 0.00159892 | ... P45: =(P47+1)^(P10/360)-1 -> 0.0015697009 | R45: =(R47+1)^(R10/360)-1 -> 0.0015697036 | S45: =(S47+1)^(S10/360)-1 -> 0.0015697042 | T45: =(T47+1)^(T10/360)-1 -> 0.0018358605 | U45: =(U47+1)^(U10/360)-1 -> 0.0021819713 | V45: =(V47+1)^(V10/360)-1 -> 0.00270322 | W45: =(W47+1)^(W10/360)-1 -> 0.00307775 | X45: =(X47+1)^(X10/360)-1 -> 0.0033942519 | Y45: =(Y47+1)^(Y10/360)-1 -> 0.0040845233 | ... AC45: =(AC47+1)^(AC10/360)-1 -> 0.0070197662 | AE45: =(AE47+1)^(AE10/360)-1 -> 0.00732276 | AF45: =(AF47+1)^(AF10/360)-1 -> 0.0083484214 | AG45: =(AG47+1)^(AG10/360)-1 -> 0.0088472647 | AH45: =(AH47+1)^(AH10/360)-1 -> 0.0092255483 | AI45: =(AI47+1)^(AI10/360)-1 -> 0.0098734039 | AJ45: =(AJ47+1)^(AJ10/360)-1 -> 0.01015322 | AK45: =(AK47+1)^(AK10/360)-1 -> 0.01034853 | AL45: =(AL47+1)^(AL10/360)-1 -> 0.010671424 | ... AP45: =(AP47+1)^(AP10/360)-1 -> 0.010719797 | AR45: =(AR47+1)^(AR10/360)-1 -> 0.010719797 | AS45: =(AS47+1)^(AS10/360)-1 -> 0.010719808 | AT45: =(AT47+1)^(AT10/360)-1 -> 0.010719802 | AU45: =(AU47+1)^(AU10/360)-1 -> 0.010719808 | AV45: =(AV47+1)^(AV10/360)-1 -> 0.010719797 | AW45: =(AW47+1)^(AW10/360)-1 -> 0.0107198 | AX45: =(AX47+1)^(AX10/360)-1 -> 0.0107198 | AY45: =(AY47+1)^(AY10/360)-1 -> 0.010380809 | ... BC45: =(BC47+1)^(BC10/360)-1 -> 0.0093946491 | BE45: =(BE47+1)^(BE10/360)-1 -> 0.0092255417 | BF45: =(BF47+1)^(BF10/360)-1 -> 0.0088481092 | BG45: =(BG47+1)^(BG10/360)-1 -> 0.0087343984 | BH45: =(BH47+1)^(BH10/360)-1 -> 0.0084691432 | BI45: =(BI47+1)^(BI10/360)-1 -> 0.00832432 | BJ45: =(BJ47+1)^(BJ10/360)-1 -> 0.0082791028 | BK45: =(BK47+1)^(BK10/360)-1 -> 0.0082790985 | BL45: =(BL47+1)^(BL10/360)-1 -> 0.0082791018 | ... BP45: =(BP47+1)^(BP10/360)-1 -> 0.00931436 | BR45: =(BR47+1)^(BR10/360)-1 -> 0.0096692925 | BS45: =(BS47+1)^(BS10/360)-1 -> 0.010348527 | BT45: =(BT47+1)^(BT10/360)-1 -> 0.010660514 | BU45: =(BU47+1)^(BU10/360)-1 -> 0.011089636 | BV45: =(BV47+1)^(BV10/360)-1 -> 0.01138779 | BW45: =(BW47+1)^(BW10/360)-1 -> 0.011522215 | BX45: =(BX47+1)^(BX10/360)-1 -> 0.011641584 | BY45: =(BY47+1)^(BY10/360)-1 -> 0.01164158 | ... CC45: =(CC47+1)^(CC10/360)-1 -> 0.011641581 | CE45: =(CE47+1)^(CE10/360)-1 -> 0.01164158 | CF45: =(CF47+1)^(CF10/360)-1 -> 0.011641584 | CG45: =(CG47+1)^(CG10/360)-1 -> 0.011566452 | CH45: =(CH47+1)^(CH10/360)-1 -> 0.01144877 | CI45: =(CI47+1)^(CI10/360)-1 -> 0.011273987 | CJ45: =(CJ47+1)^(CJ10/360)-1 -> 0.01119498 | CK45: =(CK47+1)^(CK10/360)-1 -> 0.011089632 | CL45: =(CL47+1)^(CL10/360)-1 -> 0.01093129 | ... CP45: =(CP47+1)^(CP10/360)-1 -> 0.01071983 | CR45: =(CR47+1)^(CR10/360)-1 -> 0.010715704 | CS45: =(CS47+1)^(CS10/360)-1 -> 0.010711579 | CT45: =(CT47+1)^(CT10/360)-1 -> 0.010707455 | CU45: =(CU47+1)^(CU10/360)-1 -> 0.010703333 | CV45: =(CV47+1)^(CV10/360)-1 -> 0.010699212 | CW45: =(CW47+1)^(CW10/360)-1 -> 0.010695093 | CX45: =(CX47+1)^(CX10/360)-1 -> 0.010690976 | CY45: =(CY47+1)^(CY10/360)-1 -> 0.01068686 | ... DC45: =(DC47+1)^(DC10/360)-1 -> 0.01067041 | DE45: =(DE47+1)^(DE10/360)-1 -> 0.010525495 | DF45: =(DF47+1)^(DF10/360)-1 -> 0.010382439 | DG45: =(DG47+1)^(DG10/360)-1 -> 0.010241222 | DH45: =(DH47+1)^(DH10/360)-1 -> 0.010101822 | DI45: =(DI47+1)^(DI10/360)-1 -> 0.0099642182 | DJ45: =(DJ47+1)^(DJ10/360)-1 -> 0.009828391 | DK45: =(DK47+1)^(DK10/360)-1 -> 0.0096943195 | DL45: =(DL47+1)^(DL10/360)-1 -> 0.0095619836 | ... DP45: =(DP47+1)^(DP10/360)-1 -> 0.0090495973 | DR45: =(DR47+1)^(DR10/360)-1 -> 0.008972511 | DS45: =(DS47+1)^(DS10/360)-1 -> 0.0088960501 | DT45: =(DT47+1)^(DT10/360)-1 -> 0.00882021 | DU45: =(DU47+1)^(DU10/360)-1 -> 0.0087449862 | DV45: =(DV47+1)^(DV10/360)-1 -> 0.0086703741 | DW45: =(DW47+1)^(DW10/360)-1 -> 0.0085963694 | DX45: =(DX47+1)^(DX10/360)-1 -> 0.0085229675 | DY45: =(DY47+1)^(DY10/360)-1 -> 0.008450164 | ... EC45: =(EC47+1)^(EC10/360)-1 -> 0.0081648461 | EE45: =(EE47+1)^(EE10/360)-1 -> 0.0081648461 | EF45: =(EF47+1)^(EF10/360)-1 -> 0.0081648461 | EG45: =(EG47+1)^(EG10/360)-1 -> 0.0081648461 | EH45: =(EH47+1)^(EH10/360)-1 -> 0.0081648461 | EI45: =(EI47+1)^(EI10/360)-1 -> 0.0081648461 | EJ45: =(EJ47+1)^(EJ10/360)-1 -> 0.0081648461 | EK45: =(EK47+1)^(EK10/360)-1 -> 0.0081648461 | EL45: =(EL47+1)^(EL10/360)-1 -> 0.0081648461 | ... EP45: =(EP47+1)^(EP10/360)-1 -> 0.0081648461 | ER45: =(ER47+1)^(ER10/360)-1 -> 0.0081392499 | ES45: =(ES47+1)^(ES10/360)-1 -> 0.0081137305 | ET45: =(ET47+1)^(ET10/360)-1 -> 0.0080882876 | EU45: =(EU47+1)^(EU10/360)-1 -> 0.0080629211 | EV45: =(EV47+1)^(EV10/360)-1 -> 0.0080376307 | EW45: =(EW47+1)^(EW10/360)-1 -> 0.0080124162 | EX45: =(EX47+1)^(EX10/360)-1 -> 0.0079872774 | EY45: =(EY47+1)^(EY10/360)-1 -> 0.0079622141 | ... FC45: =(FC47+1)^(FC10/360)-1 -> 0.0078627119 | FE45: =(FE47+1)^(FE10/360)-1 -> 0.0077519131 | FF45: =(FF47+1)^(FF10/360)-1 -> 0.0076426116 | FG45: =(FG47+1)^(FG10/360)-1 -> 0.0075347889 | FH45: =(FH47+1)^(FH10/360)-1 -> 0.0074284266 | FI45: =(FI47+1)^(FI10/360)-1 -> 0.0073235067 | FJ45: =(FJ47+1)^(FJ10/360)-1 -> 0.0072200111 | FK45: =(FK47+1)^(FK10/360)-1 -> 0.0071179221 | FL45: =(FL47+1)^(FL10/360)-1 -> 0.0070172221 | ... FP45: =(FP47+1)^(FP10/360)-1 -> 0.0066279668 | FR45: =(FR47+1)^(FR10/360)-1 -> 0.0066115924 | FS45: =(FS47+1)^(FS10/360)-1 -> 0.006595257 | FT45: =(FT47+1)^(FT10/360)-1 -> 0.0065789605 | FU45: =(FU47+1)^(FU10/360)-1 -> 0.0065627029 | FV45: =(FV47+1)^(FV10/360)-1 -> 0.0065464841 | FW45: =(FW47+1)^(FW10/360)-1 -> 0.0065303039 | FX45: =(FX47+1)^(FX10/360)-1 -> 0.0065141623 | FY45: =(FY47+1)^(FY10/360)-1 -> 0.0064980592 | ... GC45: =(GC47+1)^(GC10/360)-1 -> 0.0064340301 | GE45: =(GE47+1)^(GE10/360)-1 -> 0.0064340301 | GF45: =(GF47+1)^(GF10/360)-1 -> 0.0064340301 | GG45: =(GG47+1)^(GG10/360)-1 -> 0.0064340301 | GH45: =(GH47+1)^(GH10/360)-1 -> 0.0064340301 | GI45: =(GI47+1)^(GI10/360)-1 -> 0.0064340301 | GJ45: =(GJ47+1)^(GJ10/360)-1 -> 0.0064340301 | GK45: =(GK47+1)^(GK10/360)-1 -> 0.0064340301 | GL45: =(GL47+1)^(GL10/360)-1 -> 0.0064340301 | ... GP45: =(GP47+1)^(GP10/360)-1 -> 0.0064340301
C47: CDI (%) a.a. | E47: 0.044 | F47: 0.041916187 | G47: 0.039451536 | H47: 0.036499583 | I47: 0.030121448 | J47: 0.025778902 | K47: 0.021500108 | L47: 0.019356675 | M47: 0.018999875 | N47: 0.018999875 | O47: 0.018999919 | P47: 0.018999886 | R47: 0.018999919 | S47: 0.018999927 | T47: 0.022254138 | U47: 0.026500178 | V47: 0.032925301 | W47: 0.037564647 | X47: 0.041500074 | Y47: 0.05013051 | Z47: 0.054347204 | AA47: 0.06299051 | AB47: 0.076500043 | AC47: 0.087566801 | AE47: 0.091500053 | AF47: 0.10491145 | AG47: 0.1114887 | AH47: 0.11650027 | AI47: 0.12513133 | AJ47: 0.12887805 | AK47: 0.13150002 | AL47: 0.135847 | AM47: 0.13649959 | AN47: 0.13649963 | AO47: 0.13649963 | AP47: 0.13649955 | AR47: 0.13649955 | AS47: 0.1364997 | AT47: 0.13649962 | AU47: 0.1364997 | AV47: 0.13649955 | AW47: 0.13649959 | AX47: 0.13649959 | AY47: 0.13193389 | AZ47: 0.1297478 | BA47: 0.12650001 | BB47: 0.12174945 | BC47: 0.11874724 | BE47: 0.11650018 | BF47: 0.11149986 | BG47: 0.10999742 | BH47: 0.10649988 | BI47: 0.10459457 | BJ47: 0.10400031 | BK47: 0.10400025 | BL47: 0.1040003 | BM47: 0.1049518 | BN47: 0.10649989 | BO47: 0.10464405 | BP47: 0.11767986 | BR47: 0.12240548 | BS47: 0.13149998 | BT47: 0.13569989 | BU47: 0.14149997 | BV47: 0.14554585 | BW47: 0.14737426 | BX47: 0.14900012 | BY47: 0.14900007 | BZ47: 0.14900008 | CA47: 0.14900012 | CB47: 0.14900016 | CC47: 0.14900008 | CE47: 0.14900007 | CF47: 0.14900013 | CG47: 0.14797654 | CH47: 0.14637495 | CI47: 0.14400003 | CJ47: 0.14292796 | CK47: 0.14149992 | CL47: 0.13935658 | CM47: 0.1378086 | CN47: 0.1365 | CO47: 0.1365 | CP47: 0.1365 | CR47: =CP47*(1+(DC47/CP47)^(1/12)-1) -> 0.13644432 | CS47: =CR47*(1+(DC47/CP47)^(1/12)-1) -> 0.13638866 | CT47: =CS47*(1+(DC47/CP47)^(1/12)-1) -> 0.13633303 | CU47: =CT47*(1+(DC47/CP47)^(1/12)-1) -> 0.13627742 | CV47: =CU47*(1+(DC47/CP47)^(1/12)-1) -> 0.13622183 | CW47: =CV47*(1+(DC47/CP47)^(1/12)-1) -> 0.13616626 | CX47: =CW47*(1+(DC47/CP47)^(1/12)-1) -> 0.13611071 | CY47: =CX47*(1+(DC47/CP47)^(1/12)-1) -> 0.13605519 | CZ47: =CY47*(1+(DC47/CP47)^(1/12)-1) -> 0.13599969 | DA47: =CZ47*(1+(DC47/CP47)^(1/12)-1) -> 0.13594422 | DB47: =DA47*(1+(DC47/CP47)^(1/12)-1) -> 0.13588876 | DC47: =ANUAL!$S$36 -> 0.13583333 | DE47: =DC47*(1+(DP47/DC47)^(1/12)-1) -> 0.13388053 | DF47: =DE47*(1+(DP47/DC47)^(1/12)-1) -> 0.13195581 | DG47: =DF47*(1+(DP47/DC47)^(1/12)-1) -> 0.13005876 | DH47: =DG47*(1+(DP47/DC47)^(1/12)-1) -> 0.12818898 | DI47: =DH47*(1+(DP47/DC47)^(1/12)-1) -> 0.12634608 | DJ47: =DI47*(1+(DP47/DC47)^(1/12)-1) -> 0.12452967 | DK47: =DJ47*(1+(DP47/DC47)^(1/12)-1) -> 0.12273938 | DL47: =DK47*(1+(DP47/DC47)^(1/12)-1) -> 0.12097482 | DM47: =DL47*(1+(DP47/DC47)^(1/12)-1) -> 0.11923564 | DN47: =DM47*(1+(DP47/DC47)^(1/12)-1) -> 0.11752146 | DO47: =DN47*(1+(DP47/DC47)^(1/12)-1) -> 0.11583192 | DP47: =ANUAL!$U$36 -> 0.11416667 | DR47: =DP47*(1+(EC47/DP47)^(1/12)-1) -> 0.11314569 | DS47: =DR47*(1+(EC47/DP47)^(1/12)-1) -> 0.11213385 | DT47: =DS47*(1+(EC47/DP47)^(1/12)-1) -> 0.11113106 | DU47: =DT47*(1+(EC47/DP47)^(1/12)-1) -> 0.11013723 | DV47: =DU47*(1+(EC47/DP47)^(1/12)-1) -> 0.1091523 | DW47: =DV47*(1+(EC47/DP47)^(1/12)-1) -> 0.10817617 | DX47: =DW47*(1+(EC47/DP47)^(1/12)-1) -> 0.10720877 | DY47: =DX47*(1+(EC47/DP47)^(1/12)-1) -> 0.10625002 | DZ47: =DY47*(1+(EC47/DP47)^(1/12)-1) -> 0.10529984 | EA47: =DZ47*(1+(EC47/DP47)^(1/12)-1) -> 0.10435817 | EB47: =EA47*(1+(EC47/DP47)^(1/12)-1) -> 0.10342491 | EC47: =ANUAL!$W$36 -> 0.1025 | EE47: =EC47*(1+(EP47/EC47)^(1/12)-1) -> 0.1025 | EF47: =EE47*(1+(EP47/EC47)^(1/12)-1) -> 0.1025 | EG47: =EF47*(1+(EP47/EC47)^(1/12)-1) -> 0.1025 | EH47: =EG47*(1+(EP47/EC47)^(1/12)-1) -> 0.1025 | EI47: =EH47*(1+(EP47/EC47)^(1/12)-1) -> 0.1025 | EJ47: =EI47*(1+(EP47/EC47)^(1/12)-1) -> 0.1025 | EK47: =EJ47*(1+(EP47/EC47)^(1/12)-1) -> 0.1025 | EL47: =EK47*(1+(EP47/EC47)^(1/12)-1) -> 0.1025 | EM47: =EL47*(1+(EP47/EC47)^(1/12)-1) -> 0.1025 | EN47: =EM47*(1+(EP47/EC47)^(1/12)-1) -> 0.1025 | EO47: =EN47*(1+(EP47/EC47)^(1/12)-1) -> 0.1025 | EP47: =ANUAL!$Y$36 -> 0.1025 | ER47: =EP47*(1+($FC47/$EP47)^(1/12)-1) -> 0.10216415 | ES47: =ER47*(1+($FC47/$EP47)^(1/12)-1) -> 0.1018294 | ET47: =ES47*(1+($FC47/$EP47)^(1/12)-1) -> 0.10149575 | EU47: =ET47*(1+($FC47/$EP47)^(1/12)-1) -> 0.1011632 | EV47: =EU47*(1+($FC47/$EP47)^(1/12)-1) -> 0.10083173 | EW47: =EV47*(1+($FC47/$EP47)^(1/12)-1) -> 0.10050135 | EX47: =EW47*(1+($FC47/$EP47)^(1/12)-1) -> 0.10017205 | EY47: =EX47*(1+($FC47/$EP47)^(1/12)-1) -> 0.099843828 | EZ47: =EY47*(1+($FC47/$EP47)^(1/12)-1) -> 0.099516683 | ... FB47: =FA47*(1+($FC47/$EP47)^(1/12)-1) -> 0.098865606 | FC47: =ANUAL!$AA$36 -> 0.098541667 | FE47: =FC47*(1+($FP47/$FC47)^(1/12)-1) -> 0.097093332 | FF47: =FE47*(1+($FP47/$FC47)^(1/12)-1) -> 0.095666285 | FG47: =FF47*(1+($FP47/$FC47)^(1/12)-1) -> 0.094260213 | FH47: =FG47*(1+($FP47/$FC47)^(1/12)-1) -> 0.092874806 | FI47: =FH47*(1+($FP47/$FC47)^(1/12)-1) -> 0.091509761 | FJ47: =FI47*(1+($FP47/$FC47)^(1/12)-1) -> 0.09016478 | FK47: =FJ47*(1+($FP47/$FC47)^(1/12)-1) -> 0.088839566 | FL47: =FK47*(1+($FP47/$FC47)^(1/12)-1) -> 0.08753383 | FM47: =FL47*(1+($FP47/$FC47)^(1/12)-1) -> 0.086247286 | ... FO47: =FN47*(1+($FP47/$FC47)^(1/12)-1) -> 0.083730647 | FP47: =ANUAL!$AC$36 -> 0.0825 | FR47: =FP47*(1+($GC47/$FP47)^(1/12)-1) -> 0.082288716 | FS47: =FR47*(1+($GC47/$FP47)^(1/12)-1) -> 0.082077973 | FT47: =FS47*(1+($GC47/$FP47)^(1/12)-1) -> 0.08186777 | FU47: =FT47*(1+($GC47/$FP47)^(1/12)-1) -> 0.081658105 | FV47: =FU47*(1+($GC47/$FP47)^(1/12)-1) -> 0.081448976 | FW47: =FV47*(1+($GC47/$FP47)^(1/12)-1) -> 0.081240384 | FX47: =FW47*(1+($GC47/$FP47)^(1/12)-1) -> 0.081032326 | FY47: =FX47*(1+($GC47/$FP47)^(1/12)-1) -> 0.0808248 | FZ47: =FY47*(1+($GC47/$FP47)^(1/12)-1) -> 0.080617806 | ... GB47: =GA47*(1+($GC47/$FP47)^(1/12)-1) -> 0.080205408 | GC47: =ANUAL!$AE$36 -> 0.08 | GE47: =GC47*(1+($GP47/$GC47)^(1/12)-1) -> 0.08 | GF47: =GE47*(1+($GP47/$GC47)^(1/12)-1) -> 0.08 | GG47: =GF47*(1+($GP47/$GC47)^(1/12)-1) -> 0.08 | GH47: =GG47*(1+($GP47/$GC47)^(1/12)-1) -> 0.08 | GI47: =GH47*(1+($GP47/$GC47)^(1/12)-1) -> 0.08 | GJ47: =GI47*(1+($GP47/$GC47)^(1/12)-1) -> 0.08 | GK47: =GJ47*(1+($GP47/$GC47)^(1/12)-1) -> 0.08 | GL47: =GK47*(1+($GP47/$GC47)^(1/12)-1) -> 0.08 | GM47: =GL47*(1+($GP47/$GC47)^(1/12)-1) -> 0.08 | ... GO47: =GN47*(1+($GP47/$GC47)^(1/12)-1) -> 0.08 | GP47: =ANUAL!$AG$36 -> 0.08
C49: CDI acumulado últimos 12 meses | E49: 0.05784486 | F49: 0.055741413 | G49: 0.054370636 | H49: 0.051922738 | I49: 0.04870835 | J49: 0.046031112 | K49: 0.042146764 | L49: 0.038602188 | M49: 0.035430527 | N49: 0.032109273 | O49: 0.029735164 | P49: {=PRODUCT(1+D45:P45)-1} -> 0.027840751 | R49: {=PRODUCT(1+F45:R45)-1} -> 0.025766795 | S49: {=PRODUCT(1+G45:S45)-1} -> 0.023867483 | T49: {=PRODUCT(1+H45:T45)-1} -> 0.022445034 | U49: {=PRODUCT(1+I45:U45)-1} -> 0.021619392 | V49: {=PRODUCT(1+J45:V45)-1} -> 0.021850829 | W49: {=PRODUCT(1+K45:W45)-1} -> 0.022824099 | X49: {=PRODUCT(1+L45:X45)-1} -> 0.024478132 | Y49: {=PRODUCT(1+M45:Y45)-1} -> 0.027020513 | ... AB49: {=PRODUCT(1+P45:AB45)-1} -> 0.038315908 | AC49: {=PRODUCT(1+R45:AC45)-1} -> 0.043965929 | AE49: {=PRODUCT(1+S45:AE45)-1} -> 0.049962511 | AF49: {=PRODUCT(1+T45:AF45)-1} -> 0.057068755 | AG49: {=PRODUCT(1+U45:AG45)-1} -> 0.06446671 | AH49: {=PRODUCT(1+V45:AH45)-1} -> 0.071948039 | AI49: {=PRODUCT(1+W45:AI45)-1} -> 0.079613383 | AJ49: {=PRODUCT(1+X45:AJ45)-1} -> 0.087228717 | AK49: {=PRODUCT(1+Y45:AK45)-1} -> 0.094764031 | AL49: {=PRODUCT(1+Z45:AL45)-1} -> 0.1019458 | ... AO49: {=PRODUCT(1+AC45:AO45)-1} -> 0.12010473 | AP49: {=PRODUCT(1+AE45:AP45)-1} -> 0.12422026 | AR49: {=PRODUCT(1+AF45:AR45)-1} -> 0.12801152 | AS49: {=PRODUCT(1+AG45:AS45)-1} -> 0.13066432 | AT49: {=PRODUCT(1+AH45:AT45)-1} -> 0.13276297 | AU49: {=PRODUCT(1+AI45:AU45)-1} -> 0.13444014 | AV49: {=PRODUCT(1+AJ45:AV45)-1} -> 0.13539093 | AW49: {=PRODUCT(1+AK45:AW45)-1} -> 0.13602776 | AX49: {=PRODUCT(1+AL45:AX45)-1} -> 0.13644521 | AY49: {=PRODUCT(1+AM45:AY45)-1} -> 0.13611843 | ... BB49: {=PRODUCT(1+AP45:BB45)-1} -> 0.13348383 | BC49: {=PRODUCT(1+AR45:BC45)-1} -> 0.13199773 | BE49: {=PRODUCT(1+AS45:BE45)-1} -> 0.13032417 | BF49: {=PRODUCT(1+AT45:BF45)-1} -> 0.12823099 | BG49: {=PRODUCT(1+AU45:BG45)-1} -> 0.12601475 | BH49: {=PRODUCT(1+AV45:BH45)-1} -> 0.12350735 | BI49: {=PRODUCT(1+AW45:BI45)-1} -> 0.12084456 | BJ49: {=PRODUCT(1+AX45:BJ45)-1} -> 0.11813793 | BK49: {=PRODUCT(1+AY45:BK45)-1} -> 0.11543783 | BL49: {=PRODUCT(1+AZ45:BL45)-1} -> 0.11311759 | ... BO49: {=PRODUCT(1+BC45:BO45)-1} -> 0.10798383 | BP49: {=PRODUCT(1+BE45:BP45)-1} -> 0.1078957 | BR49: {=PRODUCT(1+BF45:BR45)-1} -> 0.10838283 | BS49: {=PRODUCT(1+BG45:BS45)-1} -> 0.11003128 | BT49: {=PRODUCT(1+BH45:BT45)-1} -> 0.11215082 | BU49: {=PRODUCT(1+BI45:BU45)-1} -> 0.11504073 | BV49: {=PRODUCT(1+BJ45:BV45)-1} -> 0.11842842 | BW49: {=PRODUCT(1+BK45:BW45)-1} -> 0.12202583 | BX49: {=PRODUCT(1+BL45:BX45)-1} -> 0.12576764 | BY49: {=PRODUCT(1+BM45:BY45)-1} -> 0.12952193 | ... CB49: {=PRODUCT(1+BP45:CB45)-1} -> 0.14050781 | CC49: {=PRODUCT(1+BR45:CC45)-1} -> 0.14313753 | CE49: {=PRODUCT(1+BS45:CE45)-1} -> 0.14537054 | CF49: {=PRODUCT(1+BT45:CF45)-1} -> 0.1468364 | CG49: {=PRODUCT(1+BU45:CG45)-1} -> 0.1478644 | CH49: {=PRODUCT(1+BV45:CH45)-1} -> 0.14827212 | CI49: {=PRODUCT(1+BW45:CI45)-1} -> 0.14814291 | CJ49: {=PRODUCT(1+BX45:CJ45)-1} -> 0.14777148 | CK49: {=PRODUCT(1+BY45:CK45)-1} -> 0.14714525 | CL49: {=PRODUCT(1+BZ45:CL45)-1} -> 0.14633982 | ... CO49: {=PRODUCT(1+CC45:CO45)-1} -> 0.14331886 | CP49: {=PRODUCT(1+CE45:CP45)-1} -> 0.14227714 | CR49: {=PRODUCT(1+CF45:CR45)-1} -> 0.1412317 | CS49: {=PRODUCT(1+CG45:CS45)-1} -> 0.14018256 | CT49: {=PRODUCT(1+CH45:CT45)-1} -> 0.13921435 | CU49: {=PRODUCT(1+CI45:CU45)-1} -> 0.13837475 | CV49: {=PRODUCT(1+CJ45:CV45)-1} -> 0.13772773 | CW49: {=PRODUCT(1+CK45:CW45)-1} -> 0.13716529 | CX49: {=PRODUCT(1+CL45:CX45)-1} -> 0.13671693 | CY49: {=PRODUCT(1+CM45:CY45)-1} -> 0.13644208 | ... DB49: {=PRODUCT(1+CP45:DB45)-1} -> 0.13619416 | DC49: {=PRODUCT(1+CR45:DC45)-1} -> 0.1361386 | DE49: {=PRODUCT(1+CS45:DE45)-1} -> 0.13592479 | DF49: {=PRODUCT(1+CT45:DF45)-1} -> 0.13555487 | DG49: {=PRODUCT(1+CU45:DG45)-1} -> 0.13503105 | DH49: {=PRODUCT(1+CV45:DH45)-1} -> 0.13435555 | DI49: {=PRODUCT(1+CW45:DI45)-1} -> 0.13353063 | DJ49: {=PRODUCT(1+CX45:DJ45)-1} -> 0.13255859 | DK49: {=PRODUCT(1+CY45:DK45)-1} -> 0.13144176 | DL49: {=PRODUCT(1+CZ45:DL45)-1} -> 0.13018248 | ... DO49: {=PRODUCT(1+DC45:DO45)-1} -> 0.12557387 | DP49: {=PRODUCT(1+DE45:DP45)-1} -> 0.12376879 | DR49: {=PRODUCT(1+DF45:DR45)-1} -> 0.12204177 | DS49: {=PRODUCT(1+DG45:DS45)-1} -> 0.12039111 | DT49: {=PRODUCT(1+DH45:DT45)-1} -> 0.11881517 | DU49: {=PRODUCT(1+DI45:DU45)-1} -> 0.1173123 | DV49: {=PRODUCT(1+DJ45:DV45)-1} -> 0.11588093 | DW49: {=PRODUCT(1+DK45:DW45)-1} -> 0.11451952 | DX49: {=PRODUCT(1+DL45:DX45)-1} -> 0.11322656 | DY49: {=PRODUCT(1+DM45:DY45)-1} -> 0.11200058 | ... EB49: {=PRODUCT(1+DP45:EB45)-1} -> 0.10871027 | EC49: {=PRODUCT(1+DR45:EC45)-1} -> 0.10773813 | EE49: {=PRODUCT(1+DS45:EE45)-1} -> 0.10685141 | EF49: {=PRODUCT(1+DT45:EF45)-1} -> 0.10604921 | EG49: {=PRODUCT(1+DU45:EG45)-1} -> 0.10533068 | EH49: {=PRODUCT(1+DV45:EH45)-1} -> 0.10469499 | EI49: {=PRODUCT(1+DW45:EI45)-1} -> 0.10414134 | EJ49: {=PRODUCT(1+DX45:EJ45)-1} -> 0.10366894 | EK49: {=PRODUCT(1+DY45:EK45)-1} -> 0.10327703 | EL49: {=PRODUCT(1+DZ45:EL45)-1} -> 0.10296488 | ... EO49: {=PRODUCT(1+EC45:EO45)-1} -> 0.1025 | EP49: {=PRODUCT(1+EE45:EP45)-1} -> 0.1025 | ER49: {=PRODUCT(1+EF45:ER45)-1} -> 0.10247201 | ES49: {=PRODUCT(1+EG45:ES45)-1} -> 0.10241611 | ET49: {=PRODUCT(1+EH45:ET45)-1} -> 0.1023324 | EU49: {=PRODUCT(1+EI45:EU45)-1} -> 0.10222095 | EV49: {=PRODUCT(1+EJ45:EV45)-1} -> 0.10208187 | EW49: {=PRODUCT(1+EK45:EW45)-1} -> 0.10191524 | EX49: {=PRODUCT(1+EL45:EX45)-1} -> 0.10172116 | EY49: {=PRODUCT(1+EM45:EY45)-1} -> 0.10149972 | ... FC49: {=PRODUCT(1+EQ45:FC45)-1} -> 0.10034242 | FE49: {=PRODUCT(1+ES45:FE45)-1} -> 0.099919653 | FF49: {=PRODUCT(1+ET45:FF45)-1} -> 0.099405631 | FG49: {=PRODUCT(1+EU45:FG45)-1} -> 0.098801994 | FH49: {=PRODUCT(1+EV45:FH45)-1} -> 0.098110386 | FI49: {=PRODUCT(1+EW45:FI45)-1} -> 0.097332452 | FJ49: {=PRODUCT(1+EX45:FJ45)-1} -> 0.096469832 | FK49: {=PRODUCT(1+EY45:FK45)-1} -> 0.095524163 | FL49: {=PRODUCT(1+EZ45:FL45)-1} -> 0.09449708 | ... FP49: {=PRODUCT(1+FD45:FP45)-1} -> 0.089607058 | FR49: {=PRODUCT(1+FF45:FR45)-1} -> 0.088374114 | FS49: {=PRODUCT(1+FG45:FS45)-1} -> 0.087242847 | FT49: {=PRODUCT(1+FH45:FT45)-1} -> 0.086211401 | FU49: {=PRODUCT(1+FI45:FU45)-1} -> 0.085277976 | FV49: {=PRODUCT(1+FJ45:FV45)-1} -> 0.084440821 | FW49: {=PRODUCT(1+FK45:FW45)-1} -> 0.083698236 | FX49: {=PRODUCT(1+FL45:FX45)-1} -> 0.083048567 | FY49: {=PRODUCT(1+FM45:FY45)-1} -> 0.082490206 | ... GC49: {=PRODUCT(1+FQ45:GC45)-1} -> 0.081139229 | GE49: {=PRODUCT(1+FS45:GE45)-1} -> 0.08094852 | GF49: {=PRODUCT(1+FT45:GF45)-1} -> 0.080775384 | GG49: {=PRODUCT(1+FU45:GG45)-1} -> 0.08061977 | GH49: {=PRODUCT(1+FV45:GH45)-1} -> 0.080481631 | GI49: {=PRODUCT(1+FW45:GI45)-1} -> 0.080360916 | GJ49: {=PRODUCT(1+FX45:GJ45)-1} -> 0.080257581 | GK49: {=PRODUCT(1+FY45:GK45)-1} -> 0.080171578 | GL49: {=PRODUCT(1+FZ45:GL45)-1} -> 0.080102862 | ... GP49: {=PRODUCT(1+GD45:GP45)-1} -> 0.08
C51: TJLP (%) a.a | E51: 0.0509 | F51: 0.0509 | G51: 0.0509 | H51: 0.0494 | I51: 0.0494 | J51: 0.0494 | K51: 0.0491 | L51: 0.0491 | M51: 0.0491 | N51: 0.0455 | O51: 0.0455 | P51: 0.0455 | R51: 0.0439 | S51: 0.0439 | T51: 0.0439 | U51: 0.0461 | V51: 0.0461 | W51: 0.0461 | X51: 0.0488 | Y51: 0.0488 | Z51: 0.0488 | AA51: 0.0532 | AB51: 0.0532 | AC51: 0.0532 | AE51: 0.0608 | AF51: 0.0608 | AG51: 0.0608 | AH51: 0.0682 | AI51: 0.0682 | AJ51: 0.0682 | AK51: 0.0701 | AL51: 0.0701 | AM51: 0.0701 | AN51: 0.072 | AO51: 0.072 | AP51: 0.072 | AR51: 0.0737 | AS51: 0.0737 | AT51: 0.0737 | AU51: 0.0728 | AV51: 0.0728 | AW51: 0.0728 | AX51: 0.07 | AY51: 0.07 | AZ51: 0.07 | BA51: 0.0655 | BB51: 0.0655 | BC51: 0.0655 | BE51: 0.0653 | BF51: 0.0653 | BG51: 0.0653 | BH51: 0.0667 | BI51: 0.0667 | BJ51: 0.0667 | BK51: 0.0691 | BL51: 0.0691 | BM51: 0.0691 | BN51: 0.0743 | BO51: 0.0743 | BP51: 0.0743 | BR51: 0.0797 | BS51: 0.0797 | BT51: 0.0797 | BU51: 0.0865 | BV51: 0.0865 | BW51: 0.0865 | BX51: 0.0896 | BY51: 0.0896 | BZ51: 0.0896 | CA51: 0.0907 | CB51: 0.0907 | CC51: 0.0907 | CE51: 0.0919 | CF51: 0.0919 | CG51: 0.0919 | CH51: 0.0913 | CI51: 0.0913 | CJ51: 0.0913 | CK51: 0.0914 | CL51: 0.0914 | CM51: 0.0914 | CN51: 0.091964731 | CO51: 0.091964731 | CP51: 0.091964731 | CR51: =CP51*(1+(DC51/CP51)^(1/12)-1) -> 0.091622172 | CS51: =CR51*(1+(DC51/CP51)^(1/12)-1) -> 0.091280888 | CT51: =CS51*(1+(DC51/CP51)^(1/12)-1) -> 0.090940876 | CU51: =CT51*(1+(DC51/CP51)^(1/12)-1) -> 0.09060213 | CV51: =CU51*(1+(DC51/CP51)^(1/12)-1) -> 0.090264646 | CW51: =CV51*(1+(DC51/CP51)^(1/12)-1) -> 0.089928418 | CX51: =CW51*(1+(DC51/CP51)^(1/12)-1) -> 0.089593444 | CY51: =CX51*(1+(DC51/CP51)^(1/12)-1) -> 0.089259717 | CZ51: =CY51*(1+(DC51/CP51)^(1/12)-1) -> 0.088927233 | DA51: =CZ51*(1+(DC51/CP51)^(1/12)-1) -> 0.088595988 | DB51: =DA51*(1+(DC51/CP51)^(1/12)-1) -> 0.088265976 | DC51: 0.087937194 | DE51: =DC51*(1+(DP51/DC51)^(1/12)-1) -> 0.0873093 | DF51: =DE51*(1+(DP51/DC51)^(1/12)-1) -> 0.086685889 | DG51: =DF51*(1+(DP51/DC51)^(1/12)-1) -> 0.08606693 | DH51: =DG51*(1+(DP51/DC51)^(1/12)-1) -> 0.08545239 | DI51: =DH51*(1+(DP51/DC51)^(1/12)-1) -> 0.084842238 | DJ51: =DI51*(1+(DP51/DC51)^(1/12)-1) -> 0.084236443 | DK51: =DJ51*(1+(DP51/DC51)^(1/12)-1) -> 0.083634973 | DL51: =DK51*(1+(DP51/DC51)^(1/12)-1) -> 0.083037798 | DM51: =DL51*(1+(DP51/DC51)^(1/12)-1) -> 0.082444887 | DN51: =DM51*(1+(DP51/DC51)^(1/12)-1) -> 0.081856209 | DO51: =DN51*(1+(DP51/DC51)^(1/12)-1) -> 0.081271735 | DP51: 0.080691434 | DR51: =DP51*(1+(EC51/DP51)^(1/12)-1) -> 0.080332392 | DS51: =DR51*(1+(EC51/DP51)^(1/12)-1) -> 0.079974948 | DT51: =DS51*(1+(EC51/DP51)^(1/12)-1) -> 0.079619095 | DU51: =DT51*(1+(EC51/DP51)^(1/12)-1) -> 0.079264824 | DV51: =DU51*(1+(EC51/DP51)^(1/12)-1) -> 0.07891213 | DW51: =DV51*(1+(EC51/DP51)^(1/12)-1) -> 0.078561006 | DX51: =DW51*(1+(EC51/DP51)^(1/12)-1) -> 0.078211443 | DY51: =DX51*(1+(EC51/DP51)^(1/12)-1) -> 0.077863436 | DZ51: =DY51*(1+(EC51/DP51)^(1/12)-1) -> 0.077516978 | EA51: =DZ51*(1+(EC51/DP51)^(1/12)-1) -> 0.077172061 | EB51: =EA51*(1+(EC51/DP51)^(1/12)-1) -> 0.076828679 | EC51: 0.076486825 | EE51: =EC51*(1+(EP51/EC51)^(1/12)-1) -> 0.075950195 | EF51: =EE51*(1+(EP51/EC51)^(1/12)-1) -> 0.07541733 | EG51: =EF51*(1+(EP51/EC51)^(1/12)-1) -> 0.074888204 | EH51: =EG51*(1+(EP51/EC51)^(1/12)-1) -> 0.07436279 | EI51: =EH51*(1+(EP51/EC51)^(1/12)-1) -> 0.073841063 | EJ51: =EI51*(1+(EP51/EC51)^(1/12)-1) -> 0.073322995 | EK51: =EJ51*(1+(EP51/EC51)^(1/12)-1) -> 0.072808563 | EL51: =EK51*(1+(EP51/EC51)^(1/12)-1) -> 0.07229774 | EM51: =EL51*(1+(EP51/EC51)^(1/12)-1) -> 0.071790501 | EN51: =EM51*(1+(EP51/EC51)^(1/12)-1) -> 0.07128682 | EO51: =EN51*(1+(EP51/EC51)^(1/12)-1) -> 0.070786674 | EP51: 0.070290036 | ER51: =EP51*(1+($FC51/$EP51)^(1/12)-1) -> 0.06969228 | ES51: =ER51*(1+($FC51/$EP51)^(1/12)-1) -> 0.069099607 | ET51: =ES51*(1+($FC51/$EP51)^(1/12)-1) -> 0.068511974 | EU51: =ET51*(1+($FC51/$EP51)^(1/12)-1) -> 0.067929339 | EV51: =EU51*(1+($FC51/$EP51)^(1/12)-1) -> 0.067351659 | EW51: =EV51*(1+($FC51/$EP51)^(1/12)-1) -> 0.066778891 | EX51: =EW51*(1+($FC51/$EP51)^(1/12)-1) -> 0.066210994 | EY51: =EX51*(1+($FC51/$EP51)^(1/12)-1) -> 0.065647927 | EZ51: =EY51*(1+($FC51/$EP51)^(1/12)-1) -> 0.065089647 | ... FB51: =FA51*(1+($FC51/$EP51)^(1/12)-1) -> 0.063987292 | FC51: 0.063443135 | FE51: =FC51*(1+($FP51/$FC51)^(1/12)-1) -> 0.06316043 | FF51: =FE51*(1+($FP51/$FC51)^(1/12)-1) -> 0.062878985 | FG51: =FF51*(1+($FP51/$FC51)^(1/12)-1) -> 0.062598794 | FH51: =FG51*(1+($FP51/$FC51)^(1/12)-1) -> 0.062319851 | FI51: =FH51*(1+($FP51/$FC51)^(1/12)-1) -> 0.062042152 | FJ51: =FI51*(1+($FP51/$FC51)^(1/12)-1) -> 0.061765689 | FK51: =FJ51*(1+($FP51/$FC51)^(1/12)-1) -> 0.061490459 | FL51: =FK51*(1+($FP51/$FC51)^(1/12)-1) -> 0.061216455 | FM51: =FL51*(1+($FP51/$FC51)^(1/12)-1) -> 0.060943672 | ... FO51: =FN51*(1+($FP51/$FC51)^(1/12)-1) -> 0.060401748 | FP51: 0.060132595 | FR51: =FP51*(1+($GC51/$FP51)^(1/12)-1) -> 0.060113791 | FS51: =FR51*(1+($GC51/$FP51)^(1/12)-1) -> 0.060094992 | FT51: =FS51*(1+($GC51/$FP51)^(1/12)-1) -> 0.060076199 | FU51: =FT51*(1+($GC51/$FP51)^(1/12)-1) -> 0.060057412 | FV51: =FU51*(1+($GC51/$FP51)^(1/12)-1) -> 0.060038631 | FW51: =FV51*(1+($GC51/$FP51)^(1/12)-1) -> 0.060019855 | FX51: =FW51*(1+($GC51/$FP51)^(1/12)-1) -> 0.060001086 | FY51: =FX51*(1+($GC51/$FP51)^(1/12)-1) -> 0.059982322 | FZ51: =FY51*(1+($GC51/$FP51)^(1/12)-1) -> 0.059963565 | ... GB51: =GA51*(1+($GC51/$FP51)^(1/12)-1) -> 0.059926067 | GC51: 0.059907327 | GE51: =GC51*(1+($GP51/$GC51)^(1/12)-1) -> 0.059913327 | GF51: =GE51*(1+($GP51/$GC51)^(1/12)-1) -> 0.059919329 | GG51: =GF51*(1+($GP51/$GC51)^(1/12)-1) -> 0.05992533 | GH51: =GG51*(1+($GP51/$GC51)^(1/12)-1) -> 0.059931332 | GI51: =GH51*(1+($GP51/$GC51)^(1/12)-1) -> 0.059937335 | GJ51: =GI51*(1+($GP51/$GC51)^(1/12)-1) -> 0.059943339 | GK51: =GJ51*(1+($GP51/$GC51)^(1/12)-1) -> 0.059949343 | GL51: =GK51*(1+($GP51/$GC51)^(1/12)-1) -> 0.059955347 | GM51: =GL51*(1+($GP51/$GC51)^(1/12)-1) -> 0.059961353 | ... GO51: =GN51*(1+($GP51/$GC51)^(1/12)-1) -> 0.059973365 | GP51: 0.059979372
C53: TJLP (%) a.m | E53: =(E51+1)^(E10/360)-1 -> 0.0041458152 | F53: =(F51+1)^(F10/360)-1 -> 0.0041458152 | G53: =(G51+1)^(G10/360)-1 -> 0.0041458152 | H53: =(H51+1)^(H10/360)-1 -> 0.0040262982 | I53: =(I51+1)^(I10/360)-1 -> 0.0040262982 | J53: =(J51+1)^(J10/360)-1 -> 0.0040262982 | K53: =(K51+1)^(K10/360)-1 -> 0.004002376 | L53: =(L51+1)^(L10/360)-1 -> 0.004002376 | ... P53: =(P51+1)^(P10/360)-1 -> 0.0037148196 | R53: =(R51+1)^(R10/360)-1 -> 0.0035867252 | S53: =(S51+1)^(S10/360)-1 -> 0.0035867252 | T53: =(T51+1)^(T10/360)-1 -> 0.0035867252 | U53: =(U51+1)^(U10/360)-1 -> 0.0037628086 | V53: =(V51+1)^(V10/360)-1 -> 0.0037628086 | W53: =(W51+1)^(W10/360)-1 -> 0.0037628086 | X53: =(X51+1)^(X10/360)-1 -> 0.0039784476 | Y53: =(Y51+1)^(Y10/360)-1 -> 0.0039784476 | ... AC53: =(AC51+1)^(AC10/360)-1 -> 0.0043287712 | AE53: =(AE51+1)^(AE10/360)-1 -> 0.0049307279 | AF53: =(AF51+1)^(AF10/360)-1 -> 0.0049307279 | AG53: =(AG51+1)^(AG10/360)-1 -> 0.0049307279 | AH53: =(AH51+1)^(AH10/360)-1 -> 0.005513057 | AI53: =(AI51+1)^(AI10/360)-1 -> 0.005513057 | AJ53: =(AJ51+1)^(AJ10/360)-1 -> 0.005513057 | AK53: =(AK51+1)^(AK10/360)-1 -> 0.0056619772 | AL53: =(AL51+1)^(AL10/360)-1 -> 0.0056619772 | ... AP53: =(AP51+1)^(AP10/360)-1 -> 0.0058106553 | AR53: =(AR51+1)^(AR10/360)-1 -> 0.0059434784 | AS53: =(AS51+1)^(AS10/360)-1 -> 0.0059434784 | AT53: =(AT51+1)^(AT10/360)-1 -> 0.0059434784 | AU53: =(AU51+1)^(AU10/360)-1 -> 0.0058731843 | AV53: =(AV51+1)^(AV10/360)-1 -> 0.0058731843 | AW53: =(AW51+1)^(AW10/360)-1 -> 0.0058731843 | AX53: =(AX51+1)^(AX10/360)-1 -> 0.0056541454 | AY53: =(AY51+1)^(AY10/360)-1 -> 0.0056541454 | ... BC53: =(BC51+1)^(BC10/360)-1 -> 0.0053010153 | BE53: =(BE51+1)^(BE10/360)-1 -> 0.0052852889 | BF53: =(BF51+1)^(BF10/360)-1 -> 0.0052852889 | BG53: =(BG51+1)^(BG10/360)-1 -> 0.0052852889 | BH53: =(BH51+1)^(BH10/360)-1 -> 0.0053953168 | BI53: =(BI51+1)^(BI10/360)-1 -> 0.0053953168 | BJ53: =(BJ51+1)^(BJ10/360)-1 -> 0.0053953168 | BK53: =(BK51+1)^(BK10/360)-1 -> 0.0055836284 | BL53: =(BL51+1)^(BL10/360)-1 -> 0.0055836284 | ... BP53: =(BP51+1)^(BP10/360)-1 -> 0.0059903111 | BR53: =(BR51+1)^(BR10/360)-1 -> 0.0064107301 | BS53: =(BS51+1)^(BS10/360)-1 -> 0.0064107301 | BT53: =(BT51+1)^(BT10/360)-1 -> 0.0064107301 | BU53: =(BU51+1)^(BU10/360)-1 -> 0.0069374132 | BV53: =(BV51+1)^(BV10/360)-1 -> 0.0069374132 | BW53: =(BW51+1)^(BW10/360)-1 -> 0.0069374132 | BX53: =(BX51+1)^(BX10/360)-1 -> 0.0071765167 | BY53: =(BY51+1)^(BY10/360)-1 -> 0.0071765167 | ... CC53: =(CC51+1)^(CC10/360)-1 -> 0.00726121 | CE53: =(CE51+1)^(CE10/360)-1 -> 0.0073535134 | CF53: =(CF51+1)^(CF10/360)-1 -> 0.0073535134 | CG53: =(CG51+1)^(CG10/360)-1 -> 0.0073535134 | CH53: =(CH51+1)^(CH10/360)-1 -> 0.0073073733 | CI53: =(CI51+1)^(CI10/360)-1 -> 0.0073073733 | CJ53: =(CJ51+1)^(CJ10/360)-1 -> 0.0073073733 | CK53: =(CK51+1)^(CK10/360)-1 -> 0.007315065 | CL53: =(CL51+1)^(CL10/360)-1 -> 0.007315065 | ... CP53: =(CP51+1)^(CP10/360)-1 -> 0.0073584899 | CR53: =(CR51+1)^(CR10/360)-1 -> 0.0073321513 | CS53: =(CS51+1)^(CS10/360)-1 -> 0.0073059032 | CT53: =(CT51+1)^(CT10/360)-1 -> 0.0072797455 | CU53: =(CU51+1)^(CU10/360)-1 -> 0.0072536777 | CV53: =(CV51+1)^(CV10/360)-1 -> 0.0072276997 | CW53: =(CW51+1)^(CW10/360)-1 -> 0.0072018111 | CX53: =(CX51+1)^(CX10/360)-1 -> 0.0071760117 | CY53: =(CY51+1)^(CY10/360)-1 -> 0.0071503011 | ... DC53: =(DC51+1)^(DC10/360)-1 -> 0.0070483419 | DE53: =(DE51+1)^(DE10/360)-1 -> 0.0069998949 | DF53: =(DF51+1)^(DF10/360)-1 -> 0.0069517685 | DG53: =(DG51+1)^(DG10/360)-1 -> 0.0069039607 | DH53: =(DH51+1)^(DH10/360)-1 -> 0.0068564695 | DI53: =(DI51+1)^(DI10/360)-1 -> 0.006809293 | DJ53: =(DJ51+1)^(DJ10/360)-1 -> 0.0067624293 | DK53: =(DK51+1)^(DK10/360)-1 -> 0.0067158765 | DL53: =(DL51+1)^(DL10/360)-1 -> 0.0066696327 | ... DP53: =(DP51+1)^(DP10/360)-1 -> 0.006487709 | DR53: =(DR51+1)^(DR10/360)-1 -> 0.0064598391 | DS53: =(DS51+1)^(DS10/360)-1 -> 0.0064320846 | DT53: =(DT51+1)^(DT10/360)-1 -> 0.0064044454 | DU53: =(DU51+1)^(DU10/360)-1 -> 0.0063769208 | DV53: =(DV51+1)^(DV10/360)-1 -> 0.0063495104 | DW53: =(DW51+1)^(DW10/360)-1 -> 0.0063222139 | DX53: =(DX51+1)^(DX10/360)-1 -> 0.0062950307 | DY53: =(DY51+1)^(DY10/360)-1 -> 0.0062679605 | ... EC53: =(EC51+1)^(EC10/360)-1 -> 0.0061608001 | EE53: =(EE51+1)^(EE10/360)-1 -> 0.0061189928 | EF53: =(EF51+1)^(EF10/360)-1 -> 0.00607746 | EG53: =(EG51+1)^(EG10/360)-1 -> 0.0060361999 | EH53: =(EH51+1)^(EH10/360)-1 -> 0.0059952108 | EI53: =(EI51+1)^(EI10/360)-1 -> 0.0059544912 | EJ53: =(EJ51+1)^(EJ10/360)-1 -> 0.0059140392 | EK53: =(EK51+1)^(EK10/360)-1 -> 0.0058738534 | EL53: =(EL51+1)^(EL10/360)-1 -> 0.005833932 | ... EP53: =(EP51+1)^(EP10/360)-1 -> 0.0056768587 | ER53: =(ER51+1)^(ER10/360)-1 -> 0.005630041 | ES53: =(ES51+1)^(ES10/360)-1 -> 0.0055835976 | ET53: =(ET51+1)^(ET10/360)-1 -> 0.0055375259 | EU53: =(EU51+1)^(EU10/360)-1 -> 0.0054918231 | EV53: =(EV51+1)^(EV10/360)-1 -> 0.0054464864 | EW53: =(EW51+1)^(EW10/360)-1 -> 0.005401513 | EX53: =(EX51+1)^(EX10/360)-1 -> 0.0053569002 | EY53: =(EY51+1)^(EY10/360)-1 -> 0.0053126453 | ... FC53: =(FC51+1)^(FC10/360)-1 -> 0.0051391508 | FE53: =(FE51+1)^(FE10/360)-1 -> 0.0051168809 | FF53: =(FF51+1)^(FF10/360)-1 -> 0.0050947049 | FG53: =(FG51+1)^(FG10/360)-1 -> 0.0050726224 | FH53: =(FH51+1)^(FH10/360)-1 -> 0.005050633 | FI53: =(FI51+1)^(FI10/360)-1 -> 0.0050287363 | FJ53: =(FJ51+1)^(FJ10/360)-1 -> 0.0050069319 | FK53: =(FK51+1)^(FK10/360)-1 -> 0.0049852196 | FL53: =(FL51+1)^(FL10/360)-1 -> 0.0049635988 | ... FP53: =(FP51+1)^(FP10/360)-1 -> 0.0048780249 | FR53: =(FR51+1)^(FR10/360)-1 -> 0.0048765395 | FS53: =(FS51+1)^(FS10/360)-1 -> 0.0048750545 | FT53: =(FT51+1)^(FT10/360)-1 -> 0.00487357 | FU53: =(FU51+1)^(FU10/360)-1 -> 0.0048720859 | FV53: =(FV51+1)^(FV10/360)-1 -> 0.0048706023 | FW53: =(FW51+1)^(FW10/360)-1 -> 0.0048691191 | FX53: =(FX51+1)^(FX10/360)-1 -> 0.0048676364 | FY53: =(FY51+1)^(FY10/360)-1 -> 0.004866154 | ... GC53: =(GC51+1)^(GC10/360)-1 -> 0.0048602292 | GE53: =(GE51+1)^(GE10/360)-1 -> 0.0048607033 | GF53: =(GF51+1)^(GF10/360)-1 -> 0.0048611774 | GG53: =(GG51+1)^(GG10/360)-1 -> 0.0048616515 | GH53: =(GH51+1)^(GH10/360)-1 -> 0.0048621257 | GI53: =(GI51+1)^(GI10/360)-1 -> 0.0048626 | GJ53: =(GJ51+1)^(GJ10/360)-1 -> 0.0048630743 | GK53: =(GK51+1)^(GK10/360)-1 -> 0.0048635486 | GL53: =(GL51+1)^(GL10/360)-1 -> 0.004864023 | ... GP53: =(GP51+1)^(GP10/360)-1 -> 0.004865921
C55: SOFR (média de 180 dias, final) | G55: 0.0146382 | H55: 0.0115662 | I55: 0.0090874 | J55: 0.0064646 | K55: 0.0039749 | L55: 0.0013843 | M55: 0.0007118 | N55: 0.0008235 | O55: 0.0008869 | P55: 0.0008874 | R55: 0.0008335 | S55: 0.0007674 | T55: 0.0006362 | U55: 0.0005056 | V55: 0.0003889 | W55: 0.0002839 | X55: 0.0002483 | Y55: 0.0002706 | Z55: 0.0003334 | AA55: 0.0003939 | AB55: 0.0004651 | AC55: 0.0004956 | AE55: 0.0004934 | AF55: 0.0004928 | AG55: 0.0006751 | AH55: 0.0010619 | AI55: 0.0022034 | AJ55: 0.0039371 | AK55: 0.006371 | AL55: 0.0104791 | AM55: 0.0143069 | AN55: 0.0190736 | AO55: 0.0240443 | AP55: 0.0289325 | AR55: 0.0336402 | AS55: 0.0372037 | AT55: 0.0409148 | AU55: 0.0437377 | AV55: 0.046183 | AW55: 0.047834 | AX55: 0.0492232 | AY55: 0.0505612 | AZ55: 0.0516508 | BA55: 0.0525636 | BB55: 0.0530124 | BC55: 0.0534725 | BE55: 0.0538646 | BF55: 0.0538782 | BG55: 0.0538875 | BH55: 0.0539022 | BI55: 0.0538857 | BJ55: 0.0538728 | BK55: 0.0539047 | BL55: 0.0539506 | BM55: 0.0536699 | BN55: 0.0528391 | BO55: 0.0517431 | BP55: 0.0502781 | BR55: 0.0484825 | BS55: 0.0469118 | BT55: 0.0454855 | BU55: 0.0446472 | BV55: 0.0440762 | BW55: 0.0437146 | BX55: 0.043747 | BY55: 0.0437499 | BZ55: 0.0436998 | CA55: 0.0434411 | CB55: 0.042956 | CC55: 0.0419996 | CE55: 0.0408844 | CF55: 0.0398027 | CG55: 0.0386315 | CH55: 0.0376947 | CI55: 0.0370265 | CJ55: 0.0367232 | CK55: 0.0366334 | CL55: 0.0365853 | CM55: 0.036751 | CN55: 0.0373 | CO55: 0.0377 | CP55: 0.0381 | CR55: =($DC$55-$CP$55)/12+CP55 -> 0.038366667 | CS55: =($DC$55-$CP$55)/12+CR55 -> 0.038633333 | CT55: =($DC$55-$CP$55)/12+CS55 -> 0.0389 | CU55: =($DC$55-$CP$55)/12+CT55 -> 0.039166667 | CV55: =($DC$55-$CP$55)/12+CU55 -> 0.039433333 | CW55: =($DC$55-$CP$55)/12+CV55 -> 0.0397 | CX55: =($DC$55-$CP$55)/12+CW55 -> 0.039966667 | CY55: =($DC$55-$CP$55)/12+CX55 -> 0.040233333 | CZ55: =($DC$55-$CP$55)/12+CY55 -> 0.0405 | ... DB55: =($DC$55-$CP$55)/12+DA55 -> 0.041033333 | DC55: 0.0413 | DE55: =($DP$55-$DC$55)/12+DC55 -> 0.040666667 | DF55: =($DP$55-$DC$55)/12+DE55 -> 0.040033333 | DG55: =($DP$55-$DC$55)/12+DF55 -> 0.0394 | DH55: =($DP$55-$DC$55)/12+DG55 -> 0.038766667 | DI55: =($DP$55-$DC$55)/12+DH55 -> 0.038133333 | DJ55: =($DP$55-$DC$55)/12+DI55 -> 0.0375 | DK55: =($DP$55-$DC$55)/12+DJ55 -> 0.036866667 | DL55: =($DP$55-$DC$55)/12+DK55 -> 0.036233333 | DM55: =($DP$55-$DC$55)/12+DL55 -> 0.0356 | ... DO55: =($DP$55-$DC$55)/12+DN55 -> 0.034333333 | DP55: 0.0337 | DR55: =($EC$55-$DP$55)/12+DP55 -> 0.033691667 | DS55: =($EC$55-$DP$55)/12+DR55 -> 0.033683333 | DT55: =($EC$55-$DP$55)/12+DS55 -> 0.033675 | DU55: =($EC$55-$DP$55)/12+DT55 -> 0.033666667 | DV55: =($EC$55-$DP$55)/12+DU55 -> 0.033658333 | DW55: =($EC$55-$DP$55)/12+DV55 -> 0.03365 | DX55: =($EC$55-$DP$55)/12+DW55 -> 0.033641667 | DY55: =($EC$55-$DP$55)/12+DX55 -> 0.033633333 | DZ55: =($EC$55-$DP$55)/12+DY55 -> 0.033625 | ... EB55: =($EC$55-$DP$55)/12+EA55 -> 0.033608333 | EC55: 0.0336 | EE55: =($EP$55-$EC$55)/12+EC55 -> 0.0336 | EF55: =($EP$55-$EC$55)/12+EE55 -> 0.0336 | EG55: =($EP$55-$EC$55)/12+EF55 -> 0.0336 | EH55: =($EP$55-$EC$55)/12+EG55 -> 0.0336 | EI55: =($EP$55-$EC$55)/12+EH55 -> 0.0336 | EJ55: =($EP$55-$EC$55)/12+EI55 -> 0.0336 | EK55: =($EP$55-$EC$55)/12+EJ55 -> 0.0336 | EL55: =($EP$55-$EC$55)/12+EK55 -> 0.0336 | EM55: =($EP$55-$EC$55)/12+EL55 -> 0.0336 | ... EO55: =($EP$55-$EC$55)/12+EN55 -> 0.0336 | EP55: 0.0336 | ER55: =($FC$55-$EP$55)/12+EP55 -> 0.0336 | ES55: =($FC$55-$EP$55)/12+ER55 -> 0.0336 | ET55: =($FC$55-$EP$55)/12+ES55 -> 0.0336 | EU55: =($FC$55-$EP$55)/12+ET55 -> 0.0336 | EV55: =($FC$55-$EP$55)/12+EU55 -> 0.0336 | EW55: =($FC$55-$EP$55)/12+EV55 -> 0.0336 | EX55: =($FC$55-$EP$55)/12+EW55 -> 0.0336 | EY55: =($FC$55-$EP$55)/12+EX55 -> 0.0336 | EZ55: =($FC$55-$EP$55)/12+EY55 -> 0.0336 | ... FB55: =($FC$55-$EP$55)/12+FA55 -> 0.0336 | FC55: 0.0336 | FE55: =($FP$55-$FC$55)/12+FC55 -> 0.0336 | FF55: =($FP$55-$FC$55)/12+FE55 -> 0.0336 | FG55: =($FP$55-$FC$55)/12+FF55 -> 0.0336 | FH55: =($FP$55-$FC$55)/12+FG55 -> 0.0336 | FI55: =($FP$55-$FC$55)/12+FH55 -> 0.0336 | FJ55: =($FP$55-$FC$55)/12+FI55 -> 0.0336 | FK55: =($FP$55-$FC$55)/12+FJ55 -> 0.0336 | FL55: =($FP$55-$FC$55)/12+FK55 -> 0.0336 | FM55: =($FP$55-$FC$55)/12+FL55 -> 0.0336 | ... FO55: =($FP$55-$FC$55)/12+FN55 -> 0.0336 | FP55: 0.0336 | FR55: =($GC$55-$FP$55)/12+FP55 -> 0.0336 | FS55: =($GC$55-$FP$55)/12+FR55 -> 0.0336 | FT55: =($GC$55-$FP$55)/12+FS55 -> 0.0336 | FU55: =($GC$55-$FP$55)/12+FT55 -> 0.0336 | FV55: =($GC$55-$FP$55)/12+FU55 -> 0.0336 | FW55: =($GC$55-$FP$55)/12+FV55 -> 0.0336 | FX55: =($GC$55-$FP$55)/12+FW55 -> 0.0336 | FY55: =($GC$55-$FP$55)/12+FX55 -> 0.0336 | FZ55: =($GC$55-$FP$55)/12+FY55 -> 0.0336 | ... GB55: =($GC$55-$FP$55)/12+GA55 -> 0.0336 | GC55: 0.0336 | GE55: =($GP$55-$GC$55)/12+GC55 -> 0.0336 | GF55: =($GP$55-$GC$55)/12+GE55 -> 0.0336 | GG55: =($GP$55-$GC$55)/12+GF55 -> 0.0336 | GH55: =($GP$55-$GC$55)/12+GG55 -> 0.0336 | GI55: =($GP$55-$GC$55)/12+GH55 -> 0.0336 | GJ55: =($GP$55-$GC$55)/12+GI55 -> 0.0336 | GK55: =($GP$55-$GC$55)/12+GJ55 -> 0.0336 | GL55: =($GP$55-$GC$55)/12+GK55 -> 0.0336 | GM55: =($GP$55-$GC$55)/12+GL55 -> 0.0336 | ... GO55: =($GP$55-$GC$55)/12+GN55 -> 0.0336 | GP55: 0.0336
C57: ATIVIDADE ECONÔMICA
C59: PIB BRASIL (Crescimento Real - %) | G59: 0.010996572 | J59: -0.017328038 | M59: -0.027842566 | P59: -0.032767588 | T59: -0.029452069 | W59: 0.0240166 | Z59: 0.042928429 | AC59: 0.047626044 | AG59: 0.046781612 | AJ59: 0.026667281 | AM59: 0.02710378 | AP59: 0.030166944 | AT59: 0.037520714 | AW59: 0.038279512 | AZ59: 0.033244048 | BC59: 0.032416553 | BG59: 0.027563852 | BJ59: 0.026705191 | BM59: 0.03125259 | BP59: =ANUAL!$M$47 -> 0.034193152 | BT59: 0.03585936 | BW59: 0.033009455 | BZ59: 0.027109355 | CC59: =ANUAL!$O$47 -> 0.022857465 | CG59: 0.019657903 | CJ59: 0.018728163 | CM59: 0.018446243 | CP59: =ANUAL!$Q$47 -> 0.017864933 | DC59: =ANUAL!$S$47 -> 0.011704835 | DP59: =ANUAL!$U$47 -> 0.018074494 | EC59: =ANUAL!$W$47 -> 0.01892703 | EP59: =ANUAL!$Y$47 -> 0.018814827 | FC59: =ANUAL!$AA$47 -> 0.01857166 | FP59: =ANUAL!$AC$47 -> 0.018400986 | GC59: =ANUAL!$AE$47 -> 0.01813995 | GP59: =ANUAL!$AG$47 -> 0.018033143
C61: Acumulado12 meses | P61: =P59 -> -0.032767588 | AC61: =AC59 -> 0.047626044 | AP61: =AP59 -> 0.030166944 | BC61: =BC59 -> 0.032416553 | BP61: =BP59 -> 0.034193152 | CC61: =CC59 -> 0.022857465 | CP61: =CP59 -> 0.017864933 | DC61: =DC59 -> 0.011704835 | DP61: =DP59 -> 0.018074494 | EC61: =EC59 -> 0.01892703 | EP61: =EP59 -> 0.018814827 | FC61: =FC59 -> 0.01857166 | FP61: =FP59 -> 0.018400986 | GC61: =GC59 -> 0.01813995 | GP61: =GP59 -> 0.018033143
C63: PIB EUA (Crescimento Real - %) | P63: =ANUAL!$E$49 -> -0.020813783 | AC63: =ANUAL!$G$49 -> 0.061520225 | AP63: =ANUAL!$I$49 -> 0.02524215 | BC63: =ANUAL!$K$49 -> 0.029343609 | BP63: =ANUAL!$M$49 -> 0.027931872 | CC63: =ANUAL!$O$49 -> 0.021063376 | CP63: =ANUAL!$Q$49 -> 0.021752041 | DC63: =ANUAL!$S$49 -> 0.017703162 | DP63: =ANUAL!$U$49 -> 0.015659659 | EC63: =ANUAL!$W$49 -> 0.017225765 | EP63: =ANUAL!$Y$49 -> 0.017225765 | FC63: =ANUAL!$AA$49 -> 0.017225765 | FP63: =ANUAL!$AC$49 -> 0.027845333 | GC63: =ANUAL!$AE$49 -> 0.017225765 | GP63: =ANUAL!$AG$49 -> 0.017225765
C65: Acumulado12 meses | P65: {=PRODUCT(1+E63:P63)-1} -> -0.020813783 | AC65: {=PRODUCT(1+R63:AC63)-1} -> 0.061520225 | AP65: {=PRODUCT(1+AE63:AP63)-1} -> 0.02524215 | BC65: {=PRODUCT(1+AR63:BC63)-1} -> 0.029343609 | BP65: =BP63 -> 0.027931872 | CC65: =CC63 -> 0.021063376 | CP65: =CP63 -> 0.021752041 | DC65: =DC63 -> 0.017703162 | DP65: =DP63 -> 0.015659659 | EC65: =EC63 -> 0.017225765 | EP65: =EP63 -> 0.017225765 | FC65: =FC63 -> 0.017225765 | FP65: =FP63 -> 0.027845333 | GC65: =GC63 -> 0.017225765 | GP65: =GP63 -> 0.017225765
C67: PIB ZONA EURO (Crescimento Real - %) | P67: =ANUAL!$E$51 -> -0.061208691 | AC67: =ANUAL!$G$51 -> 0.063710144 | AP67: =ANUAL!$I$51 -> 0.03746342 | BC67: =ANUAL!$K$51 -> 0.0051896325 | BP67: =ANUAL!$M$51 -> 0.011175355 | CC67: =ANUAL!$O$51 -> 0.013082068 | CP67: =ANUAL!$Q$51 -> 0.010816239 | DC67: =ANUAL!$S$51 -> 0.013201732 | DP67: =ANUAL!$U$51 -> 0.011787365 | EC67: =ANUAL!$W$51 -> 0.011787365 | EP67: =ANUAL!$Y$51 -> 0.011787365 | FC67: =ANUAL!$AA$51 -> 0.011787365 | FP67: =ANUAL!$AC$51 -> 0.011787365 | GC67: =ANUAL!$AE$51 -> 0.011787365 | GP67: =ANUAL!$AG$51 -> 0.011787365
C69: Acumulado12 meses | P69: {=PRODUCT(1+E67:P67)-1} -> -0.061208691 | AC69: {=PRODUCT(1+R67:AC67)-1} -> 0.063710144 | AP69: {=PRODUCT(1+AE67:AP67)-1} -> 0.03746342 | BC69: {=PRODUCT(1+AR67:BC67)-1} -> 0.0051896325 | BP69: =BP67 -> 0.011175355 | CC69: =CC67 -> 0.013082068 | CP69: =CP67 -> 0.010816239 | DC69: =DC67 -> 0.013201732 | DP69: =DP67 -> 0.011787365 | EC69: =EC67 -> 0.011787365 | EP69: =EP67 -> 0.011787365 | FC69: =FC67 -> 0.011787365 | FP69: =FP67 -> 0.011787365 | GC69: =GC67 -> 0.011787365 | GP69: =GP67 -> 0.011787365
C71: Taxa de desemprego | E71: 0.11349138 | F71: 0.11749535 | G71: 0.12374579 | H71: 0.12737034 | I71: 0.13102084 | J71: 0.13577922 | K71: 0.14085951 | L71: 0.1475539 | M71: 0.14868023 | N71: 0.14563572 | O71: 0.14341124 | P71: 0.14162759 | R71: 0.14449528 | S71: 0.14595893 | T71: 0.14908038 | U71: 0.14797361 | V71: 0.14735297 | W71: 0.14242291 | X71: 0.13725642 | Y71: 0.13151726 | Z71: 0.12650862 | AA71: 0.12081522 | AB71: 0.11563283 | AC71: 0.11148505 | AE71: 0.11208106 | AF71: 0.11199552 | AG71: 0.11140354 | AH71: 0.10519903 | AI71: 0.098301348 | AJ71: 0.093050592 | AK71: 0.091051599 | AL71: 0.089103435 | AM71: 0.086900701 | AN71: 0.0828966 | AO71: 0.080552554 | AP71: 0.0793943 | AR71: 0.083551112 | AS71: 0.085899298 | AT71: 0.087878356 | AU71: 0.08483995 | AV71: 0.083247073 | AW71: 0.080252121 | AX71: 0.078869273 | AY71: 0.077735849 | AZ71: 0.076814313 | BA71: 0.076074289 | BB71: 0.075359872 | BC71: 0.074083075 | BE71: 0.076135906 | BF71: 0.078475841 | BG71: 0.079190205 | BH71: 0.075250414 | BI71: 0.071232339 | BJ71: 0.068880975 | BK71: 0.067799925 | BL71: 0.066191834 | BM71: 0.063514716 | BN71: 0.061840538 | BO71: 0.061097395 | BP71: 0.061594604 | BR71: 0.06535863 | BS71: 0.067844942 | BT71: 0.070005644 | BU71: 0.065789595 | BV71: 0.061628882 | BW71: 0.057594709 | BX71: 0.056349835 | BY71: 0.056072699 | BZ71: 0.055725585 | CA71: 0.054487623 | CB71: 0.051931678 | CC71: 0.050718427 | CE71: 0.053915335 | CF71: 0.057598627 | CG71: 0.060605223 | CH71: 0.058184161 | CI71: 0.055760886 | CJ71: 0.053819811 | CK71: 0.053310002 | CL71: 0.052946129 | CM71: 0.052776364 | CN71: 0.051701287 | CO71: 0.050698981 | CP71: 0.050041915 | CR71: n/a | CS71: n/a | CT71: n/a | CU71: n/a | CV71: n/a | CW71: n/a | CX71: n/a | CY71: n/a | CZ71: n/a | DA71: n/a | DB71: n/a | DC71: 0.056823358 | DE71: n/a | DF71: n/a | DG71: n/a | DH71: n/a | DI71: n/a | DJ71: n/a | DK71: n/a | DL71: n/a | DM71: n/a | DN71: n/a | DO71: n/a | DP71: 0.061491998 | DR71: n/a | DS71: n/a | DT71: n/a | DU71: n/a | DV71: n/a | DW71: n/a | DX71: n/a | DY71: n/a | DZ71: n/a | EA71: n/a | EB71: n/a | EC71: 0.064350807 | EE71: n/a | EF71: n/a | EG71: n/a | EH71: n/a | EI71: n/a | EJ71: n/a | EK71: n/a | EL71: n/a | EM71: n/a | EN71: n/a | EO71: n/a | EP71: 0.062903916 | ER71: n/a | ES71: n/a | ET71: n/a | EU71: n/a | EV71: n/a | EW71: n/a | EX71: n/a | EY71: n/a | EZ71: n/a | FA71: n/a | FB71: n/a | FC71: 0.062839632 | FE71: n/a | FF71: n/a | FG71: n/a | FH71: n/a | FI71: n/a | FJ71: n/a | FK71: n/a | FL71: n/a | FM71: n/a | FN71: n/a | FO71: n/a | FP71: 0.063052819 | FR71: n/a | FS71: n/a | FT71: n/a | FU71: n/a | FV71: n/a | FW71: n/a | FX71: n/a | FY71: n/a | FZ71: n/a | GA71: n/a | GB71: n/a | GC71: 0.063349129 | GE71: n/a | GF71: n/a | GG71: n/a | GH71: n/a | GI71: n/a | GJ71: n/a | GK71: n/a | GL71: n/a | GM71: n/a | GN71: n/a | GO71: n/a | GP71: 0.063578501
C74: DEMAIS
C76: Inadimplência - Pessoa Física | E76: 0.0495 | F76: 0.0507 | G76: 0.052 | H76: 0.0551 | I76: 0.056 | J76: 0.053 | K76: 0.0512 | L76: 0.0488 | M76: 0.0466 | N76: 0.0453 | O76: 0.043 | P76: 0.0417 | R76: 0.0413 | S76: 0.0407 | T76: 0.0402 | U76: 0.0404 | V76: 0.041 | W76: 0.0403 | X76: 0.0409 | Y76: 0.0413 | Z76: 0.0421 | AA76: 0.0423 | AB76: 0.0427 | AC76: 0.0437 | AE76: 0.0463 | AF76: 0.0472 | AG76: 0.0485 | AH76: 0.0504 | AI76: 0.0526 | AJ76: 0.0524 | AK76: 0.0547 | AL76: 0.0562 | AM76: 0.0569 | AN76: 0.058 | AO76: 0.0581 | AP76: 0.0591 | AR76: 0.061 | AS76: 0.0612 | AT76: 0.0605 | AU76: 0.062 | AV76: 0.0629 | AW76: 0.063 | AX76: 0.0618 | AY76: 0.0607 | AZ76: 0.0593 | BA76: 0.059 | BB76: 0.0576 | BC76: 0.0558 | BE76: 0.057 | BF76: 0.0566 | BG76: 0.0558 | BH76: 0.0563 | BI76: 0.0572 | BJ76: 0.0559 | BK76: 0.0565 | BL76: 0.0565 | BM76: 0.0569 | BN76: 0.0559 | BO76: 0.0547 | BP76: 0.054 | BR76: 0.0574 | BS76: 0.0581 | BT76: 0.0591 | BU76: 0.0621 | BV76: 0.0638 | BW76: 0.065 | BX76: 0.0673 | BY76: 0.0697 | BZ76: 0.0689 | CA76: 0.0686 | CB76: 0.0694 | CC76: 0.0706 | CE76: 0.0717 | CF76: 0.0742 | CG76: 0.0725 | CH76: 0.0737 | CI76: 0.0756 | CJ76: 0.0737 | CK76: 0.0778 | CL76: 0.0801 | CM76: 0.076 | CN76: 0.077 | CO76: 0.078 | CP76: 0.078 | CR76: =CP76*(1+(($DC$78/$CP$78)^(1/12)-1)) -> 0.078083238 | CS76: =CR76*(1+(($DC$78/$CP$78)^(1/12)-1)) -> 0.078166564 | CT76: =CS76*(1+(($DC$78/$CP$78)^(1/12)-1)) -> 0.078249979 | CU76: =CT76*(1+(($DC$78/$CP$78)^(1/12)-1)) -> 0.078333484 | CV76: =CU76*(1+(($DC$78/$CP$78)^(1/12)-1)) -> 0.078417077 | CW76: =CV76*(1+(($DC$78/$CP$78)^(1/12)-1)) -> 0.07850076 | CX76: =CW76*(1+(($DC$78/$CP$78)^(1/12)-1)) -> 0.078584532 | CY76: =CX76*(1+(($DC$78/$CP$78)^(1/12)-1)) -> 0.078668393 | CZ76: =CY76*(1+(($DC$78/$CP$78)^(1/12)-1)) -> 0.078752344 | ... DC76: =DB76*(1+(($DC$78/$CP$78)^(1/12)-1)) -> 0.079004734 | DE76: =DC76*(1+((DP78/DC78)^(1/12)-1)) -> 0.078369066 | DF76: =DE76*(1+((DP78/DC78)^(1/12)-1)) -> 0.077738512 | DG76: =DF76*(1+((DP78/DC78)^(1/12)-1)) -> 0.077113032 | DH76: =DG76*(1+((DP78/DC78)^(1/12)-1)) -> 0.076492584 | DI76: =DH76*(1+((DP78/DC78)^(1/12)-1)) -> 0.075877128 | DJ76: =DI76*(1+((DP78/DC78)^(1/12)-1)) -> 0.075266625 | DK76: =DJ76*(1+((DP78/DC78)^(1/12)-1)) -> 0.074661033 | DL76: =DK76*(1+((DP78/DC78)^(1/12)-1)) -> 0.074060314 | DM76: =DL76*(1+((DP78/DC78)^(1/12)-1)) -> 0.073464428 | DN76: =DM76*(1+((DP78/DC78)^(1/12)-1)) -> 0.072873337 | DO76: =DN76*(1+((DP78/DC78)^(1/12)-1)) -> 0.072287001 | DP76: =DO76*(1+((DP78/DC78)^(1/12)-1)) -> 0.071705384 | DR76: =DP76*(1+((EC78/DP78)^(1/12)-1)) -> 0.071113934 | DS76: =DR76*(1+((EC78/DP78)^(1/12)-1)) -> 0.070527364 | DT76: =DS76*(1+((EC78/DP78)^(1/12)-1)) -> 0.069945631 | DU76: =DT76*(1+((EC78/DP78)^(1/12)-1)) -> 0.069368697 | DV76: =DU76*(1+((EC78/DP78)^(1/12)-1)) -> 0.068796522 | DW76: =DV76*(1+((EC78/DP78)^(1/12)-1)) -> 0.068229066 | DX76: =DW76*(1+((EC78/DP78)^(1/12)-1)) -> 0.06766629 | DY76: =DX76*(1+((EC78/DP78)^(1/12)-1)) -> 0.067108157 | DZ76: =DY76*(1+((EC78/DP78)^(1/12)-1)) -> 0.066554627 | EA76: =DZ76*(1+((EC78/DP78)^(1/12)-1)) -> 0.066005663 | EB76: =EA76*(1+((EC78/DP78)^(1/12)-1)) -> 0.065461227 | EC76: =EB76*(1+((EC78/DP78)^(1/12)-1)) -> 0.064921282 | EE76: =EC76*(1+((EP78/EC78)^(1/12)-1)) -> 0.064498562 | EF76: =EE76*(1+((EP78/EC78)^(1/12)-1)) -> 0.064078595 | EG76: =EF76*(1+((EP78/EC78)^(1/12)-1)) -> 0.063661362 | EH76: =EG76*(1+((EP78/EC78)^(1/12)-1)) -> 0.063246847 | EI76: =EH76*(1+((EP78/EC78)^(1/12)-1)) -> 0.06283503 | EJ76: =EI76*(1+((EP78/EC78)^(1/12)-1)) -> 0.062425895 | EK76: =EJ76*(1+((EP78/EC78)^(1/12)-1)) -> 0.062019423 | EL76: =EK76*(1+((EP78/EC78)^(1/12)-1)) -> 0.061615598 | EM76: =EL76*(1+((EP78/EC78)^(1/12)-1)) -> 0.061214403 | EN76: =EM76*(1+((EP78/EC78)^(1/12)-1)) -> 0.06081582 | EO76: =EN76*(1+((EP78/EC78)^(1/12)-1)) -> 0.060419832 | EP76: =EO76*(1+((EP78/EC78)^(1/12)-1)) -> 0.060026423 | ER76: =EP76*(1+(($FC$78/$EP$78)^(1/12)-1)) -> 0.059770016 | ES76: =ER76*(1+(($FC$78/$EP$78)^(1/12)-1)) -> 0.059514704 | ET76: =ES76*(1+(($FC$78/$EP$78)^(1/12)-1)) -> 0.059260483 | EU76: =ET76*(1+(($FC$78/$EP$78)^(1/12)-1)) -> 0.059007348 | EV76: =EU76*(1+(($FC$78/$EP$78)^(1/12)-1)) -> 0.058755294 | EW76: =EV76*(1+(($FC$78/$EP$78)^(1/12)-1)) -> 0.058504317 | EX76: =EW76*(1+(($FC$78/$EP$78)^(1/12)-1)) -> 0.058254412 | EY76: =EX76*(1+(($FC$78/$EP$78)^(1/12)-1)) -> 0.058005575 | EZ76: =EY76*(1+(($FC$78/$EP$78)^(1/12)-1)) -> 0.0577578 | ... FC76: =FB76*(1+(($FC$78/$EP$78)^(1/12)-1)) -> 0.057020808 | FE76: =FC76*(1+(($FP$78/$FC$78)^(1/12)-1)) -> 0.056853542 | FF76: =FE76*(1+(($FP$78/$FC$78)^(1/12)-1)) -> 0.056686768 | FG76: =FF76*(1+(($FP$78/$FC$78)^(1/12)-1)) -> 0.056520482 | FH76: =FG76*(1+(($FP$78/$FC$78)^(1/12)-1)) -> 0.056354684 | FI76: =FH76*(1+(($FP$78/$FC$78)^(1/12)-1)) -> 0.056189372 | FJ76: =FI76*(1+(($FP$78/$FC$78)^(1/12)-1)) -> 0.056024546 | FK76: =FJ76*(1+(($FP$78/$FC$78)^(1/12)-1)) -> 0.055860202 | FL76: =FK76*(1+(($FP$78/$FC$78)^(1/12)-1)) -> 0.055696341 | FM76: =FL76*(1+(($FP$78/$FC$78)^(1/12)-1)) -> 0.055532961 | ... FP76: =FO76*(1+(($FP$78/$FC$78)^(1/12)-1)) -> 0.05504569 | FR76: =FP76*(1+(($GC$78/$FP$78)^(1/12)-1)) -> 0.054959069 | FS76: =FR76*(1+(($GC$78/$FP$78)^(1/12)-1)) -> 0.054872585 | FT76: =FS76*(1+(($GC$78/$FP$78)^(1/12)-1)) -> 0.054786237 | FU76: =FT76*(1+(($GC$78/$FP$78)^(1/12)-1)) -> 0.054700025 | FV76: =FU76*(1+(($GC$78/$FP$78)^(1/12)-1)) -> 0.054613948 | FW76: =FV76*(1+(($GC$78/$FP$78)^(1/12)-1)) -> 0.054528007 | FX76: =FW76*(1+(($GC$78/$FP$78)^(1/12)-1)) -> 0.054442201 | FY76: =FX76*(1+(($GC$78/$FP$78)^(1/12)-1)) -> 0.054356531 | FZ76: =FY76*(1+(($GC$78/$FP$78)^(1/12)-1)) -> 0.054270994 | ... GC76: =GB76*(1+(($GC$78/$FP$78)^(1/12)-1)) -> 0.054015193 | GE76: =GC76*(1+(($GP$78/$GC$78)^(1/12)-1)) -> 0.053928558 | GF76: =GE76*(1+(($GP$78/$GC$78)^(1/12)-1)) -> 0.053842062 | GG76: =GF76*(1+(($GP$78/$GC$78)^(1/12)-1)) -> 0.053755705 | GH76: =GG76*(1+(($GP$78/$GC$78)^(1/12)-1)) -> 0.053669487 | GI76: =GH76*(1+(($GP$78/$GC$78)^(1/12)-1)) -> 0.053583406 | GJ76: =GI76*(1+(($GP$78/$GC$78)^(1/12)-1)) -> 0.053497464 | GK76: =GJ76*(1+(($GP$78/$GC$78)^(1/12)-1)) -> 0.053411659 | GL76: =GK76*(1+(($GP$78/$GC$78)^(1/12)-1)) -> 0.053325992 | GM76: =GL76*(1+(($GP$78/$GC$78)^(1/12)-1)) -> 0.053240463 | ... GP76: =GO76*(1+(($GP$78/$GC$78)^(1/12)-1)) -> 0.052984697
C78: Médias dos12 meses | E78: =E76 -> 0.0495 | F78: =AVERAGE($E76:F$76) -> 0.0501 | G78: =AVERAGE($E76:G$76) -> 0.050733333 | H78: =AVERAGE($E76:H$76) -> 0.051825 | I78: =AVERAGE($E76:I$76) -> 0.05266 | J78: =AVERAGE($E76:J$76) -> 0.052716667 | K78: =AVERAGE($E76:K$76) -> 0.0525 | L78: =AVERAGE($E76:L$76) -> 0.0520375 | M78: =AVERAGE($E76:M$76) -> 0.051433333 | ... O78: =AVERAGE($E76:O$76) -> 0.050109091 | P78: =ANUAL!E59 -> 0.050208333 | R78: =AVERAGE(F76:R76) -> 0.048725 | S78: =AVERAGE(G76:S76) -> 0.047891667 | T78: =AVERAGE(H76:T76) -> 0.046908333 | U78: =AVERAGE(I76:U76) -> 0.045683333 | V78: =AVERAGE(J76:V76) -> 0.044433333 | W78: =AVERAGE(K76:W76) -> 0.043375 | X78: =AVERAGE(L76:X76) -> 0.042516667 | Y78: =AVERAGE(M76:Y76) -> 0.041891667 | ... AB78: =AVERAGE(P76:AB76) -> 0.041241667 | AC78: =ANUAL!G59 -> 0.042116667 | AE78: =AVERAGE(S76:AE76) -> 0.041825 | AF78: =AVERAGE(T76:AF76) -> 0.042366667 | AG78: =AVERAGE(U76:AG76) -> 0.043058333 | AH78: =AVERAGE(V76:AH76) -> 0.043891667 | AI78: =AVERAGE(W76:AI76) -> 0.044858333 | AJ78: =AVERAGE(X76:AJ76) -> 0.045866667 | AK78: =AVERAGE(Y76:AK76) -> 0.047016667 | AL78: =AVERAGE(Z76:AL76) -> 0.048258333 | ... AO78: =AVERAGE(AC76:AO76) -> 0.052083333 | AP78: =ANUAL!I59 -> 0.05435 | AR78: =AVERAGE(AF76:AR76) -> 0.054591667 | AS78: =AVERAGE(AG76:AS76) -> 0.055758333 | AT78: =AVERAGE(AH76:AT76) -> 0.056758333 | AU78: =AVERAGE(AI76:AU76) -> 0.057725 | AV78: =AVERAGE(AJ76:AV76) -> 0.058583333 | AW78: =AVERAGE(AK76:AW76) -> 0.059466667 | AX78: =AVERAGE(AL76:AX76) -> 0.060058333 | AY78: =AVERAGE(AM76:AY76) -> 0.060433333 | ... BB78: =AVERAGE(AP76:BB76) -> 0.060675 | BC78: =ANUAL!K59 -> 0.061808333 | BE78: =AVERAGE(AS76:BE76) -> 0.060066667 | BF78: =AVERAGE(AT76:BF76) -> 0.059683333 | BG78: =AVERAGE(AU76:BG76) -> 0.059291667 | BH78: =AVERAGE(AV76:BH76) -> 0.058816667 | BI78: =AVERAGE(AW76:BI76) -> 0.058341667 | BJ78: =AVERAGE(AX76:BJ76) -> 0.05775 | BK78: =AVERAGE(AY76:BK76) -> 0.057308333 | BL78: =AVERAGE(AZ76:BL76) -> 0.056958333 | ... BO78: =AVERAGE(BC76:BO76) -> 0.056258333 | BP78: =ANUAL!M59 -> 0.056108333 | BR78: =AVERAGE(BF76:BR76) -> 0.056141667 | BS78: =AVERAGE(BG76:BS76) -> 0.056266667 | BT78: =AVERAGE(BH76:BT76) -> 0.056541667 | BU78: =AVERAGE(BI76:BU76) -> 0.057025 | BV78: =AVERAGE(BJ76:BV76) -> 0.057575 | BW78: =AVERAGE(BK76:BW76) -> 0.058333333 | BX78: =AVERAGE(BL76:BX76) -> 0.059233333 | BY78: =AVERAGE(BM76:BY76) -> 0.060333333 | ... CB78: =AVERAGE(BP76:CB76) -> 0.063616667 | CC78: =ANUAL!O59 -> 0.065 | CE78: =AVERAGE(BS76:CE76) -> 0.066191667 | CF78: =AVERAGE(BT76:CF76) -> 0.067533333 | CG78: =AVERAGE(BU76:CG76) -> 0.06865 | CH78: =AVERAGE(BV76:CH76) -> 0.069616667 | CI78: =AVERAGE(BW76:CI76) -> 0.0706 | CJ78: =AVERAGE(BX76:CJ76) -> 0.071325 | CK78: =AVERAGE(BY76:CK76) -> 0.0722 | CL78: =AVERAGE(BZ76:CL76) -> 0.073066667 | ... CO78: =AVERAGE(CC76:CO76) -> 0.075075 | CP78: =ANUAL!Q59 -> 0.075691667 | CR78: =AVERAGE(CF76:CR76) -> 0.076223603 | CS78: =AVERAGE(CG76:CS76) -> 0.07655415 | CT78: =AVERAGE(CH76:CT76) -> 0.077033315 | CU78: =AVERAGE(CI76:CU76) -> 0.077419439 | CV78: =AVERAGE(CJ76:CV76) -> 0.077654195 | CW78: =AVERAGE(CK76:CW76) -> 0.078054258 | CX78: =AVERAGE(CL76:CX76) -> 0.078119636 | CY78: =AVERAGE(CM76:CY76) -> 0.078000335 | ... DB78: =AVERAGE(CP76:DB76) -> 0.078459439 | DC78: =ANUAL!S59 -> 0.076666667 | DE78: =AVERAGE(CS76:DE76) -> 0.078566986 | DF78: =AVERAGE(CT76:DF76) -> 0.078531315 | DG78: =AVERAGE(CU76:DG76) -> 0.078436569 | DH78: =AVERAGE(CV76:DH76) -> 0.078283161 | DI78: =AVERAGE(CW76:DI76) -> 0.078071499 | DJ78: =AVERAGE(CX76:DJ76) -> 0.077801987 | DK78: =AVERAGE(CY76:DK76) -> 0.077475029 | DL78: =AVERAGE(CZ76:DL76) -> 0.077091022 | ... DO78: =AVERAGE(DC76:DO76) -> 0.075600649 | DP78: =ANUAL!U59 -> 0.069583333 | DR78: =AVERAGE(DF76:DR76) -> 0.074387776 | DS78: =AVERAGE(DG76:DS76) -> 0.073786847 | DT78: =AVERAGE(DH76:DT76) -> 0.073189564 | DU78: =AVERAGE(DI76:DU76) -> 0.072595906 | DV78: =AVERAGE(DJ76:DV76) -> 0.072005856 | DW78: =AVERAGE(DK76:DW76) -> 0.071419393 | DX78: =AVERAGE(DL76:DX76) -> 0.070836497 | DY78: =AVERAGE(DM76:DY76) -> 0.070257151 | ... EB78: =AVERAGE(DP76:EB76) -> 0.068540213 | EC78: =ANUAL!W59 -> 0.063 | EE78: =AVERAGE(DS76:EE76) -> 0.067423591 | EF78: =AVERAGE(DT76:EF76) -> 0.066886193 | EG78: =AVERAGE(DU76:EG76) -> 0.066362504 | EH78: =AVERAGE(DV76:EH76) -> 0.06585235 | EI78: =AVERAGE(DW76:EI76) -> 0.065355559 | EJ78: =AVERAGE(DX76:EJ76) -> 0.064871961 | EK78: =AVERAGE(DY76:EK76) -> 0.064401389 | EL78: =AVERAGE(DZ76:EL76) -> 0.063943676 | ... EO78: =AVERAGE(EC76:EO76) -> 0.062646054 | EP78: =ANUAL!Y59 -> 0.05825 | ER78: =AVERAGE(EF76:ER76) -> 0.061844104 | ES78: =AVERAGE(EG76:ES76) -> 0.06146378 | ET78: =AVERAGE(EH76:ET76) -> 0.06109704 | EU78: =AVERAGE(EI76:EU76) -> 0.060743748 | EV78: =AVERAGE(EJ76:EV76) -> 0.06040377 | EW78: =AVERAGE(EK76:EW76) -> 0.060076972 | EX78: =AVERAGE(EL76:EX76) -> 0.059763221 | EY78: =AVERAGE(EM76:EY76) -> 0.059462386 | ... FB78: =AVERAGE(EP76:FB76) -> 0.058636073 | FC78: =ANUAL!AA59 -> 0.055333333 | FE78: =AVERAGE(ES76:FE76) -> 0.058142566 | FF78: =AVERAGE(ET76:FF76) -> 0.057906904 | FG78: =AVERAGE(EU76:FG76) -> 0.057678571 | FH78: =AVERAGE(EV76:FH76) -> 0.057457516 | FI78: =AVERAGE(EW76:FI76) -> 0.057243689 | FJ78: =AVERAGE(EX76:FJ76) -> 0.057037041 | FK78: =AVERAGE(EY76:FK76) -> 0.056837524 | FL78: =AVERAGE(EZ76:FL76) -> 0.056645088 | ... FO78: =AVERAGE(FC76:FO76) -> 0.056109784 | FP78: =ANUAL!$AC$59 -> 0.053416667 | FR78: =AVERAGE(FF76:FR76) -> 0.055787318 | FS78: =AVERAGE(FG76:FS76) -> 0.055636136 | FT78: =AVERAGE(FH76:FT76) -> 0.055491615 | FU78: =AVERAGE(FI76:FU76) -> 0.055353727 | FV78: =AVERAGE(FJ76:FV76) -> 0.055222442 | FW78: =AVERAGE(FK76:FW76) -> 0.05509773 | FX78: =AVERAGE(FL76:FX76) -> 0.054979563 | FY78: =AVERAGE(FM76:FY76) -> 0.054867913 | ... GB78: =AVERAGE(FP76:GB76) -> 0.054571767 | GC78: =ANUAL!$AE$59 -> 0.052416667 | GE78: =AVERAGE(FS76:GE76) -> 0.054400017 | GF78: =AVERAGE(FT76:GF76) -> 0.05431414 | GG78: =AVERAGE(FU76:GG76) -> 0.054228262 | GH78: =AVERAGE(FV76:GH76) -> 0.054142384 | GI78: =AVERAGE(FW76:GI76) -> 0.054056505 | GJ78: =AVERAGE(FX76:GJ76) -> 0.053970627 | GK78: =AVERAGE(FY76:GK76) -> 0.053884748 | GL78: =AVERAGE(FZ76:GL76) -> 0.05379887 | ... GO78: =AVERAGE(GC76:GO76) -> 0.05354124 | GP78: =ANUAL!$AG$59 -> 0.051416667
C80: Inadimplência - Pessoa Jurídica | E80: 0.0231 | F80: 0.0227 | G80: 0.0234 | H80: 0.0238 | I80: 0.0238 | J80: 0.0197 | K80: 0.0185 | L80: 0.0167 | M80: 0.0159 | N80: 0.0153 | O80: 0.0153 | P80: 0.0145 | R80: 0.0159 | S80: 0.0157 | T80: 0.0164 | U80: 0.0169 | V80: 0.0172 | W80: 0.0162 | X80: 0.0164 | Y80: 0.0163 | Z80: 0.0159 | AA80: 0.0159 | AB80: 0.0164 | AC80: 0.0154 | AE80: 0.0159 | AF80: 0.0151 | AG80: 0.0167 | AH80: 0.0168 | AI80: 0.0169 | AJ80: 0.0165 | AK80: 0.0175 | AL80: 0.0181 | AM80: 0.0187 | AN80: 0.0203 | AO80: 0.0207 | AP80: 0.0204 | AR80: 0.0222 | AS80: 0.0229 | AT80: 0.0237 | AU80: 0.0271 | AV80: 0.0292 | AW80: 0.0298 | AX80: 0.0317 | AY80: 0.0333 | AZ80: 0.0336 | BA80: 0.0351 | BB80: 0.0356 | BC80: 0.0313 | BE80: 0.0357 | BF80: 0.0356 | BG80: 0.0345 | BH80: 0.0354 | BI80: 0.0354 | BJ80: 0.0336 | BK80: 0.032 | BL80: 0.0322 | BM80: 0.0319 | BN80: 0.0314 | BO80: 0.0309 | BP80: 0.0277 | BR80: 0.0312 | BS80: 0.0326 | BT80: 0.032 | BU80: 0.0348 | BV80: 0.0348 | BW80: 0.0351 | BX80: 0.0371 | BY80: 0.0378 | BZ80: 0.0365 | CA80: 0.0372 | CB80: 0.0357 | CC80: 0.0349 | CE80: 0.0376 | CF80: 0.0401 | CG80: 0.0392 | CH80: 0.0401 | CI80: 0.0411 | CJ80: 0.0398 | CK80: 0.0421 | CL80: 0.0433 | CM80: 0.036 | CN80: 0.035 | CO80: 0.034 | CP80: 0.033 | CR80: =CP80*(1+(($DC$82/$CP$82)^(1/12)-1)) -> 0.032325148 | CS80: =CR80*(1+(($DC$82/$CP$82)^(1/12)-1)) -> 0.031664098 | CT80: =CS80*(1+(($DC$82/$CP$82)^(1/12)-1)) -> 0.031016565 | CU80: =CT80*(1+(($DC$82/$CP$82)^(1/12)-1)) -> 0.030382275 | CV80: =CU80*(1+(($DC$82/$CP$82)^(1/12)-1)) -> 0.029760956 | CW80: =CV80*(1+(($DC$82/$CP$82)^(1/12)-1)) -> 0.029152343 | CX80: =CW80*(1+(($DC$82/$CP$82)^(1/12)-1)) -> 0.028556176 | CY80: =CX80*(1+(($DC$82/$CP$82)^(1/12)-1)) -> 0.027972201 | CZ80: =CY80*(1+(($DC$82/$CP$82)^(1/12)-1)) -> 0.027400168 | ... DC80: =DB80*(1+(($DC$82/$CP$82)^(1/12)-1)) -> 0.025753306 | DE80: =DC80*(1+((DP82/DC82)^(1/12)-1)) -> 0.025515011 | DF80: =DE80*(1+((DP82/DC82)^(1/12)-1)) -> 0.025278922 | DG80: =DF80*(1+((DP82/DC82)^(1/12)-1)) -> 0.025045017 | DH80: =DG80*(1+((DP82/DC82)^(1/12)-1)) -> 0.024813276 | DI80: =DH80*(1+(($DP82/DC82)^(1/12)-1)) -> 0.02458368 | DJ80: =DI80*(1+((DP82/DC82)^(1/12)-1)) -> 0.024356208 | DK80: =DJ80*(1+(($DP$82/$DC$82)^(1/12)-1)) -> 0.024130841 | DL80: =DK80*(1+((DP82/DC82)^(1/12)-1)) -> 0.023907559 | DM80: =DL80*(1+((DP82/DC82)^(1/12)-1)) -> 0.023686343 | DN80: =DM80*(1+((DP82/DC82)^(1/12)-1)) -> 0.023467174 | DO80: =DN80*(1+((DP82/DC82)^(1/12)-1)) -> 0.023250033 | DP80: =DO80*(1+((DP82/DC82)^(1/12)-1)) -> 0.023034901 | DR80: =DP80*(1+((EC82/DP82)^(1/12)-1)) -> 0.022912138 | DS80: =DR80*(1+((EC82/DP82)^(1/12)-1)) -> 0.022790029 | DT80: =DS80*(1+((EC82/DP82)^(1/12)-1)) -> 0.02266857 | DU80: =DT80*(1+((EC82/DP82)^(1/12)-1)) -> 0.022547759 | DV80: =DU80*(1+(($DP82/DP82)^(1/12)-1)) -> 0.022547759 | DW80: =DV80*(1+((EC82/DP82)^(1/12)-1)) -> 0.022427591 | DX80: =DW80*(1+(($DP$82/$DC$82)^(1/12)-1)) -> 0.02222007 | DY80: =DX80*(1+((EC82/DP82)^(1/12)-1)) -> 0.022101649 | DZ80: =DY80*(1+((EC82/DP82)^(1/12)-1)) -> 0.021983859 | EA80: =DZ80*(1+((EC82/DP82)^(1/12)-1)) -> 0.021866697 | EB80: =EA80*(1+((EC82/DP82)^(1/12)-1)) -> 0.021750159 | EC80: =EB80*(1+((EC82/DP82)^(1/12)-1)) -> 0.021634243 | EE80: =EC80*(1+((EP82/EC82)^(1/12)-1)) -> 0.021542591 | EF80: =EE80*(1+((EP82/EC82)^(1/12)-1)) -> 0.021451328 | EG80: =EF80*(1+((EP82/EC82)^(1/12)-1)) -> 0.021360452 | EH80: =EG80*(1+((EP82/EC82)^(1/12)-1)) -> 0.02126996 | EI80: =EH80*(1+(($DP82/EC82)^(1/12)-1)) -> 0.021383925 | EJ80: =EI80*(1+((EP82/EC82)^(1/12)-1)) -> 0.021293334 | EK80: =EJ80*(1+(($DP$82/$DC$82)^(1/12)-1)) -> 0.021096308 | EL80: =EK80*(1+((EP82/EC82)^(1/12)-1)) -> 0.021006935 | EM80: =EL80*(1+((EP82/EC82)^(1/12)-1)) -> 0.020917942 | EN80: =EM80*(1+((EP82/EC82)^(1/12)-1)) -> 0.020829325 | EO80: =EN80*(1+((EP82/EC82)^(1/12)-1)) -> 0.020741083 | EP80: =EO80*(1+((EP82/EC82)^(1/12)-1)) -> 0.020653216 | ER80: =EP80*(1+(($FC$82/$EP$82)^(1/12)-1)) -> 0.020653216 | ES80: =ER80*(1+(($FC$82/$EP$82)^(1/12)-1)) -> 0.020653216 | ET80: =ES80*(1+(($FC$82/$EP$82)^(1/12)-1)) -> 0.020653216 | EU80: =ET80*(1+(($FC$82/$EP$82)^(1/12)-1)) -> 0.020653216 | EV80: =EU80*(1+(($FC$82/$EP$82)^(1/12)-1)) -> 0.020653216 | EW80: =EV80*(1+(($FC$82/$EP$82)^(1/12)-1)) -> 0.020653216 | EX80: =EW80*(1+(($FC$82/$EP$82)^(1/12)-1)) -> 0.020653216 | EY80: =EX80*(1+(($FC$82/$EP$82)^(1/12)-1)) -> 0.020653216 | EZ80: =EY80*(1+(($FC$82/$EP$82)^(1/12)-1)) -> 0.020653216 | ... FC80: =FB80*(1+(($FC$82/$EP$82)^(1/12)-1)) -> 0.020653216 | FE80: =FC80*(1+(($FP$82/$FC$82)^(1/12)-1)) -> 0.020659203 | FF80: =FE80*(1+(($FP$82/$FC$82)^(1/12)-1)) -> 0.020665192 | FG80: =FF80*(1+(($FP$82/$FC$82)^(1/12)-1)) -> 0.020671183 | FH80: =FG80*(1+(($FP$82/$FC$82)^(1/12)-1)) -> 0.020677176 | FI80: =FH80*(1+(($FP$82/$FC$82)^(1/12)-1)) -> 0.02068317 | FJ80: =FI80*(1+(($FP$82/$FC$82)^(1/12)-1)) -> 0.020689166 | FK80: =FJ80*(1+(($FP$82/$FC$82)^(1/12)-1)) -> 0.020695163 | FL80: =FK80*(1+(($FP$82/$FC$82)^(1/12)-1)) -> 0.020701163 | FM80: =FL80*(1+(($FP$82/$FC$82)^(1/12)-1)) -> 0.020707164 | ... FP80: =FO80*(1+(($FP$82/$FC$82)^(1/12)-1)) -> 0.020725178 | FR80: =FP80*(1+(($GC$82/$FP$82)^(1/12)-1)) -> 0.020725178 | FS80: =FR80*(1+(($GC$82/$FP$82)^(1/12)-1)) -> 0.020725178 | FT80: =FS80*(1+(($GC$82/$FP$82)^(1/12)-1)) -> 0.020725178 | FU80: =FT80*(1+(($GC$82/$FP$82)^(1/12)-1)) -> 0.020725178 | FV80: =FU80*(1+(($GC$82/$FP$82)^(1/12)-1)) -> 0.020725178 | FW80: =FV80*(1+(($GC$82/$FP$82)^(1/12)-1)) -> 0.020725178 | FX80: =FW80*(1+(($GC$82/$FP$82)^(1/12)-1)) -> 0.020725178 | FY80: =FX80*(1+(($GC$82/$FP$82)^(1/12)-1)) -> 0.020725178 | FZ80: =FY80*(1+(($GC$82/$FP$82)^(1/12)-1)) -> 0.020725178 | ... GC80: =GB80*(1+(($GC$82/$FP$82)^(1/12)-1)) -> 0.020725178 | GE80: =GC80*(1+(($GP$82/$GC$82)^(1/12)-1)) -> 0.020725178 | GF80: =GE80*(1+(($GP$82/$GC$82)^(1/12)-1)) -> 0.020725178 | GG80: =GF80*(1+(($GP$82/$GC$82)^(1/12)-1)) -> 0.020725178 | GH80: =GG80*(1+(($GP$82/$GC$82)^(1/12)-1)) -> 0.020725178 | GI80: =GH80*(1+(($GP$82/$GC$82)^(1/12)-1)) -> 0.020725178 | GJ80: =GI80*(1+(($GP$82/$GC$82)^(1/12)-1)) -> 0.020725178 | GK80: =GJ80*(1+(($GP$82/$GC$82)^(1/12)-1)) -> 0.020725178 | GL80: =GK80*(1+(($GP$82/$GC$82)^(1/12)-1)) -> 0.020725178 | GM80: =GL80*(1+(($GP$82/$GC$82)^(1/12)-1)) -> 0.020725178 | ... GP80: =GO80*(1+(($GP$82/$GC$82)^(1/12)-1)) -> 0.020725178
C82: Médias dos12 meses | E82: =E80 -> 0.0231 | F82: =AVERAGE($E$80:F80) -> 0.0229 | G82: =AVERAGE($E$80:G80) -> 0.023066667 | H82: =AVERAGE($E$80:H80) -> 0.02325 | I82: =AVERAGE($E$80:I80) -> 0.02336 | J82: =AVERAGE($E$80:J80) -> 0.02275 | K82: =AVERAGE($E$80:K80) -> 0.022142857 | L82: =AVERAGE($E$80:L80) -> 0.0214625 | M82: =AVERAGE($E$80:M80) -> 0.020844444 | ... O82: =AVERAGE($E$80:O80) -> 0.019836364 | P82: =ANUAL!E61 -> 0.020258333 | R82: =AVERAGE(F80:R80) -> 0.018791667 | S82: =AVERAGE(G80:S80) -> 0.018208333 | T82: =AVERAGE(H80:T80) -> 0.017625 | U82: =AVERAGE(I80:U80) -> 0.01705 | V82: =AVERAGE(J80:V80) -> 0.0165 | W82: =AVERAGE(K80:W80) -> 0.016208333 | X82: =AVERAGE(L80:X80) -> 0.016033333 | Y82: =AVERAGE(M80:Y80) -> 0.016 | ... AB82: =AVERAGE(P80:AB80) -> 0.016141667 | AC82: =ANUAL!G61 -> 0.0171 | AE82: =AVERAGE(S80:AE80) -> 0.016216667 | AF82: =AVERAGE(T80:AF80) -> 0.016166667 | AG82: =AVERAGE(U80:AG80) -> 0.016191667 | AH82: =AVERAGE(V80:AH80) -> 0.016183333 | AI82: =AVERAGE(W80:AI80) -> 0.016158333 | AJ82: =AVERAGE(X80:AJ80) -> 0.016183333 | AK82: =AVERAGE(Y80:AK80) -> 0.016275 | AL82: =AVERAGE(Z80:AL80) -> 0.016425 | ... AO82: =AVERAGE(AC80:AO80) -> 0.017383333 | AP82: =ANUAL!I61 -> 0.018966667 | AR82: =AVERAGE(AF80:AR80) -> 0.018325 | AS82: =AVERAGE(AG80:AS80) -> 0.018975 | AT82: =AVERAGE(AH80:AT80) -> 0.019558333 | AU82: =AVERAGE(AI80:AU80) -> 0.020416667 | AV82: =AVERAGE(AJ80:AV80) -> 0.021441667 | AW82: =AVERAGE(AK80:AW80) -> 0.02255 | AX82: =AVERAGE(AL80:AX80) -> 0.023733333 | AY82: =AVERAGE(AM80:AY80) -> 0.025 | ... BB82: =AVERAGE(AP80:BB80) -> 0.028716667 | BC82: =ANUAL!K61 -> 0.03135 | BE82: =AVERAGE(AS80:BE80) -> 0.03075 | BF82: =AVERAGE(AT80:BF80) -> 0.031808333 | BG82: =AVERAGE(AU80:BG80) -> 0.032708333 | BH82: =AVERAGE(AV80:BH80) -> 0.0334 | BI82: =AVERAGE(AW80:BI80) -> 0.033916667 | BJ82: =AVERAGE(AX80:BJ80) -> 0.034233333 | BK82: =AVERAGE(AY80:BK80) -> 0.034258333 | BL82: =AVERAGE(AZ80:BL80) -> 0.034166667 | ... BO82: =AVERAGE(BC80:BO80) -> 0.033325 | BP82: =ANUAL!M61 -> 0.033025 | BR82: =AVERAGE(BF80:BR80) -> 0.03265 | BS82: =AVERAGE(BG80:BS80) -> 0.0324 | BT82: =AVERAGE(BH80:BT80) -> 0.032191667 | BU82: =AVERAGE(BI80:BU80) -> 0.032141667 | BV82: =AVERAGE(BJ80:BV80) -> 0.032091667 | BW82: =AVERAGE(BK80:BW80) -> 0.032216667 | BX82: =AVERAGE(BL80:BX80) -> 0.032641667 | BY82: =AVERAGE(BM80:BY80) -> 0.033108333 | ... CB82: =AVERAGE(BP80:CB80) -> 0.034375 | CC82: =ANUAL!O61 -> 0.034975 | CE82: =AVERAGE(BS80:CE80) -> 0.035508333 | CF82: =AVERAGE(BT80:CF80) -> 0.036133333 | CG82: =AVERAGE(BU80:CG80) -> 0.036733333 | CH82: =AVERAGE(BV80:CH80) -> 0.037175 | CI82: =AVERAGE(BW80:CI80) -> 0.0377 | CJ82: =AVERAGE(BX80:CJ80) -> 0.038091667 | CK82: =AVERAGE(BY80:CK80) -> 0.038508333 | CL82: =AVERAGE(BZ80:CL80) -> 0.038966667 | ... CO82: =AVERAGE(CC80:CO80) -> 0.0386 | CP82: =ANUAL!Q61 -> 0.038441667 | CR82: =AVERAGE(CF80:CR80) -> 0.038002096 | CS82: =AVERAGE(CG80:CS80) -> 0.037299104 | CT82: =AVERAGE(CH80:CT80) -> 0.036617151 | CU82: =AVERAGE(CI80:CU80) -> 0.03580734 | CV82: =AVERAGE(CJ80:CV80) -> 0.03486242 | CW82: =AVERAGE(CK80:CW80) -> 0.033975115 | CX82: =AVERAGE(CL80:CX80) -> 0.032846463 | CY82: =AVERAGE(CM80:CY80) -> 0.031569147 | ... DB82: =AVERAGE(CP80:DB80) -> 0.02953006 | DC82: =ANUAL!S61 -> 0.03 | DE82: =AVERAGE(CS80:DE80) -> 0.028358657 | DF82: =AVERAGE(CT80:DF80) -> 0.027826559 | DG82: =AVERAGE(CU80:DG80) -> 0.02732893 | DH82: =AVERAGE(CV80:DH80) -> 0.026864847 | DI82: =AVERAGE(CW80:DI80) -> 0.026433408 | DJ82: =AVERAGE(CX80:DJ80) -> 0.02603373 | DK82: =AVERAGE(CY80:DK80) -> 0.025664952 | DL82: =AVERAGE(CZ80:DL80) -> 0.025326231 | ... DO82: =AVERAGE(DC80:DO80) -> 0.024482281 | DP82: =ANUAL!U61 -> 0.026833333 | DQ82: =AVERAGE(DE80:DQ80) -> 0.024255747 | DR82: =AVERAGE(DF80:DR80) -> 0.024038841 | DS82: =AVERAGE(DG80:DS80) -> 0.023831433 | DT82: =AVERAGE(DH80:DT80) -> 0.023633396 | DU82: =AVERAGE(DI80:DU80) -> 0.023444603 | DV82: =AVERAGE(DJ80:DV80) -> 0.023274943 | DW82: =AVERAGE(DK80:DW80) -> 0.023114225 | DX82: =AVERAGE(DL80:DX80) -> 0.022954994 | ... EB82: =AVERAGE(DP80:EB80) -> 0.022404265 | EC82: =ANUAL!W61 -> 0.025166667 | EE82: =AVERAGE(DS80:EE80) -> 0.022173415 | EF82: =AVERAGE(DT80:EF80) -> 0.022061856 | EG82: =AVERAGE(DU80:EG80) -> 0.021952846 | EH82: =AVERAGE(DV80:EH80) -> 0.021846363 | EI82: =AVERAGE(DW80:EI80) -> 0.021749377 | EJ82: =AVERAGE(DX80:EJ80) -> 0.021654856 | EK82: =AVERAGE(DY80:EK80) -> 0.021561209 | EL82: =AVERAGE(DZ80:EL80) -> 0.021469983 | ... EO82: =AVERAGE(EC80:EO80) -> 0.021210619 | EP82: =ANUAL!Y61 -> 0.023916667 | ER82: =AVERAGE(EF80:ER80) -> 0.021054752 | ES82: =AVERAGE(EG80:ES80) -> 0.020988243 | ET82: =AVERAGE(EH80:ET80) -> 0.020929306 | EU82: =AVERAGE(EI80:EU80) -> 0.020877911 | EV82: =AVERAGE(EJ80:EV80) -> 0.020817019 | EW82: =AVERAGE(EK80:EW80) -> 0.020763675 | EX82: =AVERAGE(EL80:EX80) -> 0.020726751 | EY82: =AVERAGE(EM80:EY80) -> 0.020697274 | ... FB82: =AVERAGE(EP80:FB80) -> 0.020653216 | FC82: =ANUAL!AA61 -> 0.023916667 | FE82: =AVERAGE(ES80:FE80) -> 0.020653715 | FF82: =AVERAGE(ET80:FF80) -> 0.020654713 | FG82: =AVERAGE(EU80:FG80) -> 0.02065621 | FH82: =AVERAGE(EV80:FH80) -> 0.020658207 | FI82: =AVERAGE(EW80:FI80) -> 0.020660703 | FJ82: =AVERAGE(EX80:FJ80) -> 0.020663699 | FK82: =AVERAGE(EY80:FK80) -> 0.020667194 | FL82: =AVERAGE(EZ80:FL80) -> 0.02067119 | ... FO82: =AVERAGE(FC80:FO80) -> 0.020686178 | FP82: =ANUAL!$AC$61 -> 0.024 | FR82: =AVERAGE(FF80:FR80) -> 0.020697673 | FS82: =AVERAGE(FG80:FS80) -> 0.020702672 | FT82: =AVERAGE(FH80:FT80) -> 0.020707171 | FU82: =AVERAGE(FI80:FU80) -> 0.020711171 | FV82: =AVERAGE(FJ80:FV80) -> 0.020714672 | FW82: =AVERAGE(FK80:FW80) -> 0.020717673 | FX82: =AVERAGE(FL80:FX80) -> 0.020720174 | FY82: =AVERAGE(FM80:FY80) -> 0.020722176 | ... GB82: =AVERAGE(FP80:GB80) -> 0.020725178 | GC82: =ANUAL!$AE$61 -> 0.024 | GE82: =AVERAGE(FS80:GE80) -> 0.020725178 | GF82: =AVERAGE(FT80:GF80) -> 0.020725178 | GG82: =AVERAGE(FU80:GG80) -> 0.020725178 | GH82: =AVERAGE(FV80:GH80) -> 0.020725178 | GI82: =AVERAGE(FW80:GI80) -> 0.020725178 | GJ82: =AVERAGE(FX80:GJ80) -> 0.020725178 | GK82: =AVERAGE(FY80:GK80) -> 0.020725178 | GL82: =AVERAGE(FZ80:GL80) -> 0.020725178 | ... GO82: =AVERAGE(GC80:GO80) -> 0.020725178 | GP82: =ANUAL!$AG$61 -> 0.024
C84: PETRÓLEO (PREÇO DO BARRIL EM USD) | E84: 64.44 | F84: 55 | G84: 33.53 | H84: 23.34 | I84: 31.02 | J84: 39.93 | K84: 42.81 | L84: 44.26 | M84: 41.09 | N84: 40.47 | O84: 43.23 | P84: 49.87 | R84: 54.55 | S84: 61.96 | T84: 65.31 | U84: 64.77 | V84: 68.04 | W84: 73.07 | X84: 74.39 | Y84: 70.02 | Z84: 74.6 | AA84: 83.65 | AB84: 80.77 | AC84: 74.31 | AE84: 85.53 | AF84: 95.76 | AG84: 116 | AH84: 105.78 | AI84: 112.37 | AJ84: 120.08 | AK84: 108.92 | AL84: 98.73 | AM84: 90.16 | AN84: 93.13 | AO84: 91.07 | AP84: 80.9 | AR84: 83.09 | AS84: 82.71 | AT84: 78.53 | AU84: 84.11 | AV84: 75.87 | AW84: 74.677 | AX84: 80.03 | AY84: 86.082 | AZ84: 93.701 | BA84: 91.061 | BB84: 83.183 | BC84: 77.858 | BE84: 80.227 | BF84: 83.764 | BG84: 85.447 | BH84: 90.054 | BI84: 82.089 | BJ84: 82.555 | BK84: 85.296 | BL84: 80.891 | BM84: 74.293 | BN84: 75.771 | BO84: 74.395 | BP84: 73.833 | BR84: 79.206 | BS84: 75.157 | BT84: 72.574 | BU84: 67.745 | BV84: 64.206 | BW84: 71.45 | BX84: 70.951 | BY84: 68.417 | BZ84: 67.951 | CA84: 64.651 | CB84: 63.609 | CC84: 62.72 | CE84: 66.766 | CF84: 71.114 | CG84: 103.689 | CH84: 120.423 | CI84: 107.535 | CJ84: 85.381 | CK84: 83.415 | CL84: 91.192 | CM84: 116.798 | CN84: 113.41783 | CO84: 102.37279 | CP84: 93.061704 | CR84: =CP84*(1+(DC86/CP86)^(1/12)-1) -> 91.115633 | CS84: =CR84*(1+(DC86/CP86)^(1/12)-1) -> 89.210257 | CT84: =CS84*(1+(DC86/CP86)^(1/12)-1) -> 87.344726 | CU84: =CT84*(1+(DC86/CP86)^(1/12)-1) -> 85.518207 | CV84: =CU84*(1+(DC86/CP86)^(1/12)-1) -> 83.729883 | CW84: =CV84*(1+(DC86/CP86)^(1/12)-1) -> 81.978955 | CX84: =CW84*(1+(DC86/CP86)^(1/12)-1) -> 80.264643 | CY84: =CX84*(1+(DC86/CP86)^(1/12)-1) -> 78.586179 | CZ84: =CY84*(1+(DC86/CP86)^(1/12)-1) -> 76.942815 | DA84: =CZ84*(1+(DC86/CP86)^(1/12)-1) -> 75.333816 | DB84: =DA84*(1+(DC86/CP86)^(1/12)-1) -> 73.758464 | DC84: =DB84*(1+(DC86/CP86)^(1/12)-1) -> 72.216055 | DE84: =DC84*(1+(DP86/DC86)^(1/12)-1) -> 71.673857 | DF84: =DE84*(1+(DP86/DC86)^(1/12)-1) -> 71.13573 | DG84: =DF84*(1+(DP86/DC86)^(1/12)-1) -> 70.601644 | DH84: =DG84*(1+(DP86/DC86)^(1/12)-1) -> 70.071567 | DI84: =DH84*(1+(DP86/DC86)^(1/12)-1) -> 69.54547 | DJ84: =DI84*(1+(DP86/DC86)^(1/12)-1) -> 69.023323 | DK84: =DJ84*(1+(DP86/DC86)^(1/12)-1) -> 68.505096 | DL84: =DK84*(1+(DP86/DC86)^(1/12)-1) -> 67.99076 | DM84: =DL84*(1+(DP86/DC86)^(1/12)-1) -> 67.480285 | DN84: =DM84*(1+(DP86/DC86)^(1/12)-1) -> 66.973644 | DO84: =DN84*(1+(DP86/DC86)^(1/12)-1) -> 66.470806 | DP84: =DO84*(1+(DP86/DC86)^(1/12)-1) -> 65.971743 | DR84: =DP84*(1+(EC86/DP86)^(1/12)-1) -> 65.921657 | DS84: =DR84*(1+(EC86/DP86)^(1/12)-1) -> 65.871608 | DT84: =DS84*(1+(EC86/DP86)^(1/12)-1) -> 65.821598 | DU84: =DT84*(1+(EC86/DP86)^(1/12)-1) -> 65.771625 | DV84: =DU84*(1+(EC86/DP86)^(1/12)-1) -> 65.721691 | DW84: =DV84*(1+(EC86/DP86)^(1/12)-1) -> 65.671794 | DX84: =DW84*(1+(EC86/DP86)^(1/12)-1) -> 65.621935 | DY84: =DX84*(1+(EC86/DP86)^(1/12)-1) -> 65.572115 | DZ84: =DY84*(1+(EC86/DP86)^(1/12)-1) -> 65.522331 | EA84: =DZ84*(1+(EC86/DP86)^(1/12)-1) -> 65.472586 | EB84: =EA84*(1+(EC86/DP86)^(1/12)-1) -> 65.422879 | EC84: =EB84*(1+(EC86/DP86)^(1/12)-1) -> 65.373209 | EE84: =EC84*(1+(EP86/EC86)^(1/12)-1) -> 65.503433 | EF84: =EE84*(1+(EP86/EC86)^(1/12)-1) -> 65.633917 | EG84: =EF84*(1+(EP86/EC86)^(1/12)-1) -> 65.76466 | EH84: =EG84*(1+(EP86/EC86)^(1/12)-1) -> 65.895664 | EI84: =EH84*(1+(EP86/EC86)^(1/12)-1) -> 66.026929 | EJ84: =EI84*(1+(EP86/EC86)^(1/12)-1) -> 66.158456 | EK84: =EJ84*(1+(EP86/EC86)^(1/12)-1) -> 66.290244 | EL84: =EK84*(1+(EP86/EC86)^(1/12)-1) -> 66.422295 | EM84: =EL84*(1+(EP86/EC86)^(1/12)-1) -> 66.554609 | EN84: =EM84*(1+(EP86/EC86)^(1/12)-1) -> 66.687187 | EO84: =EN84*(1+(EP86/EC86)^(1/12)-1) -> 66.820028 | EP84: =EO84*(1+(EP86/EC86)^(1/12)-1) -> 66.953135 | ER84: =EP84*(1+($FC$86/$EP$86)^(1/12)-1) -> 67.086506 | ES84: =ER84*(1+($FC$86/$EP$86)^(1/12)-1) -> 67.220143 | ET84: =ES84*(1+($FC$86/$EP$86)^(1/12)-1) -> 67.354046 | EU84: =ET84*(1+($FC$86/$EP$86)^(1/12)-1) -> 67.488217 | EV84: =EU84*(1+($FC$86/$EP$86)^(1/12)-1) -> 67.622654 | EW84: =EV84*(1+($FC$86/$EP$86)^(1/12)-1) -> 67.757359 | EX84: =EW84*(1+($FC$86/$EP$86)^(1/12)-1) -> 67.892332 | EY84: =EX84*(1+($FC$86/$EP$86)^(1/12)-1) -> 68.027575 | EZ84: =EY84*(1+($FC$86/$EP$86)^(1/12)-1) -> 68.163087 | ... FC84: =FB84*(1+($FC$86/$EP$86)^(1/12)-1) -> 68.571244 | FE84: =FC84*(1+($FP$86/$FC$86)^(1/12)-1) -> 68.707838 | FF84: =FE84*(1+($FP$86/$FC$86)^(1/12)-1) -> 68.844705 | FG84: =FF84*(1+($FP$86/$FC$86)^(1/12)-1) -> 68.981845 | FH84: =FG84*(1+($FP$86/$FC$86)^(1/12)-1) -> 69.119257 | FI84: =FH84*(1+($FP$86/$FC$86)^(1/12)-1) -> 69.256944 | FJ84: =FI84*(1+($FP$86/$FC$86)^(1/12)-1) -> 69.394904 | FK84: =FJ84*(1+($FP$86/$FC$86)^(1/12)-1) -> 69.53314 | FL84: =FK84*(1+($FP$86/$FC$86)^(1/12)-1) -> 69.671651 | FM84: =FL84*(1+($FP$86/$FC$86)^(1/12)-1) -> 69.810437 | ... FP84: =FO84*(1+($FP$86/$FC$86)^(1/12)-1) -> 70.228459 | FR84: =FP84*(1+($GC$86/$FP$86)^(1/12)-1) -> 70.368355 | FS84: =FR84*(1+($GC$86/$FP$86)^(1/12)-1) -> 70.508529 | FT84: =FS84*(1+($GC$86/$FP$86)^(1/12)-1) -> 70.648983 | FU84: =FT84*(1+($GC$86/$FP$86)^(1/12)-1) -> 70.789717 | FV84: =FU84*(1+($GC$86/$FP$86)^(1/12)-1) -> 70.930731 | FW84: =FV84*(1+($GC$86/$FP$86)^(1/12)-1) -> 71.072025 | FX84: =FW84*(1+($GC$86/$FP$86)^(1/12)-1) -> 71.213602 | FY84: =FX84*(1+($GC$86/$FP$86)^(1/12)-1) -> 71.35546 | FZ84: =FY84*(1+($GC$86/$FP$86)^(1/12)-1) -> 71.497601 | ... GC84: =GB84*(1+($GC$86/$FP$86)^(1/12)-1) -> 71.925725 | GE84: =GC84*(1+($GP$86/$GC$86)^(1/12)-1) -> 72.069002 | GF84: =GE84*(1+($GP$86/$GC$86)^(1/12)-1) -> 72.212564 | GG84: =GF84*(1+($GP$86/$GC$86)^(1/12)-1) -> 72.356413 | GH84: =GG84*(1+($GP$86/$GC$86)^(1/12)-1) -> 72.500547 | GI84: =GH84*(1+($GP$86/$GC$86)^(1/12)-1) -> 72.644969 | GJ84: =GI84*(1+($GP$86/$GC$86)^(1/12)-1) -> 72.789679 | GK84: =GJ84*(1+($GP$86/$GC$86)^(1/12)-1) -> 72.934677 | GL84: =GK84*(1+($GP$86/$GC$86)^(1/12)-1) -> 73.079964 | GM84: =GL84*(1+($GP$86/$GC$86)^(1/12)-1) -> 73.22554 | ... GP84: =GO84*(1+($GP$86/$GC$86)^(1/12)-1) -> 73.664011
C86: Médias dos12 meses | E86: =E84 -> 64.44 | F86: =AVERAGE($E$84:F84) -> 59.72 | G86: =AVERAGE($E$84:G84) -> 50.99 | H86: =AVERAGE($E$84:H84) -> 44.0775 | I86: =AVERAGE($E$84:I84) -> 41.466 | J86: =AVERAGE($E$84:J84) -> 41.21 | K86: =AVERAGE($E$84:K84) -> 41.438571 | L86: =AVERAGE($E$84:L84) -> 41.79125 | M86: =AVERAGE($E$84:M84) -> 41.713333 | ... O86: =AVERAGE($E$84:O84) -> 41.738182 | P86: =ANUAL!E57 -> 42.415833 | R86: =AVERAGE(F84:R84) -> 41.591667 | S86: =AVERAGE(G84:S84) -> 42.171667 | T86: =AVERAGE(H84:T84) -> 44.82 | U86: =AVERAGE(I84:U84) -> 48.2725 | V86: =AVERAGE(J84:V84) -> 51.3575 | W86: =AVERAGE(K84:W84) -> 54.119167 | X86: =AVERAGE(L84:X84) -> 56.750833 | Y86: =AVERAGE(M84:Y84) -> 58.8975 | ... AB86: =AVERAGE(P84:AB84) -> 68.416667 | AC86: =ANUAL!G57 -> 70.453333 | AE86: =AVERAGE(S84:AE84) -> 73.035 | AF86: =AVERAGE(T84:AF84) -> 75.851667 | AG86: =AVERAGE(U84:AG84) -> 80.075833 | AH86: =AVERAGE(V84:AH84) -> 83.493333 | AI86: =AVERAGE(W84:AI84) -> 87.1875 | AJ86: =AVERAGE(X84:AJ84) -> 91.105 | AK86: =AVERAGE(Y84:AK84) -> 93.9825 | AL86: =AVERAGE(Z84:AL84) -> 96.375 | ... AO86: =AVERAGE(AC84:AO84) -> 99.32 | AP86: =ANUAL!I57 -> 99.869167 | AR86: =AVERAGE(AF84:AR84) -> 99.665833 | AS86: =AVERAGE(AG84:AS84) -> 98.578333 | AT86: =AVERAGE(AH84:AT84) -> 95.455833 | AU86: =AVERAGE(AI84:AU84) -> 93.65 | AV86: =AVERAGE(AJ84:AV84) -> 90.608333 | AW86: =AVERAGE(AK84:AW84) -> 86.82475 | AX86: =AVERAGE(AL84:AX84) -> 84.41725 | AY86: =AVERAGE(AM84:AY84) -> 83.36325 | ... BB86: =AVERAGE(AP84:BB84) -> 82.828667 | BC86: =ANUAL!K57 -> 82.575167 | BE86: =AVERAGE(AS84:BE84) -> 82.336583 | BF86: =AVERAGE(AT84:BF84) -> 82.424417 | BG86: =AVERAGE(AU84:BG84) -> 83.000833 | BH86: =AVERAGE(AV84:BH84) -> 83.496167 | BI86: =AVERAGE(AW84:BI84) -> 84.014417 | BJ86: =AVERAGE(AX84:BJ84) -> 84.670917 | BK86: =AVERAGE(AY84:BK84) -> 85.10975 | BL86: =AVERAGE(AZ84:BL84) -> 84.677167 | ... BO86: =AVERAGE(BC84:BO84) -> 81.053333 | BP86: =ANUAL!$M$57 -> 80.717917 | BR86: =AVERAGE(BF84:BR84) -> 80.632833 | BS86: =AVERAGE(BG84:BS84) -> 79.915583 | BT86: =AVERAGE(BH84:BT84) -> 78.842833 | BU86: =AVERAGE(BI84:BU84) -> 76.98375 | BV86: =AVERAGE(BJ84:BV84) -> 75.4935 | BW86: =AVERAGE(BK84:BW84) -> 74.568083 | BX86: =AVERAGE(BL84:BX84) -> 73.372667 | BY86: =AVERAGE(BM84:BY84) -> 72.333167 | ... CB86: =AVERAGE(BP84:CB84) -> 69.979167 | CC86: =ANUAL!$O$57 -> 69.053083 | CE86: =AVERAGE(BS84:CE84) -> 68.016417 | CF86: =AVERAGE(BT84:CF84) -> 67.6795 | CG86: =AVERAGE(BU84:CG84) -> 70.272417 | CH86: =AVERAGE(BV84:CH84) -> 74.66225 | CI86: =AVERAGE(BW84:CI84) -> 78.273 | CJ86: =AVERAGE(BX84:CJ84) -> 79.433917 | CK86: =AVERAGE(BY84:CK84) -> 80.472583 | CL86: =AVERAGE(BZ84:CL84) -> 82.3705 | ... CO86: =AVERAGE(CC84:CO84) -> 93.735302 | CP86: =ANUAL!$Q$57 -> 96.263777 | CR86: =AVERAGE(CF84:CR84) -> 98.292913 | CS86: =AVERAGE(CG84:CS84) -> 99.800934 | CT86: =AVERAGE(CH84:CT84) -> 98.438912 | CU86: =AVERAGE(CI84:CU84) -> 95.530179 | CV86: =AVERAGE(CJ84:CV84) -> 93.546419 | CW86: =AVERAGE(CK84:CW84) -> 93.262915 | CX86: =AVERAGE(CL84:CX84) -> 93.000386 | CY86: =AVERAGE(CM84:CY84) -> 91.9499 | ... DB86: =AVERAGE(CP84:DB84) -> 83.07044 | DC86: =ANUAL!$S$57 -> 74.70087 | DE86: =AVERAGE(CS84:DE84) -> 79.713155 | DF86: =AVERAGE(CT84:DF84) -> 78.206944 | DG86: =AVERAGE(CU84:DG84) -> 76.811687 | DH86: =AVERAGE(CV84:DH84) -> 75.524467 | DI86: =AVERAGE(CW84:DI84) -> 74.342433 | DJ86: =AVERAGE(CX84:DJ84) -> 73.262797 | DK86: =AVERAGE(CY84:DK84) -> 72.282835 | DL86: =AVERAGE(CZ84:DL84) -> 71.399883 | ... DO86: =AVERAGE(DC84:DO84) -> 69.307353 | DP86: =ANUAL!$U$57 -> 68.241704 | DR86: =AVERAGE(DF84:DR84) -> 68.307644 | DS86: =AVERAGE(DG84:DS84) -> 67.868967 | DT86: =AVERAGE(DH84:DT84) -> 67.47063 | DU86: =AVERAGE(DI84:DU84) -> 67.112301 | DV86: =AVERAGE(DJ84:DV84) -> 66.793653 | DW86: =AVERAGE(DK84:DW84) -> 66.514359 | DX86: =AVERAGE(DL84:DX84) -> 66.274096 | DY86: =AVERAGE(DM84:DY84) -> 66.072542 | ... EB86: =AVERAGE(DP84:EB84) -> 65.696964 | EC86: =ANUAL!$W$57 -> 67.622575 | EE86: =AVERAGE(DS84:EE84) -> 65.612234 | EF86: =AVERAGE(DT84:EF84) -> 65.592426 | EG86: =AVERAGE(DU84:EG84) -> 65.587681 | EH86: =AVERAGE(DV84:EH84) -> 65.598018 | EI86: =AVERAGE(DW84:EI84) -> 65.623454 | EJ86: =AVERAGE(DX84:EJ84) -> 65.66401 | EK86: =AVERAGE(DY84:EK84) -> 65.719702 | EL86: =AVERAGE(DZ84:EL84) -> 65.79055 | ... EO86: =AVERAGE(EC84:EO84) -> 66.094219 | EP86: =ANUAL!$Y$57 -> 69.256863 | ER86: =AVERAGE(EF84:ER84) -> 66.357802 | ES86: =AVERAGE(EG84:ES84) -> 66.489988 | ET86: =AVERAGE(EH84:ET84) -> 66.622437 | EU86: =AVERAGE(EI84:EU84) -> 66.75515 | EV86: =AVERAGE(EJ84:EV84) -> 66.888127 | EW86: =AVERAGE(EK84:EW84) -> 67.021369 | EX86: =AVERAGE(EL84:EX84) -> 67.154876 | EY86: =AVERAGE(EM84:EY84) -> 67.288649 | ... FB86: =AVERAGE(EP84:FB84) -> 67.69157 | FC86: =ANUAL!$AA$57 -> 70.930648 | FE86: =AVERAGE(ES84:FE84) -> 67.961524 | FF86: =AVERAGE(ET84:FF84) -> 68.096904 | FG86: =AVERAGE(EU84:FG84) -> 68.232554 | FH86: =AVERAGE(EV84:FH84) -> 68.368474 | FI86: =AVERAGE(EW84:FI84) -> 68.504665 | FJ86: =AVERAGE(EX84:FJ84) -> 68.641127 | FK86: =AVERAGE(EY84:FK84) -> 68.777861 | FL86: =AVERAGE(EZ84:FL84) -> 68.914867 | ... FO86: =AVERAGE(FC84:FO84) -> 69.327526 | FP86: =ANUAL!$AC$57 -> 72.644884 | FR86: =AVERAGE(FF84:FR84) -> 69.604003 | FS86: =AVERAGE(FG84:FS84) -> 69.742655 | FT86: =AVERAGE(FH84:FT84) -> 69.881583 | FU86: =AVERAGE(FI84:FU84) -> 70.020788 | FV86: =AVERAGE(FJ84:FV84) -> 70.160271 | FW86: =AVERAGE(FK84:FW84) -> 70.300031 | FX86: =AVERAGE(FL84:FX84) -> 70.440069 | FY86: =AVERAGE(FM84:FY84) -> 70.580387 | ... GB86: =AVERAGE(FP84:GB84) -> 71.003018 | GC86: =ANUAL!$AE$57 -> 74.40055 | GE86: =AVERAGE(FS84:GE84) -> 71.286178 | GF86: =AVERAGE(FT84:GF84) -> 71.428181 | GG86: =AVERAGE(FU84:GG84) -> 71.570466 | GH86: =AVERAGE(FV84:GH84) -> 71.713036 | GI86: =AVERAGE(FW84:GI84) -> 71.855889 | GJ86: =AVERAGE(FX84:GJ84) -> 71.999027 | GK86: =AVERAGE(FY84:GK84) -> 72.14245 | GL86: =AVERAGE(FZ84:GL84) -> 72.286158 | ... GO86: =AVERAGE(GC84:GO84) -> 72.719004 | GP86: =ANUAL!$AG$57 -> 76.198647
C88: IGP-DI | E88: 0.00093060905 | F88: 0.0001197095 | G88: 0.016446117 | H88: 0.00049720258 | I88: 0.010706775 | J88: 0.01601619 | K88: 0.023385773 | L88: 0.038737705 | M88: 0.033000564 | N88: 0.036784771 | O88: 0.026355264 | P88: 0.0075920561 | R88: 0.029086948 | S88: 0.027052907 | T88: 0.021707383 | U88: 0.022187743 | V88: 0.033975669 | W88: 0.0011145155 | X88: 0.014457425 | Y88: -0.001369895 | Z88: -0.0054543908 | AA88: 0.015964334 | AB88: -0.0058068937 | AC88: 0.012527185 | AE88: 0.020127902 | AF88: 0.01502074 | AG88: 0.023689597 | AH88: 0.0041333811 | AI88: 0.0069017544 | AJ88: 0.006248382 | AK88: -0.0037526697 | AL88: -0.0055326288 | AM88: -0.012162971 | AN88: -0.0061611527 | AO88: -0.0017508472 | AP88: 0.0030629954 | AR88: 0.00055632093 | AS88: 0.00035843516 | AT88: -0.0034205184 | AU88: -0.010130161 | AV88: -0.02329809 | AW88: -0.014541417 | AX88: -0.0040212651 | AY88: 0.00045097287 | AZ88: 0.0044578156 | BA88: 0.0051084265 | BB88: 0.0050376313 | BC88: 0.0064279732 | BE88: -0.0026858351 | BF88: -0.0040603266 | BG88: -0.0030342559 | BH88: 0.0072140748 | BI88: 0.0087056722 | BJ88: 0.0049692527 | BK88: 0.0083324469 | BL88: 0.0011596123 | BM88: 0.010256576 | BN88: 0.015381742 | BO88: 0.011830244 | BP88: 0.0087062952 | BR88: 0.0010881941 | BS88: 0.0099984569 | BT88: -0.0049960754 | BU88: 0.0029694173 | BV88: -0.0085010306 | BW88: -0.018048469 | BX88: -0.0006568082 | BY88: 0.0020416424 | BZ88: 0.003554237 | CA88: -0.00031354244 | CB88: 7.8302988e-05 | CC88: 0.0009986494 | CE88: 0.001992993 | CF88: -0.0083601973 | CG88: 0.011428038 | CH88: 0.024142358 | CI88: 0.0087141095 | CJ88: -0.0078656195 | CK88: -0.0085536959 | CL88: 0.0006327941 | CM88: 0.014732577 | CN88: 0.016684301 | CO88: 0.0048828315 | CP88: 0.0029199682 | CR88: =(DC90+1)^(CR$10/360)-1 -> 0.003515565 | CS88: =(DC90+1)^(CS$10/360)-1 -> 0.003515565 | CT88: =(DC90+1)^(CT$10/360)-1 -> 0.003515565 | CU88: =(DC90+1)^(CU$10/360)-1 -> 0.003515565 | CV88: =(DC90+1)^(CV$10/360)-1 -> 0.003515565 | CW88: =(DC90+1)^(CW$10/360)-1 -> 0.003515565 | CX88: =(DC90+1)^(CX$10/360)-1 -> 0.003515565 | CY88: =(DC90+1)^(CY$10/360)-1 -> 0.003515565 | CZ88: =(DC90+1)^(CZ$10/360)-1 -> 0.003515565 | DA88: =(DC90+1)^(DA$10/360)-1 -> 0.003515565 | DB88: =(DC90+1)^(DB$10/360)-1 -> 0.003515565 | DC88: =(DC90+1)^(DC$10/360)-1 -> 0.003515565 | DE88: =(DP90+1)^(DE$10/360)-1 -> 0.0028820092 | DF88: =(DP90+1)^(DF$10/360)-1 -> 0.0028820092 | DG88: =(DP90+1)^(DG$10/360)-1 -> 0.0028820092 | DH88: =(DP90+1)^(DH$10/360)-1 -> 0.0028820092 | DI88: =(DP90+1)^(DI$10/360)-1 -> 0.0028820092 | DJ88: =(DP90+1)^(DJ$10/360)-1 -> 0.0028820092 | DK88: =(DP90+1)^(DK$10/360)-1 -> 0.0028820092 | DL88: =(DP90+1)^(DL$10/360)-1 -> 0.0028820092 | DM88: =(DP90+1)^(DM$10/360)-1 -> 0.0028820092 | DN88: =(DP90+1)^(DN$10/360)-1 -> 0.0028820092 | DO88: =(DP90+1)^(DO$10/360)-1 -> 0.0028820092 | DP88: =(DP90+1)^(DP$10/360)-1 -> 0.0028820092 | DR88: =($EC$90+1)^(DR$10/360)-1 -> 0.0028277306 | DS88: =($EC$90+1)^(DS$10/360)-1 -> 0.0028277306 | DT88: =($EC$90+1)^(DT$10/360)-1 -> 0.0028277306 | DU88: =($EC$90+1)^(DU$10/360)-1 -> 0.0028277306 | DV88: =($EC$90+1)^(DV$10/360)-1 -> 0.0028277306 | DW88: =($EC$90+1)^(DW$10/360)-1 -> 0.0028277306 | DX88: =($EC$90+1)^(DX$10/360)-1 -> 0.0028277306 | DY88: =($EC$90+1)^(DY$10/360)-1 -> 0.0028277306 | ... EC88: =($EC$90+1)^(EC$10/360)-1 -> 0.0028277306 | EE88: =($EP$90+1)^(EE$10/360)-1 -> 0.0031465341 | EF88: =($EP$90+1)^(EF$10/360)-1 -> 0.0031465341 | EG88: =($EP$90+1)^(EG$10/360)-1 -> 0.0031465341 | EH88: =($EP$90+1)^(EH$10/360)-1 -> 0.0031465341 | EI88: =($EP$90+1)^(EI$10/360)-1 -> 0.0031465341 | EJ88: =($EP$90+1)^(EJ$10/360)-1 -> 0.0031465341 | EK88: =($EP$90+1)^(EK$10/360)-1 -> 0.0031465341 | EL88: =($EP$90+1)^(EL$10/360)-1 -> 0.0031465341 | ... EP88: =($EP$90+1)^(EP$10/360)-1 -> 0.0031465341 | ER88: =($FC$90+1)^(ER$10/360)-1 -> 0.0031153221 | ES88: =($FC$90+1)^(ES$10/360)-1 -> 0.0031153221 | ET88: =($FC$90+1)^(ET$10/360)-1 -> 0.0031153221 | EU88: =($FC$90+1)^(EU$10/360)-1 -> 0.0031153221 | EV88: =($FC$90+1)^(EV$10/360)-1 -> 0.0031153221 | EW88: =($FC$90+1)^(EW$10/360)-1 -> 0.0031153221 | EX88: =($FC$90+1)^(EX$10/360)-1 -> 0.0031153221 | EY88: =($FC$90+1)^(EY$10/360)-1 -> 0.0031153221 | ... FC88: =($FC$90+1)^(FC$10/360)-1 -> 0.0031153221 | FE88: =($FP$90+1)^(FE$10/360)-1 -> 0.0030794359 | FF88: =($FP$90+1)^(FF$10/360)-1 -> 0.0030794359 | FG88: =($FP$90+1)^(FG$10/360)-1 -> 0.0030794359 | FH88: =($FP$90+1)^(FH$10/360)-1 -> 0.0030794359 | FI88: =($FP$90+1)^(FI$10/360)-1 -> 0.0030794359 | FJ88: =($FP$90+1)^(FJ$10/360)-1 -> 0.0030794359 | FK88: =($FP$90+1)^(FK$10/360)-1 -> 0.0030794359 | FL88: =($FP$90+1)^(FL$10/360)-1 -> 0.0030794359 | ... FP88: =($FP$90+1)^(FP$10/360)-1 -> 0.0030794359 | FR88: =($GC$90+1)^(FR$10/360)-1 -> 0.0030794359 | FS88: =($GC$90+1)^(FS$10/360)-1 -> 0.0030794359 | FT88: =($GC$90+1)^(FT$10/360)-1 -> 0.0030794359 | FU88: =($GC$90+1)^(FU$10/360)-1 -> 0.0030794359 | FV88: =($GC$90+1)^(FV$10/360)-1 -> 0.0030794359 | FW88: =($GC$90+1)^(FW$10/360)-1 -> 0.0030794359 | FX88: =($GC$90+1)^(FX$10/360)-1 -> 0.0030794359 | FY88: =($GC$90+1)^(FY$10/360)-1 -> 0.0030794359 | ... GC88: =($GC$90+1)^(GC$10/360)-1 -> 0.0030794359 | GE88: =($GP$90+1)^(GE$10/360)-1 -> 0.0030794359 | GF88: =($GP$90+1)^(GF$10/360)-1 -> 0.0030794359 | GG88: =($GP$90+1)^(GG$10/360)-1 -> 0.0030794359 | GH88: =($GP$90+1)^(GH$10/360)-1 -> 0.0030794359 | GI88: =($GP$90+1)^(GI$10/360)-1 -> 0.0030794359 | GJ88: =($GP$90+1)^(GJ$10/360)-1 -> 0.0030794359 | GK88: =($GP$90+1)^(GK$10/360)-1 -> 0.0030794359 | GL88: =($GP$90+1)^(GL$10/360)-1 -> 0.0030794359 | ... GP88: =($GP$90+1)^(GP$10/360)-1 -> 0.0030794359
C90: Acumulado12 meses | E90: 0.077260889 | F90: 0.06406922 | G90: 0.070086187 | H90: 0.061033559 | I90: 0.068122474 | J90: 0.078426006 | K90: 0.10373375 | L90: 0.15232839 | M90: 0.18439625 | N90: 0.22125251 | O90: 0.24283183 | P90: {=PRODUCT(1+E88:P88)-1} -> 0.23083232 | R90: {=PRODUCT(1+F88:R88)-1} -> 0.26545583 | S90: {=PRODUCT(1+G88:S88)-1} -> 0.29953452 | T90: {=PRODUCT(1+H88:T88)-1} -> 0.30626109 | U90: {=PRODUCT(1+I88:U88)-1} -> 0.33458052 | V90: {=PRODUCT(1+J88:V88)-1} -> 0.36530576 | W90: {=PRODUCT(1+K88:W88)-1} -> 0.34528114 | X90: {=PRODUCT(1+L88:X88)-1} -> 0.33354447 | Y90: {=PRODUCT(1+M88:Y88)-1} -> 0.28205383 | ... AB90: {=PRODUCT(1+P88:AB88)-1} -> 0.17163758 | AC90: {=PRODUCT(1+R88:AC88)-1} -> 0.17737619 | AE90: {=PRODUCT(1+S88:AE88)-1} -> 0.16712617 | AF90: {=PRODUCT(1+T88:AF88)-1} -> 0.15345301 | AG90: {=PRODUCT(1+U88:AG88)-1} -> 0.15569082 | AH90: {=PRODUCT(1+V88:AH88)-1} -> 0.13527847 | AI90: {=PRODUCT(1+W88:AI88)-1} -> 0.10555201 | AJ90: {=PRODUCT(1+X88:AJ88)-1} -> 0.11122145 | AK90: {=PRODUCT(1+Y88:AK88)-1} -> 0.091274385 | AL90: {=PRODUCT(1+Z88:AL88)-1} -> 0.086725469 | ... AO90: {=PRODUCT(1+AC88:AO88)-1} -> 0.060195977 | AP90: {=PRODUCT(1+AE88:AP88)-1} -> 0.050286222 | AR90: {=PRODUCT(1+AF88:AR88)-1} -> 0.030136041 | AS90: {=PRODUCT(1+AG88:AS88)-1} -> 0.015255391 | AT90: {=PRODUCT(1+AH88:AT88)-1} -> -0.011631364 | AU90: {=PRODUCT(1+AI88:AU88)-1} -> -0.02567097 | AV90: {=PRODUCT(1+AJ88:AV88)-1} -> -0.054893866 | AW90: {=PRODUCT(1+AK88:AW88)-1} -> -0.074420423 | AX90: {=PRODUCT(1+AL88:AX88)-1} -> -0.074669966 | AY90: {=PRODUCT(1+AM88:AY88)-1} -> -0.069102356 | ... BB90: {=PRODUCT(1+AP88:BB88)-1} -> -0.036196165 | BC90: {=PRODUCT(1+AR88:BC88)-1} -> -0.03296289 | BE90: {=PRODUCT(1+AS88:BE88)-1} -> -0.036096432 | BF90: {=PRODUCT(1+AT88:BF88)-1} -> -0.040354166 | BG90: {=PRODUCT(1+AU88:BG88)-1} -> -0.039982219 | BH90: {=PRODUCT(1+AV88:BH88)-1} -> -0.023161043 | BI90: {=PRODUCT(1+AW88:BI88)-1} -> 0.0088472097 | BJ90: {=PRODUCT(1+AX88:BJ88)-1} -> 0.028820941 | BK90: {=PRODUCT(1+AY88:BK88)-1} -> 0.041582015 | BL90: {=PRODUCT(1+AZ88:BL88)-1} -> 0.042319788 | ... BO90: {=PRODUCT(1+BC88:BO88)-1} -> 0.066209961 | BP90: 0.068623616 | BR90: {=PRODUCT(1+BF88:BR88)-1} -> 0.072667493 | BS90: {=PRODUCT(1+BG88:BS88)-1} -> 0.087809375 | BT90: {=PRODUCT(1+BH88:BT88)-1} -> 0.085668794 | BU90: {=PRODUCT(1+BI88:BU88)-1} -> 0.081093508 | BV90: {=PRODUCT(1+BJ88:BV88)-1} -> 0.062651999 | BW90: {=PRODUCT(1+BK88:BW88)-1} -> 0.038313117 | BX90: {=PRODUCT(1+BL88:BX88)-1} -> 0.029056585 | BY90: {=PRODUCT(1+BM88:BY88)-1} -> 0.029963192 | ... CB90: {=PRODUCT(1+BP88:CB88)-1} -> -0.00438444 | CC90: -0.011992058 | CE90: {=PRODUCT(1+BS88:CE88)-1} -> -0.011099081 | CF90: {=PRODUCT(1+BT88:CF88)-1} -> -0.029074247 | CG90: {=PRODUCT(1+BU88:CG88)-1} -> -0.013047582 | CH90: {=PRODUCT(1+BV88:CH88)-1} -> 0.0077872356 | CI90: {=PRODUCT(1+BW88:CI88)-1} -> 0.025285185 | CJ90: {=PRODUCT(1+BX88:CJ88)-1} -> 0.035917405 | CK90: {=PRODUCT(1+BY88:CK88)-1} -> 0.027731505 | CL90: {=PRODUCT(1+BZ88:CL88)-1} -> 0.026286537 | ... CO90: {=PRODUCT(1+CC88:CO88)-1} -> 0.060432711 | CP90: 0.062468108 | CR90: {=PRODUCT(1+CF88:CR88)-1} -> 0.064082574 | CS90: {=PRODUCT(1+CG88:CS88)-1} -> 0.076825903 | CT90: {=PRODUCT(1+CH88:CT88)-1} -> 0.068401818 | CU90: {=PRODUCT(1+CI88:CU88)-1} -> 0.046883615 | CV90: {=PRODUCT(1+CJ88:CV88)-1} -> 0.041488359 | CW90: {=PRODUCT(1+CK88:CW88)-1} -> 0.053435703 | CX90: {=PRODUCT(1+CL88:CX88)-1} -> 0.066259585 | CY90: {=PRODUCT(1+CM88:CY88)-1} -> 0.069331424 | ... DB90: {=PRODUCT(1+CP88:DB88)-1} -> 0.042393084 | DC90: 0.043012122 | DE90: {=PRODUCT(1+CS88:DE88)-1} -> 0.042353631 | DF90: {=PRODUCT(1+CT88:DF88)-1} -> 0.041695555 | DG90: {=PRODUCT(1+CU88:DG88)-1} -> 0.041037895 | DH90: {=PRODUCT(1+CV88:DH88)-1} -> 0.04038065 | DI90: {=PRODUCT(1+CW88:DI88)-1} -> 0.03972382 | DJ90: {=PRODUCT(1+CX88:DJ88)-1} -> 0.039067404 | DK90: {=PRODUCT(1+CY88:DK88)-1} -> 0.038411403 | DL90: {=PRODUCT(1+CZ88:DL88)-1} -> 0.037755816 | ... DO90: {=PRODUCT(1+DC88:DO88)-1} -> 0.035791538 | DP90: 0.035137605 | DR90: {=PRODUCT(1+DF88:DR88)-1} -> 0.035081581 | DS90: {=PRODUCT(1+DG88:DS88)-1} -> 0.03502556 | DT90: {=PRODUCT(1+DH88:DT88)-1} -> 0.034969541 | DU90: {=PRODUCT(1+DI88:DU88)-1} -> 0.034913526 | DV90: {=PRODUCT(1+DJ88:DV88)-1} -> 0.034857514 | DW90: {=PRODUCT(1+DK88:DW88)-1} -> 0.034801505 | DX90: {=PRODUCT(1+DL88:DX88)-1} -> 0.034745499 | DY90: {=PRODUCT(1+DM88:DY88)-1} -> 0.034689496 | ... EB90: {=PRODUCT(1+DP88:EB88)-1} -> 0.034521504 | EC90: 0.034465513 | EE90: {=PRODUCT(1+DS88:EE88)-1} -> 0.034794375 | EF90: {=PRODUCT(1+DT88:EF88)-1} -> 0.035123341 | EG90: {=PRODUCT(1+DU88:EG88)-1} -> 0.035452411 | EH90: {=PRODUCT(1+DV88:EH88)-1} -> 0.035781586 | EI90: {=PRODUCT(1+DW88:EI88)-1} -> 0.036110866 | EJ90: {=PRODUCT(1+DX88:EJ88)-1} -> 0.03644025 | EK90: {=PRODUCT(1+DY88:EK88)-1} -> 0.036769739 | EL90: {=PRODUCT(1+DZ88:EL88)-1} -> 0.037099333 | ... EO90: {=PRODUCT(1+EC88:EO88)-1} -> 0.038088743 | EP90: 0.038418756 | ER90: {=PRODUCT(1+EF88:ER88)-1} -> 0.038386447 | ES90: {=PRODUCT(1+EG88:ES88)-1} -> 0.038354139 | ET90: {=PRODUCT(1+EH88:ET88)-1} -> 0.038321831 | EU90: {=PRODUCT(1+EI88:EU88)-1} -> 0.038289525 | EV90: {=PRODUCT(1+EJ88:EV88)-1} -> 0.038257219 | EW90: {=PRODUCT(1+EK88:EW88)-1} -> 0.038224915 | EX90: {=PRODUCT(1+EL88:EX88)-1} -> 0.038192612 | EY90: {=PRODUCT(1+EM88:EY88)-1} -> 0.038160309 | ... FB90: {=PRODUCT(1+EP88:FB88)-1} -> 0.038063408 | FC90: =ANUAL!$AA$63 -> 0.03803111 | FE90: {=PRODUCT(1+ES88:FE88)-1} -> 0.037993974 | FF90: {=PRODUCT(1+ET88:FF88)-1} -> 0.03795684 | FG90: {=PRODUCT(1+EU88:FG88)-1} -> 0.037919707 | FH90: {=PRODUCT(1+EV88:FH88)-1} -> 0.037882576 | FI90: {=PRODUCT(1+EW88:FI88)-1} -> 0.037845446 | FJ90: {=PRODUCT(1+EX88:FJ88)-1} -> 0.037808317 | FK90: {=PRODUCT(1+EY88:FK88)-1} -> 0.03777119 | FL90: {=PRODUCT(1+EZ88:FL88)-1} -> 0.037734064 | ... FO90: {=PRODUCT(1+FC88:FO88)-1} -> 0.037622694 | FP90: =ANUAL!$AC$63 -> 0.037585573 | FR90: {=PRODUCT(1+FF88:FR88)-1} -> 0.037585573 | FS90: {=PRODUCT(1+FG88:FS88)-1} -> 0.037585573 | FT90: {=PRODUCT(1+FH88:FT88)-1} -> 0.037585573 | FU90: {=PRODUCT(1+FI88:FU88)-1} -> 0.037585573 | FV90: {=PRODUCT(1+FJ88:FV88)-1} -> 0.037585573 | FW90: {=PRODUCT(1+FK88:FW88)-1} -> 0.037585573 | FX90: {=PRODUCT(1+FL88:FX88)-1} -> 0.037585573 | FY90: {=PRODUCT(1+FM88:FY88)-1} -> 0.037585573 | ... GB90: {=PRODUCT(1+FP88:GB88)-1} -> 0.037585573 | GC90: =ANUAL!$AE$63 -> 0.037585573 | GE90: {=PRODUCT(1+FS88:GE88)-1} -> 0.037585573 | GF90: {=PRODUCT(1+FT88:GF88)-1} -> 0.037585573 | GG90: {=PRODUCT(1+FU88:GG88)-1} -> 0.037585573 | GH90: {=PRODUCT(1+FV88:GH88)-1} -> 0.037585573 | GI90: {=PRODUCT(1+FW88:GI88)-1} -> 0.037585573 | GJ90: {=PRODUCT(1+FX88:GJ88)-1} -> 0.037585573 | GK90: {=PRODUCT(1+FY88:GK88)-1} -> 0.037585573 | GL90: {=PRODUCT(1+FZ88:GL88)-1} -> 0.037585573 | ... GO90: {=PRODUCT(1+GC88:GO88)-1} -> 0.037585573 | GP90: =ANUAL!$AG$63 -> 0.037585573
C92: INCC-DI | E92: 0.0037678335 | F92: 0.0032958606 | G92: 0.0025590028 | H92: 0.0022082317 | I92: 0.0020303535 | J92: 0.0033834138 | K92: 0.011714079 | L92: 0.0072124554 | M92: 0.011603564 | N92: 0.017278732 | O92: 0.012794741 | P92: 0.0070123019 | R92: 0.0089214308 | S92: 0.01890224 | T92: 0.013045945 | U92: 0.0090041067 | V92: 0.022188921 | W92: 0.021602623 | X92: 0.0084602679 | Y92: 0.0046399297 | Z92: 0.0051303662 | AA92: 0.0085503748 | AB92: 0.0067237318 | AC92: 0.0034619359 | AE92: 0.0071317159 | AF92: 0.0038382805 | AG92: 0.0085722743 | AH92: 0.0094767458 | AI92: 0.022836969 | AJ92: 0.021378572 | AK92: 0.0086352848 | AL92: 0.00088047061 | AM92: 0.00089692623 | AN92: 0.0012241588 | AO92: 0.003634554 | AP92: 0.00088607511 | AR92: 0.0046 | AS92: 0.0005 | AT92: 0.003 | AU92: 0.0014 | AV92: 0.0059 | AW92: 0.0071 | AX92: 0.001 | AY92: 0.0017 | AZ92: 0.0034 | BA92: 0.002 | BB92: 0.0007 | BC92: 0.0031 | BE92: 0.0027 | BF92: 0.0013 | BG92: 0.0028 | BH92: 0.0052 | BI92: 0.0086 | BJ92: 0.0071 | BK92: 0.0072 | BL92: 0.007 | BM92: 0.0058 | BN92: 0.0068 | BO92: 0.004 | BP92: 0.005 | BR92: 0.0083 | BS92: 0.004 | BT92: 0.0039 | BU92: 0.0052 | BV92: 0.0058 | BW92: 0.0069 | BX92: 0.0091 | BY92: 0.0052 | BZ92: 0.0017 | CA92: 0.003 | CB92: 0.0026808884 | CC92: 0.0020626076 | CE92: 0.0072262513 | CF92: 0.0027848826 | CG92: 0.0054011307 | CH92: 0.0099993505 | CI92: 0.008766707 | CJ92: 0.0078272127 | CK92: 0.0060828913 | CL92: 0.0065645735 | CM92: 0.00236 | CN92: 0.0053708021 | CO92: 0.0054391128 | CP92: 0.0041271296 | CR92: =(DC94+1)^(CR$10/360)-1 -> 0.0049179624 | CS92: =(DC94+1)^(CS$10/360)-1 -> 0.0049179624 | CT92: =(DC94+1)^(CT$10/360)-1 -> 0.0049179624 | CU92: =(DC94+1)^(CU$10/360)-1 -> 0.0049179624 | CV92: =(DC94+1)^(CV$10/360)-1 -> 0.0049179624 | CW92: =(DC94+1)^(CW$10/360)-1 -> 0.0049179624 | CX92: =(DC94+1)^(CX$10/360)-1 -> 0.0049179624 | CY92: =(DC94+1)^(CY$10/360)-1 -> 0.0049179624 | CZ92: =(DC94+1)^(CZ$10/360)-1 -> 0.0049179624 | DA92: =(DC94+1)^(DA$10/360)-1 -> 0.0049179624 | DB92: =(DC94+1)^(DB$10/360)-1 -> 0.0049179624 | DC92: =(DC94+1)^(DC$10/360)-1 -> 0.0049179624 | DE92: =(DP94+1)^(DE$10/360)-1 -> 0.0045974171 | DF92: =(DP94+1)^(DF$10/360)-1 -> 0.0045974171 | DG92: =(DP94+1)^(DG$10/360)-1 -> 0.0045974171 | DH92: =(DP94+1)^(DH$10/360)-1 -> 0.0045974171 | DI92: =(DP94+1)^(DI$10/360)-1 -> 0.0045974171 | DJ92: =(DP94+1)^(DJ$10/360)-1 -> 0.0045974171 | DK92: =(DP94+1)^(DK$10/360)-1 -> 0.0045974171 | DL92: =(DP94+1)^(DL$10/360)-1 -> 0.0045974171 | DM92: =(DP94+1)^(DM$10/360)-1 -> 0.0045974171 | DN92: =(DP94+1)^(DN$10/360)-1 -> 0.0045974171 | DO92: =(DP94+1)^(DO$10/360)-1 -> 0.0045974171 | DP92: =(DP94+1)^(DP$10/360)-1 -> 0.0045974171 | DR92: =($EC$94+1)^(DR$10/360)-1 -> 0.0044253814 | DS92: =($EC$94+1)^(DS$10/360)-1 -> 0.0044253814 | DT92: =($EC$94+1)^(DT$10/360)-1 -> 0.0044253814 | DU92: =($EC$94+1)^(DU$10/360)-1 -> 0.0044253814 | DV92: =($EC$94+1)^(DV$10/360)-1 -> 0.0044253814 | DW92: =($EC$94+1)^(DW$10/360)-1 -> 0.0044253814 | DX92: =($EC$94+1)^(DX$10/360)-1 -> 0.0044253814 | DY92: =($EC$94+1)^(DY$10/360)-1 -> 0.0044253814 | ... EC92: =($EC$94+1)^(EC$10/360)-1 -> 0.0044253814 | EE92: =($EP$94+1)^(EE$10/360)-1 -> 0.004093621 | EF92: =($EP$94+1)^(EF$10/360)-1 -> 0.004093621 | EG92: =($EP$94+1)^(EG$10/360)-1 -> 0.004093621 | EH92: =($EP$94+1)^(EH$10/360)-1 -> 0.004093621 | EI92: =($EP$94+1)^(EI$10/360)-1 -> 0.004093621 | EJ92: =($EP$94+1)^(EJ$10/360)-1 -> 0.004093621 | EK92: =($EP$94+1)^(EK$10/360)-1 -> 0.004093621 | EL92: =($EP$94+1)^(EL$10/360)-1 -> 0.004093621 | ... EP92: =($EP$94+1)^(EP$10/360)-1 -> 0.004093621 | ER92: =($FC$94+1)^(ER$10/360)-1 -> 0.00407724 | ES92: =($FC$94+1)^(ES$10/360)-1 -> 0.00407724 | ET92: =($FC$94+1)^(ET$10/360)-1 -> 0.00407724 | EU92: =($FC$94+1)^(EU$10/360)-1 -> 0.00407724 | EV92: =($FC$94+1)^(EV$10/360)-1 -> 0.00407724 | EW92: =($FC$94+1)^(EW$10/360)-1 -> 0.00407724 | EX92: =($FC$94+1)^(EX$10/360)-1 -> 0.00407724 | EY92: =($FC$94+1)^(EY$10/360)-1 -> 0.00407724 | ... FC92: =($FC$94+1)^(FC$10/360)-1 -> 0.00407724 | FE92: =($FP$94+1)^(FE$10/360)-1 -> 0.0043805178 | FF92: =($FP$94+1)^(FF$10/360)-1 -> 0.0043805178 | FG92: =($FP$94+1)^(FG$10/360)-1 -> 0.0043805178 | FH92: =($FP$94+1)^(FH$10/360)-1 -> 0.0043805178 | FI92: =($FP$94+1)^(FI$10/360)-1 -> 0.0043805178 | FJ92: =($FP$94+1)^(FJ$10/360)-1 -> 0.0043805178 | FK92: =($FP$94+1)^(FK$10/360)-1 -> 0.0043805178 | FL92: =($FP$94+1)^(FL$10/360)-1 -> 0.0043805178 | ... FP92: =($FP$94+1)^(FP$10/360)-1 -> 0.0043805178 | FR92: =($GC$94+1)^(FR$10/360)-1 -> 0.0044343473 | FS92: =($GC$94+1)^(FS$10/360)-1 -> 0.0044343473 | FT92: =($GC$94+1)^(FT$10/360)-1 -> 0.0044343473 | FU92: =($GC$94+1)^(FU$10/360)-1 -> 0.0044343473 | FV92: =($GC$94+1)^(FV$10/360)-1 -> 0.0044343473 | FW92: =($GC$94+1)^(FW$10/360)-1 -> 0.0044343473 | FX92: =($GC$94+1)^(FX$10/360)-1 -> 0.0044343473 | FY92: =($GC$94+1)^(FY$10/360)-1 -> 0.0044343473 | ... GC92: =($GC$94+1)^(GC$10/360)-1 -> 0.0044343473 | GE92: =($GP$94+1)^(GE$10/360)-1 -> 0.0040984195 | GF92: =($GP$94+1)^(GF$10/360)-1 -> 0.0040984195 | GG92: =($GP$94+1)^(GG$10/360)-1 -> 0.0040984195 | GH92: =($GP$94+1)^(GH$10/360)-1 -> 0.0040984195 | GI92: =($GP$94+1)^(GI$10/360)-1 -> 0.0040984195 | GJ92: =($GP$94+1)^(GJ$10/360)-1 -> 0.0040984195 | GK92: =($GP$94+1)^(GK$10/360)-1 -> 0.0040984195 | GL92: =($GP$94+1)^(GL$10/360)-1 -> 0.0040984195 | ... GP92: =($GP$94+1)^(GP$10/360)-1 -> 0.0040984195
C94: Acumulado12 meses | E94: 0.040357991 | F94: 0.042864379 | G94: 0.042276393 | H94: 0.040638201 | I94: 0.042403309 | J94: 0.036766172 | K94: 0.042898191 | L94: 0.045983446 | M94: 0.053238442 | N94: 0.069475146 | O94: 0.082759199 | P94: {=PRODUCT(1+E92:P92)-1} -> 0.088086463 | R94: {=PRODUCT(1+F92:R92)-1} -> 0.093672974 | S94: {=PRODUCT(1+G92:S92)-1} -> 0.11068518 | T94: {=PRODUCT(1+H92:T92)-1} -> 0.12230314 | U94: {=PRODUCT(1+I92:U92)-1} -> 0.12991337 | V94: {=PRODUCT(1+J92:V92)-1} -> 0.15264465 | W94: {=PRODUCT(1+K92:W92)-1} -> 0.17357411 | X94: {=PRODUCT(1+L92:X92)-1} -> 0.16979973 | Y94: {=PRODUCT(1+M92:Y92)-1} -> 0.16681194 | ... AB94: {=PRODUCT(1+P92:AB92)-1} -> 0.14250842 | AC94: {=PRODUCT(1+R92:AC92)-1} -> 0.13848034 | AE94: {=PRODUCT(1+S92:AE92)-1} -> 0.1364608 | AF94: {=PRODUCT(1+T92:AF92)-1} -> 0.1196588 | AG94: {=PRODUCT(1+U92:AG92)-1} -> 0.11471432 | AH94: {=PRODUCT(1+V92:AH92)-1} -> 0.11523648 | AI94: {=PRODUCT(1+W92:AI92)-1} -> 0.11594351 | AJ94: {=PRODUCT(1+X92:AJ92)-1} -> 0.11569877 | AK94: {=PRODUCT(1+Y92:AK92)-1} -> 0.1158924 | AL94: {=PRODUCT(1+Z92:AL92)-1} -> 0.11171662 | ... AO94: {=PRODUCT(1+AC92:AO92)-1} -> 0.095620338 | AP94: {=PRODUCT(1+AE92:AP92)-1} -> 0.092807909 | AR94: {=PRODUCT(1+AF92:AR92)-1} -> 0.090060821 | AS94: {=PRODUCT(1+AG92:AS92)-1} -> 0.086435807 | AT94: {=PRODUCT(1+AH92:AT92)-1} -> 0.080433343 | AU94: {=PRODUCT(1+AI92:AU92)-1} -> 0.071788879 | AV94: {=PRODUCT(1+AJ92:AV92)-1} -> 0.054041324 | AW94: {=PRODUCT(1+AK92:AW92)-1} -> 0.039306136 | AX94: {=PRODUCT(1+AL92:AX92)-1} -> 0.031438675 | AY94: {=PRODUCT(1+AM92:AY92)-1} -> 0.032283226 | ... BB94: {=PRODUCT(1+AP92:BB92)-1} -> 0.032638487 | BC94: {=PRODUCT(1+AR92:BC92)-1} -> 0.034922647 | BE94: {=PRODUCT(1+AS92:BE92)-1} -> 0.032965298 | BF94: {=PRODUCT(1+AT92:BF92)-1} -> 0.033791257 | BG94: {=PRODUCT(1+AU92:BG92)-1} -> 0.033585117 | BH94: {=PRODUCT(1+AV92:BH92)-1} -> 0.03750725 | BI94: {=PRODUCT(1+AW92:BI92)-1} -> 0.040292089 | BJ94: {=PRODUCT(1+AX92:BJ92)-1} -> 0.040292089 | BK94: {=PRODUCT(1+AY92:BK92)-1} -> 0.046735456 | BL94: {=PRODUCT(1+AZ92:BL92)-1} -> 0.052273739 | ... BO94: {=PRODUCT(1+BC92:BO92)-1} -> 0.063338565 | BP94: {=PRODUCT(1+BE92:BP92)-1} -> 0.065352665 | BR94: {=PRODUCT(1+BF92:BR92)-1} -> 0.071302575 | BS94: {=PRODUCT(1+BG92:BS92)-1} -> 0.074191336 | BT94: {=PRODUCT(1+BH92:BT92)-1} -> 0.075369648 | BU94: {=PRODUCT(1+BI92:BU92)-1} -> 0.075369648 | BV94: {=PRODUCT(1+BJ92:BV92)-1} -> 0.072384287 | BW94: {=PRODUCT(1+BK92:BW92)-1} -> 0.072171322 | BX94: {=PRODUCT(1+BL92:BX92)-1} -> 0.074193885 | BY94: {=PRODUCT(1+BM92:BY92)-1} -> 0.072273777 | ... CB94: {=PRODUCT(1+BP92:CB92)-1} -> 0.062474408 | CC94: =ANUAL!O65 -> 0.059369031 | CE94: {=PRODUCT(1+BS92:CE92)-1} -> 0.058240898 | CF94: {=PRODUCT(1+BT92:CF92)-1} -> 0.056960135 | CG94: {=PRODUCT(1+BU92:CG92)-1} -> 0.058540606 | CH94: {=PRODUCT(1+BV92:CH92)-1} -> 0.063594632 | CI94: {=PRODUCT(1+BW92:CI92)-1} -> 0.06673181 | CJ94: {=PRODUCT(1+BX92:CJ92)-1} -> 0.06771412 | CK94: {=PRODUCT(1+BY92:CK92)-1} -> 0.064521761 | CL94: {=PRODUCT(1+BZ92:CL92)-1} -> 0.065966864 | ... CO94: {=PRODUCT(1+CC92:CO92)-1} -> 0.072131689 | CP94: =ANUAL!Q65 -> 0.074489837 | CR94: {=PRODUCT(1+CF92:CR92)-1} -> 0.071878475 | CS94: {=PRODUCT(1+CG92:CS92)-1} -> 0.074158528 | CT94: {=PRODUCT(1+CH92:CT92)-1} -> 0.073642317 | CU94: {=PRODUCT(1+CI92:CU92)-1} -> 0.068240736 | CV94: {=PRODUCT(1+CJ92:CV92)-1} -> 0.06416508 | CW94: {=PRODUCT(1+CK92:CW92)-1} -> 0.061093202 | CX94: {=PRODUCT(1+CL92:CX92)-1} -> 0.059864577 | CY94: {=PRODUCT(1+CM92:CY92)-1} -> 0.058130774 | ... DB94: {=PRODUCT(1+CP92:DB92)-1} -> 0.059803626 | DC94: =ANUAL!S65 -> 0.060638309 | DE94: {=PRODUCT(1+CS92:DE92)-1} -> 0.06029999 | DF94: {=PRODUCT(1+CT92:DF92)-1} -> 0.059961779 | DG94: {=PRODUCT(1+CU92:DG92)-1} -> 0.059623676 | DH94: {=PRODUCT(1+CV92:DH92)-1} -> 0.059285681 | DI94: {=PRODUCT(1+CW92:DI92)-1} -> 0.058947794 | DJ94: {=PRODUCT(1+CX92:DJ92)-1} -> 0.058610014 | DK94: {=PRODUCT(1+CY92:DK92)-1} -> 0.058272342 | DL94: {=PRODUCT(1+CZ92:DL92)-1} -> 0.057934778 | ... DO94: {=PRODUCT(1+DC92:DO92)-1} -> 0.056922732 | DP94: =ANUAL!U65 -> 0.056585598 | DR94: {=PRODUCT(1+DF92:DR92)-1} -> 0.056404659 | DS94: {=PRODUCT(1+DG92:DS92)-1} -> 0.056223752 | DT94: {=PRODUCT(1+DH92:DT92)-1} -> 0.056042875 | DU94: {=PRODUCT(1+DI92:DU92)-1} -> 0.055862029 | DV94: {=PRODUCT(1+DJ92:DV92)-1} -> 0.055681215 | DW94: {=PRODUCT(1+DK92:DW92)-1} -> 0.055500431 | DX94: {=PRODUCT(1+DL92:DX92)-1} -> 0.055319678 | DY94: {=PRODUCT(1+DM92:DY92)-1} -> 0.055138956 | ... EB94: {=PRODUCT(1+DP92:EB92)-1} -> 0.054596976 | EC94: =ANUAL!W65 -> 0.054416378 | EE94: {=PRODUCT(1+DS92:EE92)-1} -> 0.054068106 | EF94: {=PRODUCT(1+DT92:EF92)-1} -> 0.053719949 | EG94: {=PRODUCT(1+DU92:EG92)-1} -> 0.053371906 | EH94: {=PRODUCT(1+DV92:EH92)-1} -> 0.053023979 | EI94: {=PRODUCT(1+DW92:EI92)-1} -> 0.052676167 | EJ94: {=PRODUCT(1+DX92:EJ92)-1} -> 0.052328469 | EK94: {=PRODUCT(1+DY92:EK92)-1} -> 0.051980886 | EL94: {=PRODUCT(1+DZ92:EL92)-1} -> 0.051633418 | ... EO94: {=PRODUCT(1+EC92:EO92)-1} -> 0.050591703 | EP94: =ANUAL!Y65 -> 0.050244694 | ER94: {=PRODUCT(1+EF92:ER92)-1} -> 0.05022756 | ES94: {=PRODUCT(1+EG92:ES92)-1} -> 0.050210427 | ET94: {=PRODUCT(1+EH92:ET92)-1} -> 0.050193293 | EU94: {=PRODUCT(1+EI92:EU92)-1} -> 0.05017616 | EV94: {=PRODUCT(1+EJ92:EV92)-1} -> 0.050159027 | EW94: {=PRODUCT(1+EK92:EW92)-1} -> 0.050141895 | EX94: {=PRODUCT(1+EL92:EX92)-1} -> 0.050124763 | EY94: {=PRODUCT(1+EM92:EY92)-1} -> 0.050107631 | ... FB94: {=PRODUCT(1+EP92:FB92)-1} -> 0.050056236 | FC94: =ANUAL!AA65 -> 0.050039105 | FE94: {=PRODUCT(1+ES92:FE92)-1} -> 0.050356266 | FF94: {=PRODUCT(1+ET92:FF92)-1} -> 0.050673522 | FG94: {=PRODUCT(1+EU92:FG92)-1} -> 0.050990874 | FH94: {=PRODUCT(1+EV92:FH92)-1} -> 0.051308322 | FI94: {=PRODUCT(1+EW92:FI92)-1} -> 0.051625866 | FJ94: {=PRODUCT(1+EX92:FJ92)-1} -> 0.051943506 | FK94: {=PRODUCT(1+EY92:FK92)-1} -> 0.052261241 | FL94: {=PRODUCT(1+EZ92:FL92)-1} -> 0.052579073 | ... FO94: {=PRODUCT(1+FC92:FO92)-1} -> 0.053533144 | FP94: =ANUAL!$AC$65 -> 0.05385136 | FR94: {=PRODUCT(1+FF92:FR92)-1} -> 0.053907841 | FS94: {=PRODUCT(1+FG92:FS92)-1} -> 0.053964324 | FT94: {=PRODUCT(1+FH92:FT92)-1} -> 0.054020811 | FU94: {=PRODUCT(1+FI92:FU92)-1} -> 0.054077301 | FV94: {=PRODUCT(1+FJ92:FV92)-1} -> 0.054133794 | FW94: {=PRODUCT(1+FK92:FW92)-1} -> 0.05419029 | FX94: {=PRODUCT(1+FL92:FX92)-1} -> 0.054246789 | FY94: {=PRODUCT(1+FM92:FY92)-1} -> 0.054303291 | ... GB94: {=PRODUCT(1+FP92:GB92)-1} -> 0.054472816 | GC94: =ANUAL!$AE$65 -> 0.05452933 | GE94: {=PRODUCT(1+FS92:GE92)-1} -> 0.054176648 | GF94: {=PRODUCT(1+FT92:GF92)-1} -> 0.053824084 | GG94: {=PRODUCT(1+FU92:GG92)-1} -> 0.053471638 | GH94: {=PRODUCT(1+FV92:GH92)-1} -> 0.05311931 | GI94: {=PRODUCT(1+FW92:GI92)-1} -> 0.0527671 | GJ94: {=PRODUCT(1+FX92:GJ92)-1} -> 0.052415007 | GK94: {=PRODUCT(1+FY92:GK92)-1} -> 0.052063033 | GL94: {=PRODUCT(1+FZ92:GL92)-1} -> 0.051711176 | ... GO94: {=PRODUCT(1+GC92:GO92)-1} -> 0.050656311 | GP94: =ANUAL!$AG$65 -> 0.050304924
C96: IPC-Fipe | E96: 0.002868 | F96: 0.001061 | G96: 0.001 | H96: -0.003 | I96: -0.0024 | J96: 0.0039 | K96: 0.0025 | L96: 0.00779 | M96: 0.011202 | N96: 0.0119 | O96: 0.0103 | P96: 0.0079 | R96: 0.0086 | S96: 0.0023 | T96: 0.0071 | U96: 0.0044 | V96: 0.0041 | W96: 0.0081 | X96: 0.0102 | Y96: 0.0144 | Z96: 0.0113 | AA96: 0.01 | AB96: 0.0072 | AC96: 0.0057 | AE96: 0.00741 | AF96: 0.009 | AG96: 0.0128 | AH96: 0.0162 | AI96: 0.0042 | AJ96: 0.0028 | AK96: 0.001595 | AL96: 0.0012 | AM96: 0.0012 | AN96: 0.0045 | AO96: 0.0047 | AP96: 0.0054 | AR96: 0.0063 | AS96: 0.0043 | AT96: 0.0039 | AU96: 0.0043 | AV96: 0.002 | AW96: -0.0003 | AX96: -0.0014 | AY96: -0.002 | AZ96: 0.0029 | BA96: 0.003 | BB96: 0.0043 | BC96: 0.0038 | BE96: 0.0046 | BF96: 0.0046 | BG96: 0.0026 | BH96: 0.0033 | BI96: 0.0009 | BJ96: 0.0026 | BK96: 0.000573 | BL96: 0.0018 | BM96: 0.0018 | BN96: 0.008 | BO96: 0.0117 | BP96: 0.003361 | BR96: 0.002429 | BS96: 0.005082 | BT96: 0.006166 | BU96: 0.004504 | BV96: 0.00268 | BW96: -0.000791 | BX96: 0.002832 | BY96: 0.000376 | BZ96: 0.006509 | CA96: 0.002746 | CB96: 0.002002 | CC96: 0.003177 | CE96: 0.002113 | CF96: 0.002532 | CG96: 0.0059 | CH96: 0.004 | CI96: 0.0045 | CJ96: 0.0018 | CK96: -0.0003 | CL96: 0.0001 | CM96: 0.0042407696 | CN96: 0.0036466758 | CO96: 0.0058413503 | CP96: 0.0073450387 | CR96: =(DC98+1)^(CR$10/360)-1 -> 0.0036082086 | CS96: =(DC98+1)^(CS$10/360)-1 -> 0.0036082086 | CT96: =(DC98+1)^(CT$10/360)-1 -> 0.0036082086 | CU96: =(DC98+1)^(CU$10/360)-1 -> 0.0036082086 | CV96: =(DC98+1)^(CV$10/360)-1 -> 0.0036082086 | CW96: =(DC98+1)^(CW$10/360)-1 -> 0.0036082086 | CX96: =(DC98+1)^(CX$10/360)-1 -> 0.0036082086 | CY96: =(DC98+1)^(CY$10/360)-1 -> 0.0036082086 | CZ96: =(DC98+1)^(CZ$10/360)-1 -> 0.0036082086 | DA96: =(DC98+1)^(DA$10/360)-1 -> 0.0036082086 | DB96: =(DC98+1)^(DB$10/360)-1 -> 0.0036082086 | DC96: =(DC98+1)^(DC$10/360)-1 -> 0.0036082086 | DE96: =(DP98+1)^(DE$10/360)-1 -> 0.0031828181 | DF96: =(DP98+1)^(DF$10/360)-1 -> 0.0031828181 | DG96: =(DP98+1)^(DG$10/360)-1 -> 0.0031828181 | DH96: =(DP98+1)^(DH$10/360)-1 -> 0.0031828181 | DI96: =(DP98+1)^(DI$10/360)-1 -> 0.0031828181 | DJ96: =(DP98+1)^(DJ$10/360)-1 -> 0.0031828181 | DK96: =(DP98+1)^(DK$10/360)-1 -> 0.0031828181 | DL96: =(DP98+1)^(DL$10/360)-1 -> 0.0031828181 | DM96: =(DP98+1)^(DM$10/360)-1 -> 0.0031828181 | DN96: =(DP98+1)^(DN$10/360)-1 -> 0.0031828181 | DO96: =(DP98+1)^(DO$10/360)-1 -> 0.0031828181 | DP96: =(DP98+1)^(DP$10/360)-1 -> 0.0031828181 | DR96: =($EC$98+1)^(DR$10/360)-1 -> 0.0029839481 | DS96: =($EC$98+1)^(DS$10/360)-1 -> 0.0029839481 | DT96: =($EC$98+1)^(DT$10/360)-1 -> 0.0029839481 | DU96: =($EC$98+1)^(DU$10/360)-1 -> 0.0029839481 | DV96: =($EC$98+1)^(DV$10/360)-1 -> 0.0029839481 | DW96: =($EC$98+1)^(DW$10/360)-1 -> 0.0029839481 | DX96: =($EC$98+1)^(DX$10/360)-1 -> 0.0029839481 | DY96: =($EC$98+1)^(DY$10/360)-1 -> 0.0029839481 | ... EC96: =($EC$98+1)^(EC$10/360)-1 -> 0.0029839481 | EE96: =($EP$98+1)^(EE$10/360)-1 -> 0.0028682365 | EF96: =($EP$98+1)^(EF$10/360)-1 -> 0.0028682365 | EG96: =($EP$98+1)^(EG$10/360)-1 -> 0.0028682365 | EH96: =($EP$98+1)^(EH$10/360)-1 -> 0.0028682365 | EI96: =($EP$98+1)^(EI$10/360)-1 -> 0.0028682365 | EJ96: =($EP$98+1)^(EJ$10/360)-1 -> 0.0028682365 | EK96: =($EP$98+1)^(EK$10/360)-1 -> 0.0028682365 | EL96: =($EP$98+1)^(EL$10/360)-1 -> 0.0028682365 | ... EP96: =($EP$98+1)^(EP$10/360)-1 -> 0.0028682365 | ER96: =($FC$98+1)^(ER$10/360)-1 -> 0.0027818224 | ES96: =($FC$98+1)^(ES$10/360)-1 -> 0.0027818224 | ET96: =($FC$98+1)^(ET$10/360)-1 -> 0.0027818224 | EU96: =($FC$98+1)^(EU$10/360)-1 -> 0.0027818224 | EV96: =($FC$98+1)^(EV$10/360)-1 -> 0.0027818224 | EW96: =($FC$98+1)^(EW$10/360)-1 -> 0.0027818224 | EX96: =($FC$98+1)^(EX$10/360)-1 -> 0.0027818224 | EY96: =($FC$98+1)^(EY$10/360)-1 -> 0.0027818224 | ... FC96: =($FC$98+1)^(FC$10/360)-1 -> 0.0027818224 | FE96: =($FP$98+1)^(FE$10/360)-1 -> 0.0027790243 | FF96: =($FP$98+1)^(FF$10/360)-1 -> 0.0027790243 | FG96: =($FP$98+1)^(FG$10/360)-1 -> 0.0027790243 | FH96: =($FP$98+1)^(FH$10/360)-1 -> 0.0027790243 | FI96: =($FP$98+1)^(FI$10/360)-1 -> 0.0027790243 | FJ96: =($FP$98+1)^(FJ$10/360)-1 -> 0.0027790243 | FK96: =($FP$98+1)^(FK$10/360)-1 -> 0.0027790243 | FL96: =($FP$98+1)^(FL$10/360)-1 -> 0.0027790243 | ... FP96: =($FP$98+1)^(FP$10/360)-1 -> 0.0027790243 | FR96: =($GC$98+1)^(FR$10/360)-1 -> 0.0026942862 | FS96: =($GC$98+1)^(FS$10/360)-1 -> 0.0026942862 | FT96: =($GC$98+1)^(FT$10/360)-1 -> 0.0026942862 | FU96: =($GC$98+1)^(FU$10/360)-1 -> 0.0026942862 | FV96: =($GC$98+1)^(FV$10/360)-1 -> 0.0026942862 | FW96: =($GC$98+1)^(FW$10/360)-1 -> 0.0026942862 | FX96: =($GC$98+1)^(FX$10/360)-1 -> 0.0026942862 | FY96: =($GC$98+1)^(FY$10/360)-1 -> 0.0026942862 | ... GC96: =($GC$98+1)^(GC$10/360)-1 -> 0.0026942862 | GE96: =($GP$98+1)^(GE$10/360)-1 -> 0.0026914938 | GF96: =($GP$98+1)^(GF$10/360)-1 -> 0.0026914938 | GG96: =($GP$98+1)^(GG$10/360)-1 -> 0.0026914938 | GH96: =($GP$98+1)^(GH$10/360)-1 -> 0.0026914938 | GI96: =($GP$98+1)^(GI$10/360)-1 -> 0.0026914938 | GJ96: =($GP$98+1)^(GJ$10/360)-1 -> 0.0026914938 | GK96: =($GP$98+1)^(GK$10/360)-1 -> 0.0026914938 | GL96: =($GP$98+1)^(GL$10/360)-1 -> 0.0026914938 | ... GP96: =($GP$98+1)^(GP$10/360)-1 -> 0.0026914938
C98: Acumulado12 meses | E98: 0.040853716 | F98: 0.036326663 | G98: 0.032093122 | H98: 0.02605105 | I98: 0.023765639 | J98: 0.026170839 | K98: 0.027298049 | L98: 0.031895446 | M98: 0.043454738 | N98: 0.054185153 | O98: 0.057849881 | P98: {=PRODUCT(1+E96:P96)-1} -> 0.056277883 | R98: {=PRODUCT(1+F96:R96)-1} -> 0.062315153 | S98: {=PRODUCT(1+G96:S96)-1} -> 0.063629967 | T98: {=PRODUCT(1+H96:T96)-1} -> 0.070111628 | U98: {=PRODUCT(1+I96:U96)-1} -> 0.078054282 | V98: {=PRODUCT(1+J96:V96)-1} -> 0.085078493 | W98: {=PRODUCT(1+K96:W96)-1} -> 0.089618118 | X98: {=PRODUCT(1+L96:X96)-1} -> 0.097987255 | Y98: {=PRODUCT(1+M96:Y96)-1} -> 0.10518885 | ... AB98: {=PRODUCT(1+P96:AB96)-1} -> 0.099835476 | AC98: {=PRODUCT(1+R96:AC96)-1} -> 0.097434803 | AE98: {=PRODUCT(1+S96:AE96)-1} -> 0.096139991 | AF98: {=PRODUCT(1+T96:AF96)-1} -> 0.10346728 | AG98: {=PRODUCT(1+U96:AG96)-1} -> 0.1097127 | AH98: {=PRODUCT(1+V96:AH96)-1} -> 0.12274994 | AI98: {=PRODUCT(1+W96:AI96)-1} -> 0.12286176 | AJ98: {=PRODUCT(1+X96:AJ96)-1} -> 0.11695841 | AK98: {=PRODUCT(1+Y96:AK96)-1} -> 0.10744403 | AL98: {=PRODUCT(1+Z96:AL96)-1} -> 0.093033283 | ... AO98: {=PRODUCT(1+AC96:AO96)-1} -> 0.073552957 | AP98: {=PRODUCT(1+AE96:AP96)-1} -> 0.073232717 | AR98: {=PRODUCT(1+AF96:AR96)-1} -> 0.072050191 | AS98: {=PRODUCT(1+AG96:AS96)-1} -> 0.067056498 | AT98: {=PRODUCT(1+AH96:AT96)-1} -> 0.057679718 | AU98: {=PRODUCT(1+AI96:AU96)-1} -> 0.045293978 | AV98: {=PRODUCT(1+AJ96:AV96)-1} -> 0.04300395 | AW98: {=PRODUCT(1+AK96:AW96)-1} -> 0.039779666 | AX98: {=PRODUCT(1+AL96:AX96)-1} -> 0.036670485 | AY98: {=PRODUCT(1+AM96:AY96)-1} -> 0.033357115 | ... BB98: {=PRODUCT(1+AP96:BB96)-1} -> 0.033154512 | BC98: {=PRODUCT(1+AR96:BC96)-1} -> 0.031510344 | BE98: {=PRODUCT(1+AS96:BE96)-1} -> 0.029767754 | BF98: {=PRODUCT(1+AT96:BF96)-1} -> 0.030075362 | BG98: {=PRODUCT(1+AU96:BG96)-1} -> 0.028741466 | BH98: {=PRODUCT(1+AV96:BH96)-1} -> 0.027717129 | BI98: {=PRODUCT(1+AW96:BI96)-1} -> 0.026588897 | BJ98: {=PRODUCT(1+AX96:BJ96)-1} -> 0.029566898 | BK98: {=PRODUCT(1+AY96:BK96)-1} -> 0.031601082 | BL98: {=PRODUCT(1+AZ96:BL96)-1} -> 0.035529022 | ... BO98: {=PRODUCT(1+BC96:BO96)-1} -> 0.047209461 | BP98: =ANUAL!M67 -> 0.046751477 | BR98: {=PRODUCT(1+BF96:BR96)-1} -> 0.044489385 | BS98: {=PRODUCT(1+BG96:BS96)-1} -> 0.044990524 | BT98: {=PRODUCT(1+BH96:BT96)-1} -> 0.048707296 | BU98: {=PRODUCT(1+BI96:BU96)-1} -> 0.049965787 | BV98: {=PRODUCT(1+BJ96:BV96)-1} -> 0.051833045 | BW98: {=PRODUCT(1+BK96:BW96)-1} -> 0.048275529 | BX98: {=PRODUCT(1+BL96:BX96)-1} -> 0.050642227 | BY98: {=PRODUCT(1+BM96:BY96)-1} -> 0.049148801 | ... CB98: {=PRODUCT(1+BP96:CB96)-1} -> 0.038534596 | CC98: =ANUAL!O67 -> 0.038344146 | CE98: {=PRODUCT(1+BS96:CE96)-1} -> 0.038016824 | CF98: {=PRODUCT(1+BT96:CF96)-1} -> 0.035383265 | CG98: {=PRODUCT(1+BU96:CG96)-1} -> 0.035109541 | CH98: {=PRODUCT(1+BV96:CH96)-1} -> 0.034590184 | CI98: {=PRODUCT(1+BW96:CI96)-1} -> 0.036468106 | CJ98: {=PRODUCT(1+BX96:CJ96)-1} -> 0.039155721 | CK98: {=PRODUCT(1+BY96:CK96)-1} -> 0.035910276 | CL98: {=PRODUCT(1+BZ96:CL96)-1} -> 0.035624472 | ... CO98: {=PRODUCT(1+CC96:CO96)-1} -> 0.038181534 | CP98: =ANUAL!Q67 -> 0.042495011 | CR98: {=PRODUCT(1+CF96:CR96)-1} -> 0.044050472 | CS98: {=PRODUCT(1+CG96:CS96)-1} -> 0.04517125 | CT98: {=PRODUCT(1+CH96:CT96)-1} -> 0.042789985 | CU98: {=PRODUCT(1+CI96:CU96)-1} -> 0.042383056 | CV98: {=PRODUCT(1+CJ96:CV96)-1} -> 0.041457633 | CW98: {=PRODUCT(1+CK96:CW96)-1} -> 0.043337422 | CX98: {=PRODUCT(1+CL96:CX96)-1} -> 0.047416226 | CY98: {=PRODUCT(1+CM96:CY96)-1} -> 0.051090413 | ... DB98: {=PRODUCT(1+CP96:DB96)-1} -> 0.048056038 | DC98: =ANUAL!S67 -> 0.044168187 | DE98: {=PRODUCT(1+CS96:DE96)-1} -> 0.043725605 | DF98: {=PRODUCT(1+CT96:DF96)-1} -> 0.04328321 | DG98: {=PRODUCT(1+CU96:DG96)-1} -> 0.042841003 | DH98: {=PRODUCT(1+CV96:DH96)-1} -> 0.042398983 | DI98: {=PRODUCT(1+CW96:DI96)-1} -> 0.041957151 | DJ98: {=PRODUCT(1+CX96:DJ96)-1} -> 0.041515506 | DK98: {=PRODUCT(1+CY96:DK96)-1} -> 0.041074048 | DL98: {=PRODUCT(1+CZ96:DL96)-1} -> 0.040632777 | ... DO98: {=PRODUCT(1+DC96:DO96)-1} -> 0.039310086 | DP98: =ANUAL!U67 -> 0.038869563 | DR98: {=PRODUCT(1+DF96:DR96)-1} -> 0.038663619 | DS98: {=PRODUCT(1+DG96:DS96)-1} -> 0.038457715 | DT98: {=PRODUCT(1+DH96:DT96)-1} -> 0.038251852 | DU98: {=PRODUCT(1+DI96:DU96)-1} -> 0.03804603 | DV98: {=PRODUCT(1+DJ96:DV96)-1} -> 0.037840249 | DW98: {=PRODUCT(1+DK96:DW96)-1} -> 0.037634508 | DX98: {=PRODUCT(1+DL96:DX96)-1} -> 0.037428809 | DY98: {=PRODUCT(1+DM96:DY96)-1} -> 0.03722315 | ... EB98: {=PRODUCT(1+DP96:EB96)-1} -> 0.036606418 | EC98: =ANUAL!W67 -> 0.036400922 | EE98: {=PRODUCT(1+DS96:EE96)-1} -> 0.036281355 | EF98: {=PRODUCT(1+DT96:EF96)-1} -> 0.036161802 | EG98: {=PRODUCT(1+DU96:EG96)-1} -> 0.036042263 | EH98: {=PRODUCT(1+DV96:EH96)-1} -> 0.035922738 | EI98: {=PRODUCT(1+DW96:EI96)-1} -> 0.035803226 | EJ98: {=PRODUCT(1+DX96:EJ96)-1} -> 0.035683728 | EK98: {=PRODUCT(1+DY96:EK96)-1} -> 0.035564244 | EL98: {=PRODUCT(1+DZ96:EL96)-1} -> 0.035444774 | ... EO98: {=PRODUCT(1+EC96:EO96)-1} -> 0.035086446 | EP98: =ANUAL!Y67 -> 0.034967031 | ER98: {=PRODUCT(1+EF96:ER96)-1} -> 0.034877851 | ES98: {=PRODUCT(1+EG96:ES96)-1} -> 0.034788678 | ET98: {=PRODUCT(1+EH96:ET96)-1} -> 0.034699514 | EU98: {=PRODUCT(1+EI96:EU96)-1} -> 0.034610357 | EV98: {=PRODUCT(1+EJ96:EV96)-1} -> 0.034521208 | EW98: {=PRODUCT(1+EK96:EW96)-1} -> 0.034432066 | EX98: {=PRODUCT(1+EL96:EX96)-1} -> 0.034342932 | EY98: {=PRODUCT(1+EM96:EY96)-1} -> 0.034253806 | ... FB98: {=PRODUCT(1+EP96:FB96)-1} -> 0.033986473 | FC98: =ANUAL!AA67 -> 0.033897377 | FE98: {=PRODUCT(1+ES96:FE96)-1} -> 0.033894493 | FF98: {=PRODUCT(1+ET96:FF96)-1} -> 0.033891608 | FG98: {=PRODUCT(1+EU96:FG96)-1} -> 0.033888723 | FH98: {=PRODUCT(1+EV96:FH96)-1} -> 0.033885838 | FI98: {=PRODUCT(1+EW96:FI96)-1} -> 0.033882953 | FJ98: {=PRODUCT(1+EX96:FJ96)-1} -> 0.033880069 | FK98: {=PRODUCT(1+EY96:FK96)-1} -> 0.033877184 | FL98: {=PRODUCT(1+EZ96:FL96)-1} -> 0.033874299 | ... FO98: {=PRODUCT(1+FC96:FO96)-1} -> 0.033865645 | FP98: =ANUAL!$AC$67 -> 0.03386276 | FR98: {=PRODUCT(1+FF96:FR96)-1} -> 0.033775395 | FS98: {=PRODUCT(1+FG96:FS96)-1} -> 0.033688038 | FT98: {=PRODUCT(1+FH96:FT96)-1} -> 0.033600688 | FU98: {=PRODUCT(1+FI96:FU96)-1} -> 0.033513345 | FV98: {=PRODUCT(1+FJ96:FV96)-1} -> 0.03342601 | FW98: {=PRODUCT(1+FK96:FW96)-1} -> 0.033338682 | FX98: {=PRODUCT(1+FL96:FX96)-1} -> 0.033251361 | FY98: {=PRODUCT(1+FM96:FY96)-1} -> 0.033164048 | ... GB98: {=PRODUCT(1+FP96:GB96)-1} -> 0.032902153 | GC98: =ANUAL!$AE$67 -> 0.032814869 | GE98: {=PRODUCT(1+FS96:GE96)-1} -> 0.032811993 | GF98: {=PRODUCT(1+FT96:GF96)-1} -> 0.032809116 | GG98: {=PRODUCT(1+FU96:GG96)-1} -> 0.03280624 | GH98: {=PRODUCT(1+FV96:GH96)-1} -> 0.032803364 | GI98: {=PRODUCT(1+FW96:GI96)-1} -> 0.032800488 | GJ98: {=PRODUCT(1+FX96:GJ96)-1} -> 0.032797611 | GK98: {=PRODUCT(1+FY96:GK96)-1} -> 0.032794735 | GL98: {=PRODUCT(1+FZ96:GL96)-1} -> 0.032791859 | ... GO98: {=PRODUCT(1+GC96:GO96)-1} -> 0.03278323 | GP98: =ANUAL!$AG$67 -> 0.032780354
